BEGIN:VCALENDAR
VERSION:2.0
PRODID:-// - ECPv6.12.0.1//NONSGML v1.0//EN
CALSCALE:GREGORIAN
METHOD:PUBLISH
X-ORIGINAL-URL:https://bearslooking.com
X-WR-CALDESC:Events for 
REFRESH-INTERVAL;VALUE=DURATION:PT1H
X-Robots-Tag:noindex
X-PUBLISHED-TTL:PT1H
BEGIN:VTIMEZONE
TZID:America/Los_Angeles
BEGIN:DAYLIGHT
TZOFFSETFROM:-0800
TZOFFSETTO:-0700
TZNAME:PDT
DTSTART:20220313T100000
END:DAYLIGHT
BEGIN:STANDARD
TZOFFSETFROM:-0700
TZOFFSETTO:-0800
TZNAME:PST
DTSTART:20221106T090000
END:STANDARD
END:VTIMEZONE
BEGIN:VTIMEZONE
TZID:America/Halifax
BEGIN:DAYLIGHT
TZOFFSETFROM:-0400
TZOFFSETTO:-0300
TZNAME:ADT
DTSTART:20220313T060000
END:DAYLIGHT
BEGIN:STANDARD
TZOFFSETFROM:-0300
TZOFFSETTO:-0400
TZNAME:AST
DTSTART:20221106T050000
END:STANDARD
BEGIN:DAYLIGHT
TZOFFSETFROM:-0400
TZOFFSETTO:-0300
TZNAME:ADT
DTSTART:20230312T060000
END:DAYLIGHT
BEGIN:STANDARD
TZOFFSETFROM:-0300
TZOFFSETTO:-0400
TZNAME:AST
DTSTART:20231105T050000
END:STANDARD
END:VTIMEZONE
BEGIN:VEVENT
DTSTART;TZID=America/Los_Angeles:20221217T220000
DTEND;TZID=America/Los_Angeles:20221218T040000
DTSTAMP:20260422T150725
CREATED:20221110T150805Z
LAST-MODIFIED:20221110T150805Z
UID:7820-1671314400-1671336000@bearslooking.com
SUMMARY:Daddy Issues Party • Seattle • w/ DJs Matt Consola & Tommy K.
DESCRIPTION:The International traveling Underground Party for Bear\, Leather\, Rubber\, Pup & Gear Daddies & the Men That Crave Them returns to Seattle\, Saturday\, December 17th at a New Location! \nDaddy Issues has moved to Seattle’s newest queer club\, The Comeback\, with over 9000 Sq Ft\, Huge Dance Floors\, 2 Bars\, a front patio\, clothes check\, state-of-the-art Sound System\, and easy endless parking. The Comeback is one of the few spaces left owned by and FOR the LGBTQ+ community & Allies. \n\nAdvance Tickets: https://bit.ly/3fgrbYh\nInvite: https://bit.ly/3UnbE84 \n\nDaddy Issues features suggestive big-room techno\, hypnotic happy house & titillating electronic music in a gay fetish masculine atmosphere. Sexy Sizzlin’ Go-Go Daddies & Daddy Bears will take to the boxes. Partygoers are encouraged to come in full gear; Leather\, Gear\, Bears\, Pups\, Cigars\, or Jeans & a Tee. Let your Freak Flag Fly and maybe snag you a Daddy or admirer while you’re at it! \nSeattle’s own DJ TOMMY K starts off the evening with his signature hypnotic happy house & titillating electronica. \nMATT CONSOLA\, Daddy Issues co-founder and resident DJ closes out the night with his signature vocal-centric big room progressive and tech-house that has made him a household name the world over. \n\nSaturday\, December 17th\n10 PM – 4 AM\nDJS MATT CONSOLA & TOMMY K.\nAdvance Tickets: https://bit.ly/3fgrbYh\n$15 in Advance / $20 at the door \nSizzlin’ Sexy Go Go Daddies!\nClothes Check\nThe Comeback – 1950 1st Ave S.\, Seattle\, WA 98134\n\nBrought to you by BearsLooking.com\, XL Bears (Seattle)\, Seattle Leather Service Corp\, EM Music\, Dirty Disco Music\, & Swishcraft Music\, America’s largest LGBTQAI+ owned & operated records label. Raising Up the community since 2010. http://www.swishcraftmusic.com \n 
URL:https://bearslooking.com/event/daddy-issues-party-seattle-w-djs-matt-consola-tommy-k/
LOCATION:The Comeback Seattle\, 1950 1st Avenue South\, Seattle\, WA\, 98134\, United States
CATEGORIES:Bar,Bear,Dance,Party,Play,Queer,Sex
ATTACH;FMTTYPE=image/jpeg:https://bearslooking.com/wp-content/uploads/2022/11/EVENTBRITE-COMEBACK-SEATTLE-DEC2022-DADDYISSUES-V2.jpg
END:VEVENT
BEGIN:VEVENT
DTSTART;TZID=America/Halifax:20221231T210000
DTEND;TZID=America/Halifax:20230101T210000
DTSTAMP:20260422T150725
CREATED:20221229T040537Z
LAST-MODIFIED:20221229T040537Z
UID:8266-1672520400-1672606800@bearslooking.com
SUMMARY:New Years Eve • AWOL Columbus Ohio w/ Daddy Bear DJ MATT CONSOLA (Bearracuda)
DESCRIPTION:Celebrate NYE with Multi-Billboard #1 Dance Artist & Remix Producer (Lady Gaga\, Ariana Grande\, Dua Lipa\, Lizzo)\, DJ Matt Consola (Bearracuda & Dirty Disco)\, and opening DJ Mitch as we light up the AWOL with blacklights and a Free Champagne Toast 🥂 at midnight to celebrate New Year’s Eve! \nSexy vocal beats to open your evening with DJ Mitch\, and suggestive big-room Vocal Tech\, Hypnotic Happy House & Titillating Vocal Hits with International producer Matt Consola\, to start your year off with a bang or two! \nBe sure to wear your UV-reactive gear on or find something equally sexy at Torso Leather and Fetish! $10 General Admission. \n\nPARTY INVITE LINK!\nSaturday\, December 31st\, 2022\n9PM-2:30\nDJS MATT CONSOLA (Daddy Issues / Bearracuda) & DJ Mitch (opening)\nNo Advance Tickets are required\n$10 / 21+ Event\nFree Champagne Toast at Midnight\nSexy Go Go’s\nClothes Check Available\nAWOL BAR – 49 Parsons AVE – Columbus\, OH\n\nBrought to you by BearsLooking.com\, Dirty Disco Music\, & Swishcraft Music\, America’s largest LGBTQAI+ owned & operated records label. Raising Up the community since 2010. http://www.swishcraftmusic.com
URL:https://bearslooking.com/event/new-years-eve-awol-columbus-ohio-w-daddy-bear-dj-matt-consola-bearracuda/
LOCATION:AWOL\, 49 Parsons Ave\, Columbus\, OH\, 43215\, United States
CATEGORIES:Bar,Bear,Contest,Dance,Party,Play,Queer
ATTACH;FMTTYPE=image/jpeg:https://bearslooking.com/wp-content/uploads/2022/12/Matt-in-Columbus-2.jpg
ORGANIZER;CN="AWOL Columbus%2C Ohio":MAILTO:ROB@AWOLBAR.COM
END:VEVENT
END:VCALENDAR