BEGIN:VCALENDAR
VERSION:2.0
PRODID:-// - ECPv6.12.0.1//NONSGML v1.0//EN
CALSCALE:GREGORIAN
METHOD:PUBLISH
X-ORIGINAL-URL:https://bearslooking.com
X-WR-CALDESC:Events for 
REFRESH-INTERVAL;VALUE=DURATION:PT1H
X-Robots-Tag:noindex
X-PUBLISHED-TTL:PT1H
BEGIN:VTIMEZONE
TZID:America/Los_Angeles
BEGIN:DAYLIGHT
TZOFFSETFROM:-0800
TZOFFSETTO:-0700
TZNAME:PDT
DTSTART:20230312T100000
END:DAYLIGHT
BEGIN:STANDARD
TZOFFSETFROM:-0700
TZOFFSETTO:-0800
TZNAME:PST
DTSTART:20231105T090000
END:STANDARD
END:VTIMEZONE
BEGIN:VEVENT
DTSTART;TZID=America/Los_Angeles:20230921T190000
DTEND;TZID=America/Los_Angeles:20230924T090000
DTSTAMP:20260423T115249
CREATED:20230815T014017Z
LAST-MODIFIED:20230815T014017Z
UID:10835-1695322800-1695546000@bearslooking.com
SUMMARY:2023 Bear Tubing
DESCRIPTION:Annual tubing event hosted by the Houston Bears.  Tickets include: Thursday Night Welcome Party at Our Lady Bar & Grill\, Friday Fun Day at the Host Hotel\, Dinner\, Tom Goss Concert\, Pool Party (OPEN BAR)\, Saturday Breakfast\, Tubing down the Comal River\, Dinner\, and Pool Party (OPEN BAR) and Mr. Bear Tubing Contest. \nPurchase tickets at: HTTPS://BEARTUBING2023.EVENTBRITE.COM/
URL:https://bearslooking.com/event/2023-bear-tubing/
LOCATION:Gruene Outpost River Lodge – New Braunfels\, Texas\, 1273 River Terrace\, New Braunfels\, TX\, 78130\, United States
CATEGORIES:Bar,Bear,Competition,Contest,Meetup,Music,Party,Queer,Social Gathering,Travel
ATTACH;FMTTYPE=image/jpeg:https://bearslooking.com/wp-content/uploads/2023/08/2023-Bear-Tubing-Poster-8.14.2023.jpg
ORGANIZER;CN="Houston Bears":MAILTO:beartubinginfo@houstonbears.org
END:VEVENT
BEGIN:VEVENT
DTSTART;TZID=America/Los_Angeles:20230930T210000
DTEND;TZID=America/Los_Angeles:20231001T020000
DTSTAMP:20260423T115249
CREATED:20231205T055011Z
LAST-MODIFIED:20231205T055011Z
UID:11258-1696107600-1696125600@bearslooking.com
SUMMARY:XXL Ft. Legendary DJ/Producer Tony Moran
DESCRIPTION:XXL Ft. LegendaryDJ/ Producer Tony Moran\nPresented by Brent Milne\nSATURDAY\, SEPTEMBER 30\, 2023\nDoors 9PM | 21+\nGear up and get ready for an electrifying night of non-stop beats!\nGet ready for an electrifying night of beats and euphoria as legendary DJ and producer Tony Moran takes the stage. Join us for an unforgettable night where the dance music maestro himself creates a sonic journey you’ll never forget.\nClothes Check – Complimentary\nSkip the line when you buy a pre-sale ticket!\nhttps://www.eventbrite.com/…/xxl-with-legend-tony-mora…\nSave $5 when buying Pre-Sale Tickets & allow you to skip the link\n9pm – 10pm: No Cover\n10pm till Close: $15\nMUSIC:\nTony Moran – Tracks\nGarthy Garth – 80’s-90’s-00’s – In The Lounge\nMilitary FREE with Valid ID
URL:https://bearslooking.com/event/xxl-ft-legendary-dj-producer-tony-moran/
CATEGORIES:Bar,Bear,Dance,leather,Music,Party
ATTACH;FMTTYPE=image/jpeg:https://bearslooking.com/wp-content/uploads/2023/09/370041992_690130369823310_7816950718090825845_n.jpg
ORGANIZER;CN="Tracks Denver":MAILTO:tracksinfo@tracksdenver.com
END:VEVENT
END:VCALENDAR