BEGIN:VCALENDAR
VERSION:2.0
PRODID:-// - ECPv6.12.0.1//NONSGML v1.0//EN
CALSCALE:GREGORIAN
METHOD:PUBLISH
X-ORIGINAL-URL:https://bearslooking.com
X-WR-CALDESC:Events for 
REFRESH-INTERVAL;VALUE=DURATION:PT1H
X-Robots-Tag:noindex
X-PUBLISHED-TTL:PT1H
BEGIN:VTIMEZONE
TZID:America/Los_Angeles
BEGIN:DAYLIGHT
TZOFFSETFROM:-0800
TZOFFSETTO:-0700
TZNAME:PDT
DTSTART:20210314T100000
END:DAYLIGHT
BEGIN:STANDARD
TZOFFSETFROM:-0700
TZOFFSETTO:-0800
TZNAME:PST
DTSTART:20211107T090000
END:STANDARD
BEGIN:DAYLIGHT
TZOFFSETFROM:-0800
TZOFFSETTO:-0700
TZNAME:PDT
DTSTART:20220313T100000
END:DAYLIGHT
BEGIN:STANDARD
TZOFFSETFROM:-0700
TZOFFSETTO:-0800
TZNAME:PST
DTSTART:20221106T090000
END:STANDARD
END:VTIMEZONE
BEGIN:VTIMEZONE
TZID:America/Mexico_City
BEGIN:DAYLIGHT
TZOFFSETFROM:-0600
TZOFFSETTO:-0500
TZNAME:CDT
DTSTART:20220403T080000
END:DAYLIGHT
BEGIN:STANDARD
TZOFFSETFROM:-0500
TZOFFSETTO:-0600
TZNAME:CST
DTSTART:20221030T070000
END:STANDARD
END:VTIMEZONE
BEGIN:VTIMEZONE
TZID:America/New_York
BEGIN:DAYLIGHT
TZOFFSETFROM:-0500
TZOFFSETTO:-0400
TZNAME:EDT
DTSTART:20220313T070000
END:DAYLIGHT
BEGIN:STANDARD
TZOFFSETFROM:-0400
TZOFFSETTO:-0500
TZNAME:EST
DTSTART:20221106T060000
END:STANDARD
END:VTIMEZONE
BEGIN:VEVENT
DTSTART;TZID=America/Los_Angeles:20220108T210000
DTEND;TZID=America/Los_Angeles:20220109T040000
DTSTAMP:20260419T191357
CREATED:20211223T184512Z
LAST-MODIFIED:20211223T184515Z
UID:5325-1641675600-1641700800@bearslooking.com
SUMMARY:DILF Los Angeles "DEEP" by JFW Presents
DESCRIPTION:DILF Los Angeles “DEEP” 2022 KICK-OFF PARTY\n\n\nJoe Whitaker & the DILF Party Present… \n \nDILF “DEEP” 2022 KICK-OFF PARTY! \nLOS ANGELES \n \nGet Geared Up\, Strapped Up and Ready for a night of Hot Music\, Hot Men & Hot Fun! \n \nThe HOTTEST & BIGGEST JOCK PARTY in the Country that’s FOR ALL MEN returns to LOS ANGELES and to LOS GLOBOS! \n \nFEATURING DIRTY DEEP HOUSE BEATS by: \n \n \nDJ MAX BRUCE  \nof Los Angeles \n \n \nDJ SETH BREEZY  \nof Atlanta \n \n \nDUDES\, DADDIES\, DISCREET\, DUNNO…DILF is for ALL MEN! \n \nENCOURAGED TO WEAR: \n*Jocks \n*Harness \n*Suspenders \n*Arm Bands\, Wrist Bands or Hankies to show your preferences! \n*Gear \n*Leather \n \nA FREE CLOTHES CHECK will be available to get down to your Jock or Underwear! Note: Clothes Check not required to join the party. \n \n*PROOF of Vaccination will be asked for at the Door. \n \n*DOWNLOAD “DILF” on the Apple Store or Google Play to VIEW UPCOMING DILF EVENTS and CONNECT with MEN in your area and at the PARTY!  \n \nVisit theDILFparty.com for All Events & Promotions. \n \nEvent Questions Email: \nsupport@manupp.net \n \nTICKETS WILL BE AVAILABLE at the DOOR BASED on VENUE Capacity. \n \n*8 Years & Going Strong…DILF began in San Diego\, CA in 2014 \n \n*DILF is a Registered Trademark Owned by Man Upp
URL:https://bearslooking.com/event/dilf-los-angeles-deep-by-jfw-presents/
LOCATION:Los Globos\, 3040 Sunset Boulevard\, Los Angeles\, CA\, 90026\, United States
ATTACH;FMTTYPE=image/jpeg:https://bearslooking.com/wp-content/uploads/2021/12/4881d2916f2a54f1453468ce88ca5551.jpg
END:VEVENT
BEGIN:VEVENT
DTSTART;TZID=America/Mexico_City:20220102T113000
DTEND;TZID=America/Mexico_City:20220102T200000
DTSTAMP:20260419T191357
CREATED:20211223T183123Z
LAST-MODIFIED:20211223T183131Z
UID:5258-1641123000-1641153600@bearslooking.com
SUMMARY:Welcome 2022 on Bearadise Beach!
DESCRIPTION:Bearadise Beach boasts an 8-hour all-inclusive beach party designed for Bears by Bears on a secluded private beach.\n\n\nFrom your first step onto the private boat which takes you to the secluded beach destination on the south shore of Banderas Bay\, the party gets started.  Unlimited food and unlimited premium bar\, live DJs\, lots of sexy men\, frisky activities\, and entertainment await.  In true Bearadise style\, clothing and swimwear are optional!  Bearadise Beach promises guests a memorable and decadent experience\, friendly service full of positive energy and physical freedom. There’s no other beach party like this in Mexico!  \nThe Bearadise Beach experience includes: \n– 2-hour round-trip boat cruise with open bar to our magical secluded private beach \n– Departure from Los Muertos Pier and return to Marina Vallarta \n– 6 hours of frisky fun on a private beach on the south shore of Banderas Bay \n– Cruisy jungle trails \n– All-you-can-eat BBQ style buffet lunch with Premium Open Bar \n– Live Sexy DJs and Go-Go-Bears \n– Shady spots available for fair-haired-bears \n– Snorkeling equipment\, kayaks\, paddle boards and hammocks available \nPlease bring: \n– Towel \n– Sunscreen \n– Bug spray \n– Face Mask (Required for entry and departure from the boat.) \n– Plan for your own return transportation from Marina Vallarta \n– Cash for tips!
URL:https://bearslooking.com/event/welcome-2022-on-bearadise-beach/
LOCATION:Las Caletas\, Cabo Corrientes\, Las Caletas\, Cabo Corrientes\, Puerto Vallarta\, JAL\, 48350\, Mexico
ATTACH;FMTTYPE=image/jpeg:https://bearslooking.com/wp-content/uploads/2021/12/69cdb5d225b64d964da070f74821134d.jpg
END:VEVENT
BEGIN:VEVENT
DTSTART;TZID=America/New_York:20220101T220000
DTEND;TZID=America/New_York:20220102T030000
DTSTAMP:20260419T191357
CREATED:20211223T184510Z
LAST-MODIFIED:20211223T184515Z
UID:5321-1641074400-1641092400@bearslooking.com
SUMMARY:DILF Atlanta "DP" 2022 Kick-Off Party by Joe Whitaker Presents
DESCRIPTION:DILF Atlanta New Year’s Day\n\n\nDUDES\, DADDIES\, DISCREET\, DUNNO…DILF is for ALL MEN!\n\nJoe Whitaker & The DILF Party Present…\n\nDILF ATLANTA\n\n“DP” 2022 KICK OFF PARTY!\n\nMEN’S NIGHT…JOCK/UNDERWEAR PARTY!\n\n\nFEATURING MUSIC BY:\n\n\nINTERNATIONAL SUPERSTARS\n\nTHE PERRY TWINS\nof Los Angeles\n\n\nThe HOTTEST & BIGGEST “JOCK PARTY” in the Country is back in ATLANTA and at the HERETIC!\n\n\nENCOURAGED to WEAR:\n*JOCKS\n*HARNESS\n*GEAR\n*LEATHER\n\n*A Clothes Check will be Available at this Event so you can get down to your jock or underwear! Not Required though.\n\n\n*DOWNLOAD DILF on Apple Store or Google Play to connect with those attending the party! \n\nEvent Questions: Email support@manpp.net\n\n\n*All Events listed on EventBrite.com\n\n\n*8 Years & Going Strong…DILF started in San Diego\, CA in 2014!\n\n\n*DILF is a Registered Trademark Owned by Man Upp
URL:https://bearslooking.com/event/dilf-atlanta-dp-2022-kick-off-party-by-joe-whitaker-presents/
LOCATION:The Heretic Atlanta\, 2069 Cheshire Bridge Road Northeast\, Atlanta\, GA\, 30324\, United States
ATTACH;FMTTYPE=image/jpeg:https://bearslooking.com/wp-content/uploads/2021/12/ce2b3fc2f0a5bc2638336fc057b4bf20.jpg
END:VEVENT
BEGIN:VEVENT
DTSTART;TZID=America/Los_Angeles:20211231T210000
DTEND;TZID=America/Los_Angeles:20220101T020000
DTSTAMP:20260419T191357
CREATED:20211223T185106Z
LAST-MODIFIED:20211223T185109Z
UID:5390-1640984400-1641002400@bearslooking.com
SUMMARY:Lumbertwink New Year's Eve!
DESCRIPTION:Lumbertwink RELAUNCH New Year’s Eve!\n\n\nCountdown to 2022 and say goodbye to 2021 FOREVER!  It’s been two full years\, but Lumbertwink is back!  Join our Lumbertwinks on the patio and on the dance floor at the Alberta Street Pub.  Proof of vaccination required.  Photo booth by Wayne Bund.  DJs Freddy King of Pants (Seattle) and Detour Dan (Eagle Portland)
URL:https://bearslooking.com/event/lumbertwink-new-years-eve/
LOCATION:Alberta Street Pub\, 1036 NE Alberta St\, Portland\, OR\, 97211\, United States
ATTACH;FMTTYPE=image/jpeg:https://bearslooking.com/wp-content/uploads/2021/12/c72f47c317d26045551416e2a50f67a1.jpg
END:VEVENT
BEGIN:VEVENT
DTSTART;TZID=America/Los_Angeles:20211231T210000
DTEND;TZID=America/Los_Angeles:20220101T020000
DTSTAMP:20260419T191357
CREATED:20211223T184509Z
LAST-MODIFIED:20211223T184512Z
UID:5317-1640984400-1641002400@bearslooking.com
SUMMARY:DILF San Diego NYE "COUNTDOWN" by Joe Whitaker Presents
DESCRIPTION:DILF San Diego NYE “COUNTDOWN”\n\n\nJoe Whitaker & the DILF Party Present… \n \nDILF SAN DIEGO NEW YEAR’S EVE! \n“COUNTDOWN!” \n \nSPECIAL HOLIDAY NYE EVENT! \n \nEND 2021 with us and KICK OFF 2022 the right way…in your BLACK TIE\, JOCK or LEATHER at DILF! \n \nA PRIVATE MEN’S EVENT BY MAN UPP! \n \nFEATURING MUSIC BY: \n \nDJ JAMES ANTHONY \nNew York  \n \nENCOURAGED: \n*JOCKS \n*LEATHER \n*HARNESS \n*SUSPENDERS \n*GEAR/RUBBER \n \n*VIP Ticket Holders get front of the line entry to the club and VIP exclusive areas inside the bar. \n \n*NYE Party Hats and Horns will be given out at the Entrance to the party \n \n*Champagne will be available for the Midnight toast \n \n*Our COUNTDOWN video recapping 2021 will start at 10 till Midnight. \n \n*A Clothes Check will be Available at this Event so you can get down to your Jock or Underwear! \n \n*A Clothes Check will be Available at this Event so you can get down to your Jock or Underwear! \n \n*NOT REQUIRED TO GET DOWN to your JOCK or UNDERWEAR \n \nVisit theDILFparty.com for All Events Promotions. \n \nHOT MUSIC\, HOT MEN\, HOT FUN \nthat’s DILF! \n \n \nEarly Bird Tickets ONLINE NOW! \n \n*All Events listed on EventBrite.com  \n \n*Event Questions Email: support@manupp.net \n \n*TICKETS WILL ONLY  BE AVAILABLE at the DOOR BASED on VENUE Capacity. \n \n*DILF is a Registered Trademark owned by Man Upp Productions
URL:https://bearslooking.com/event/dilf-san-diego-nye-countdown-by-joe-whitaker-presents/
LOCATION:The Rail\, 3796 Fifth Avenue\, San Diego\, CA\, 92103\, United States
ATTACH;FMTTYPE=image/jpeg:https://bearslooking.com/wp-content/uploads/2021/12/d2585509d27be054ee09ff3b38a93691.jpg
END:VEVENT
BEGIN:VEVENT
DTSTART;TZID=America/Los_Angeles:20211231T210000
DTEND;TZID=America/Los_Angeles:20220101T020000
DTSTAMP:20260419T191357
CREATED:20211223T183318Z
LAST-MODIFIED:20211230T183531Z
UID:5266-1640984400-1641002400@bearslooking.com
SUMMARY:MEGAWOOF - NYE  BASH - with : CATZ' N DOGZ' - Special Guest and Glovibes
DESCRIPTION:MEGAWOOF NEW YEARS EVE BASH – with GLOVIBES and Special Guest : CATZ’ N DOGZ’\n\n\nWe are Proud to announce our first official MEGAWOOF NYE party at The Barracks Palm Springs  with Super Special Guest DJ – at their debut with Megawoof :  \nthe amazing CATZ’ N DOGZ’ ! \n \nMore details to come soon!
URL:https://bearslooking.com/event/megawoof-nye-bash-with-catz-n-dogz-special-guest-and-glovibes/
LOCATION:Barracks Bar\, 67625 East Palm Canyon Drive\, Cathedral City\, CA\, 92234\, United States
ATTACH;FMTTYPE=image/jpeg:https://bearslooking.com/wp-content/uploads/2021/12/e15985eadd86ebd44e744917dc2ee589.jpg
END:VEVENT
BEGIN:VEVENT
DTSTART;TZID=America/Los_Angeles:20211223T150000
DTEND;TZID=America/Los_Angeles:20211226T190000
DTSTAMP:20260419T191357
CREATED:20211223T183530Z
LAST-MODIFIED:20211223T183534Z
UID:5275-1640271600-1640545200@bearslooking.com
SUMMARY:Western X-Mas: Holiday Bear Retreat
DESCRIPTION:Celebrate the season with your chosen family at Western Xposure’s new holiday tradition.\n\n\nPLEASE BE AWARE THIS IS A VACCINATED ONLY EVENT. Proof of vaccination will be required for entry. \nWesternX-mas: Holiday Bear Retreat is a home for the holidays for everyone needing one. Whether you have nowhere to go\, too many places to go\, or just need a year off we’ve got you covered. Join us at the CCBC Resort for a weekend of Holiday cheer done the WesternXposure way! NAKED! We’ll be hanging in the pool\, hot tubs\, and steam room. We’ll be cruising the trails and back rooms stuffing\, umm\, stockings! Everyone here is on the naughty list and we LOVE IT! \nTHURSDAY – Check in and Meat & Greet the men you’ll be spending the weekend with. \nFRIDAY– During the day it’s time to swim and cruise and play. Then in the evening we’ll head over the Barracks for a Sexy Santa Bar Night from 7pm-2am. Strip down and make Santa a jockstrap wearing party animal!  \nSATURDAY – During the day we’ll have our Naughty List pool party and hut tub skinny dip with our DJ. Then Saturday night we’ll all gather to share food at our Christmas Potluck and have a White Elephant Gift Exchange. After we’ll cruise and have fun till we can’t stand any longer. \nSUNDAY – more pool and hot tubs and the winner of best decorated room will be crowned!  \nPLUS MORE TO COME!  This is just the start. \nSo what is WesternXposure? It really is whatever you want it to be. Our schedule is only a guide to the many things you can do here. You can go as fast and hard as you want\, or take it easy and get some sun. It’s up to you. We don’t have any interruptions or shows\, we just let the event roll on. So strip down\, eat\, drink\, relax\, and enjoy life as a bear. You can cruise and meet guys\, or have a drink and eat some food from the on-site restaurant. \nIf you have any questions please feel free to reach out to us. \nwww.WesternXposure.net \n_________________________ \nIf you have a room at the CCBC Resort it includes two free event passes per bed in the room. Anyone not staying a the resort will need to purchase an event pass. \nGOLD & SILVER TICKETS INCLUDE THE FOLLOWING \n\n12 hour access to the resort\nAccess to all parties in the resort\nAccess to all amenities in the resort (pool\, steam room\, hot tubs\, nature trail\, etc…)\nCome and go as you please\n\nSINGLE DAY TICKETS INCLUDE THE FOLLOWING \n\n8 hour access to the resort the day of your selection\nAccess to all parties in the resort that day\nAccess to all amenities in the resort (pool\, steam room\, hot tubs\, nature trail\, etc…)\nCome and go as you please\n\nADD-ONS \n\nTOWELS – Sold separately at the door.\nLOCKERS – Sold separately at the door.\n*You must have a ticket to enter the resort. Regular resort passes are not accepted. You must have a valid ID that matched your ticket to enter the resort.* \n\nThis LGBT+ event is both body & sex-positive and is primarily for men in the bear community who identify as-or-with the men in it. Chasers welcome! You do not have to be a bear to attend but you must be respectful of everyone and treat people with kindness. We reserve the right to eject people who violate this safe space. Attendees are allowed to be fully nude but it is not required\, only encouraged.
URL:https://bearslooking.com/event/western-x-mas-holiday-bear-retreat/
LOCATION:CCBC Resort Hotel\, 68-300 Gay Resort Drive\, Cathedral City\, CA\, 92234\, United States
ATTACH;FMTTYPE=image/jpeg:https://bearslooking.com/wp-content/uploads/2021/12/d9a5529ec1dd0b49f3cdff2f48f03989.jpg
END:VEVENT
BEGIN:VEVENT
DTSTART;TZID=America/Los_Angeles:20211217T210000
DTEND;TZID=America/Los_Angeles:20211218T020000
DTSTAMP:20260419T191357
CREATED:20211214T023024Z
LAST-MODIFIED:20211214T023335Z
UID:5222-1639774800-1639792800@bearslooking.com
SUMMARY:Daddy Saddle
DESCRIPTION:Sit on Santa’s finger this FRIDAY December 17 @daddysaddlesf is in the Gingerbread house @lonestarsf aka @lonestarsaloonsf with naughty elf DJs @hplovehandles @dblplus and direct from the north stripper pole #secretsanta selector SECRET SANTA @bearzbub #daddysaddlesf #gay #bear #gaybear #gaybar #santaclaws \nhttps://www.instagram.com/daddysaddlesf/
URL:https://bearslooking.com/event/daddy-saddle/
LOCATION:Lone Star Saloon\, 1354 Harrison Street\, San Francisco\, CA\, 94103\, United States
CATEGORIES:Music
ATTACH;FMTTYPE=image/jpeg:https://bearslooking.com/wp-content/uploads/2021/12/Xnip2021-12-13_20-33-07.jpg
END:VEVENT
END:VCALENDAR