BEGIN:VCALENDAR
VERSION:2.0
PRODID:-// - ECPv6.12.0.1//NONSGML v1.0//EN
CALSCALE:GREGORIAN
METHOD:PUBLISH
X-ORIGINAL-URL:https://bearslooking.com
X-WR-CALDESC:Events for 
REFRESH-INTERVAL;VALUE=DURATION:PT1H
X-Robots-Tag:noindex
X-PUBLISHED-TTL:PT1H
BEGIN:VTIMEZONE
TZID:America/Los_Angeles
BEGIN:DAYLIGHT
TZOFFSETFROM:-0800
TZOFFSETTO:-0700
TZNAME:PDT
DTSTART:20230312T100000
END:DAYLIGHT
BEGIN:STANDARD
TZOFFSETFROM:-0700
TZOFFSETTO:-0800
TZNAME:PST
DTSTART:20231105T090000
END:STANDARD
BEGIN:DAYLIGHT
TZOFFSETFROM:-0800
TZOFFSETTO:-0700
TZNAME:PDT
DTSTART:20240310T100000
END:DAYLIGHT
BEGIN:STANDARD
TZOFFSETFROM:-0700
TZOFFSETTO:-0800
TZNAME:PST
DTSTART:20241103T090000
END:STANDARD
BEGIN:DAYLIGHT
TZOFFSETFROM:-0800
TZOFFSETTO:-0700
TZNAME:PDT
DTSTART:20250309T100000
END:DAYLIGHT
BEGIN:STANDARD
TZOFFSETFROM:-0700
TZOFFSETTO:-0800
TZNAME:PST
DTSTART:20251102T090000
END:STANDARD
END:VTIMEZONE
BEGIN:VEVENT
DTSTART;TZID=America/Los_Angeles:20230429T210000
DTEND;TZID=America/Los_Angeles:20230430T020000
DTSTAMP:20260425T092534
CREATED:20230421T210830Z
LAST-MODIFIED:20230424T210003Z
UID:9607-1682802000-1682820000@bearslooking.com
SUMMARY:Daddy Issues San Francisco celebrates The SF Eagle 10th Anniversary Weekend!
DESCRIPTION:DADDY ISSUES: The International Traveling Party for Leather\, Bear\, Pup & Gear Daddies & the Men That Crave Them returns Saturday\, April 29th to the SF Eagle to help c celebrate their 10th Anniversary. Join Daddy Issues resident DJs Matt Consola & DJ Bear Mittens for a night of suggestive techno\, hypnotic happy house & titillating electronic music in a gay fetish masculine atmosphere. Discounted Advance Tix on sale now & will go fast! \n• Sat\, April 29th\, 2023\n• 9 PM – 2 AM\n• $10 In Advance / $15 At The Door\n• Advance Tix: bit.ly/3XnFcTJ \n• DADDY BEAR DJ MATT CONSOLA (Billboard no.1 Remix Producer)\n• BEAR MITTENS (Opening Set)\n• Free Clothes Check\n• Hot Go-Go Daddies @BUTCHSPENCER special guests\n• SF Eagle • 398 12th Street • San Francisco • CA • 94103 \nLeather\, Gear\, Bears\, Pups\, Cigars\, Jeans & a Tee\, Jocks\, Harnesses\, Suspenders\, Arm Bands\, Wrist Bands & Hankies are all encouraged. \nAll Events listed on Eventbrite\, Facebook\, BearsLooking App\, and Scruff App. \nDADDY ISSUES IS A QUEER\, GENDERQUEER\, & NON-BINARY FRIENDLY PARTY WHERE ALL ARE WELCOME!! \nFOLLOW US AT:\nFACEBOOK.COM/DADDYISSUESUSA\nDADDYISSUESUSA on INSTAGRAM \nBrought to you by BearsLooking.com\, Dirty Disco Music\, & Swishcraft Music\, America’s largest LGBTQAI+ owned & operated records label. Raising Up the Community since 2010. http://www.swishcraftmusic.com
URL:https://bearslooking.com/event/daddy-issues-san-francisco-celebrates-the-sf-eagle-10th-anniversary-weekend/
LOCATION:SF EAGLE\, 398 12th Street\, San Francisco\, CA\, 94103\, United States
CATEGORIES:Bar,Bear,Dance,leather,Music,Party,Queer,Sex
ATTACH;FMTTYPE=image/jpeg:https://bearslooking.com/wp-content/uploads/2023/04/EVENTBRITE-SFEAGLE-SF-APRIL2023-DADDYISSUES-1.jpg
END:VEVENT
BEGIN:VEVENT
DTSTART;TZID=America/Los_Angeles:20230524T080000
DTEND;TZID=America/Los_Angeles:20230529T080000
DTSTAMP:20260425T092534
CREATED:20230515T222925Z
LAST-MODIFIED:20230515T222925Z
UID:9846-1684915200-1685347200@bearslooking.com
SUMMARY:BEAR PRIDE VALLARTA FESTIVAL • Puerto Vallarta • MAY 24TH - 28TH\, 2023
DESCRIPTION:American Memorial Day Weekend is Vallarta Pride & Bear Pride Vallarta! Join us May 24th – 28th for Seven Amazing Day & Evening Events in Puerto Vallarta. \nUse Promo Code: SWISHCRAFT for 10% off all Weekend Passes or Single Tickets. www.BearadiseMX.com \nThe Weekend Pass gets you into Friday’s daytime Furry & Proud Clothing Optional Pool Party & Friday night’s Daddy Issues Party with Matt Consola & Max Bruce. \nSaturdays Funky Bear Beardise Beach (Clothing Optional) all day and night Beach Event as well as the Fetish Night Party \nSunday’s Dirty Disco Tea (clothing optional) Pool Party at Casa Cupula Pool Club \nPlus So Much More. Check out the website for all the events and event details. \nwww.BearadiseMX.com
URL:https://bearslooking.com/event/bear-pride-vallarta-festival-puerto-vallarta-may-24th-28th-2023/
LOCATION:Puerto Vallarta\, Puerto Vallarta\, Mexico
CATEGORIES:Bar,Bear,Cruise,Dance,leather,Mexico,Music,Party,Play,Queer,Sex,Social Gathering,Tea Dance,Travel
ATTACH;FMTTYPE=image/jpeg:https://bearslooking.com/wp-content/uploads/2023/05/ScruffySruff-Bearadise.jpg
END:VEVENT
BEGIN:VEVENT
DTSTART;TZID=America/Los_Angeles:20230924T170000
DTEND;TZID=America/Los_Angeles:20230927T170000
DTSTAMP:20260425T092534
CREATED:20230806T190829Z
LAST-MODIFIED:20230806T190829Z
UID:10729-1695574800-1695834000@bearslooking.com
SUMMARY:"Call Of The Wild" Men's Cabin Retreat
DESCRIPTION:Imagine four long days of relaxation this Fall in a large cabin in the Great Smokey Mountains with a group of like minded guys. The event includes a meet and greet party Monday night and a themed party Tuesday night\, 4 provided meals\, contests and prizes and lots of relaxation in a natural setting. All private rooms contain King size beds and private bathrooms. All bunks in the bunk rooms are queen size beds.
URL:https://bearslooking.com/event/call-of-the-wild-mens-cabin-retreat/
LOCATION:Gatlinburg Pigeonforge\, Gatlinburg\, TN\, United States
CATEGORIES:Bear,Contest,Meetup,Party,Sex
ATTACH;FMTTYPE=image/jpeg:https://bearslooking.com/wp-content/uploads/2023/08/butt.jpg
ORGANIZER;CN="Lee Sherrill":MAILTO:lee37167@gmail.com
END:VEVENT
BEGIN:VEVENT
DTSTART;TZID=America/Los_Angeles:20250530T213000
DTEND;TZID=America/Los_Angeles:20250531T020000
DTSTAMP:20260425T092534
CREATED:20250510T230407Z
LAST-MODIFIED:20250510T230407Z
UID:16318-1748640600-1748656800@bearslooking.com
SUMMARY:The Pirate Party.. cruise for bone & booty
DESCRIPTION:Ahoy matey! \nDusti Cunningham  & Jeff Rasul invite you to cruise for bone & booty at The Pirate Party’s maiden voyage\, May 30th. \nEnjoy criminally hot pervy pirate gogos and shake yer booty to DJ Sindri’s deep dive of danceable shanties while cruising for bonable booty. \nDress to impress in yer sleaziest pirate garb or strip down to yer skivvies.
URL:https://bearslooking.com/event/the-pirate-party-cruise-for-bone-booty/
LOCATION:The Virgil\, 4519 Santa Monica Blvd\, Los Angeles\, CA\, 90029-1906\, United States
CATEGORIES:Dance,Party,Play,Queer,Sex
ATTACH;FMTTYPE=image/jpeg:https://bearslooking.com/wp-content/uploads/2025/05/FB_IMG_1746727552832.jpg
END:VEVENT
END:VCALENDAR