BEGIN:VCALENDAR
VERSION:2.0
PRODID:-// - ECPv6.12.0.1//NONSGML v1.0//EN
CALSCALE:GREGORIAN
METHOD:PUBLISH
X-ORIGINAL-URL:https://bearslooking.com
X-WR-CALDESC:Events for 
REFRESH-INTERVAL;VALUE=DURATION:PT1H
X-Robots-Tag:noindex
X-PUBLISHED-TTL:PT1H
BEGIN:VTIMEZONE
TZID:America/Los_Angeles
BEGIN:DAYLIGHT
TZOFFSETFROM:-0800
TZOFFSETTO:-0700
TZNAME:PDT
DTSTART:20240310T100000
END:DAYLIGHT
BEGIN:STANDARD
TZOFFSETFROM:-0700
TZOFFSETTO:-0800
TZNAME:PST
DTSTART:20241103T090000
END:STANDARD
END:VTIMEZONE
BEGIN:VEVENT
DTSTART;TZID=America/Los_Angeles:20240213T200000
DTEND;TZID=America/Los_Angeles:20240213T230000
DTSTAMP:20260421T164214
CREATED:20240207T200241Z
LAST-MODIFIED:20240207T200241Z
UID:13225-1707854400-1707865200@bearslooking.com
SUMMARY:Tuesday Night ALL AGES 8pm - 11pm
DESCRIPTION:Admission ticket only. Skate rentals must be purchased at the window ($8.00) if you don’t bring your own skates.
URL:https://bearslooking.com/event/tuesday-night-all-ages-8pm-11pm-24/
LOCATION:Moonlight Rollerway\, Inc.\, 5110 San Fernando Road\, Glendale\, CA\, 91204\, United States
CATEGORIES:Party
ATTACH;FMTTYPE=image/jpeg:https://bearslooking.com/wp-content/uploads/2024/02/e95239a642f68434c69a1dbe3e05bd74.jpg
END:VEVENT
BEGIN:VEVENT
DTSTART;TZID=America/Los_Angeles:20240214T200000
DTEND;TZID=America/Los_Angeles:20240214T230000
DTSTAMP:20260421T164214
CREATED:20240214T200427Z
LAST-MODIFIED:20240214T200427Z
UID:13299-1707940800-1707951600@bearslooking.com
SUMMARY:Rainbow/Disco Skate Night ALL AGES 8pm - 11pm
DESCRIPTION:Disco classics from 70’s and 80’s Admission ticket only. Skate rentals must be purchased at the window ($8.00) if you don’t bring your own\n\n\nLA’s premier LGBTQ+ skate night! Wednesday night all ages 8 PM to 11 PM.  \nAdmission ticket only. Skate rental available at the door ($8.00).
URL:https://bearslooking.com/event/rainbow-disco-skate-night-all-ages-8pm-11pm-6/
LOCATION:Moonlight Rollerway\, Inc.\, 5110 San Fernando Road\, Glendale\, CA\, 91204\, United States
CATEGORIES:Party
ATTACH;FMTTYPE=image/jpeg:https://bearslooking.com/wp-content/uploads/2024/02/be92aa08f48259d4e21b27cb566eea6c.jpg
END:VEVENT
BEGIN:VEVENT
DTSTART;TZID=America/Los_Angeles:20240215T200000
DTEND;TZID=America/Los_Angeles:20240215T230000
DTSTAMP:20260421T164214
CREATED:20240214T200427Z
LAST-MODIFIED:20240214T200427Z
UID:13301-1708027200-1708038000@bearslooking.com
SUMMARY:Thursday Throwback Skate Night ALL AGES 8pm - 11pm
DESCRIPTION:Admission ticket only. Skate rentals must be purchased at the window ($8.00) if you don’t bring your own skates.
URL:https://bearslooking.com/event/thursday-throwback-skate-night-all-ages-8pm-11pm-6/
LOCATION:Moonlight Rollerway\, Inc.\, 5110 San Fernando Road\, Glendale\, CA\, 91204\, United States
CATEGORIES:Party
ATTACH;FMTTYPE=image/jpeg:https://bearslooking.com/wp-content/uploads/2024/02/c59ab61b220e9c08fef5c71c42793265.jpg
END:VEVENT
BEGIN:VEVENT
DTSTART;TZID=America/Los_Angeles:20240216T200000
DTEND;TZID=America/Los_Angeles:20240216T230000
DTSTAMP:20260421T164214
CREATED:20240214T200428Z
LAST-MODIFIED:20240214T200428Z
UID:13303-1708113600-1708124400@bearslooking.com
SUMMARY:Friday Night ALL AGES 8pm - 11pm Admission only
DESCRIPTION:Admission ticket only. Skate rentals must be purchased at the window ($8.00) if you don’t bring your own skates.
URL:https://bearslooking.com/event/friday-night-all-ages-8pm-11pm-admission-only-5/
LOCATION:Moonlight Rollerway\, Inc.\, 5110 San Fernando Road\, Glendale\, CA\, 91204\, United States
CATEGORIES:Party
ATTACH;FMTTYPE=image/jpeg:https://bearslooking.com/wp-content/uploads/2024/02/4f040ba3151f349e246cdbff8d4b11fd.jpg
END:VEVENT
BEGIN:VEVENT
DTSTART;TZID=America/Los_Angeles:20240217T200000
DTEND;TZID=America/Los_Angeles:20240217T230000
DTSTAMP:20260421T164214
CREATED:20240214T200428Z
LAST-MODIFIED:20240214T200428Z
UID:13305-1708200000-1708210800@bearslooking.com
SUMMARY:Saturday Night ALL AGES 8pm - 11pm Admission only
DESCRIPTION:Admission ticket only. Skate rentals must be purchased at the window ($8.00) if you don’t bring your own skates.
URL:https://bearslooking.com/event/saturday-night-all-ages-8pm-11pm-admission-only-4/
LOCATION:Moonlight Rollerway\, Inc.\, 5110 San Fernando Road\, Glendale\, CA\, 91204\, United States
CATEGORIES:Party
ATTACH;FMTTYPE=image/jpeg:https://bearslooking.com/wp-content/uploads/2024/02/9afc088f6e2f92ddebefc889a0c7d49c.jpg
END:VEVENT
BEGIN:VEVENT
DTSTART;TZID=America/Los_Angeles:20240218T200000
DTEND;TZID=America/Los_Angeles:20240218T230000
DTSTAMP:20260421T164214
CREATED:20240214T200428Z
LAST-MODIFIED:20240214T200428Z
UID:13307-1708286400-1708297200@bearslooking.com
SUMMARY:Sunday Night ALL AGES 8pm - 11pm Admission only
DESCRIPTION:Admission ticket only. Skate rentals must be purchased at the window ($8.00) if you don’t bring your own skates.
URL:https://bearslooking.com/event/sunday-night-all-ages-8pm-11pm-admission-only-7/
LOCATION:Moonlight Rollerway\, Inc.\, 5110 San Fernando Road\, Glendale\, CA\, 91204\, United States
CATEGORIES:Party
ATTACH;FMTTYPE=image/jpeg:https://bearslooking.com/wp-content/uploads/2024/02/c0cc2133695c1e84ddb2862d7a2be1e1.jpg
END:VEVENT
BEGIN:VEVENT
DTSTART;TZID=America/Los_Angeles:20240219T200000
DTEND;TZID=America/Los_Angeles:20240219T230000
DTSTAMP:20260421T164214
CREATED:20240214T200429Z
LAST-MODIFIED:20240214T200429Z
UID:13309-1708372800-1708383600@bearslooking.com
SUMMARY:Monday Night 18 and over only 8pm - 11pm Admission only
DESCRIPTION:Admission ticket only. Skate rentals must be purchased at the window ($8.00) if you don’t bring your own skates.
URL:https://bearslooking.com/event/monday-night-18-and-over-only-8pm-11pm-admission-only-7/
LOCATION:Moonlight Rollerway\, Inc.\, 5110 San Fernando Road\, Glendale\, CA\, 91204\, United States
CATEGORIES:Party
ATTACH;FMTTYPE=image/jpeg:https://bearslooking.com/wp-content/uploads/2024/02/bc8ee4f61de1198644de18896df6576f.jpg
END:VEVENT
BEGIN:VEVENT
DTSTART;TZID=America/Los_Angeles:20240220T190000
DTEND;TZID=America/Los_Angeles:20240220T230000
DTSTAMP:20260421T164214
CREATED:20240214T200429Z
LAST-MODIFIED:20240214T200429Z
UID:13311-1708455600-1708470000@bearslooking.com
SUMMARY:Adult Skating Class - All Levels
DESCRIPTION:Admission ticket only. Skate rentals must be purchased at the window ($8.00) if you don’t bring your own skates.\n\n\nThis class teaches the basic fundamentals of roller skating including balance\, good posture\, starting and stopping\, and how to get up safely. Forward and backward skating\, two foot turns and skating in time to music. Skaters in this class will also learn forward and backward dance steps. All of our instructors are certified by U.S.A. Roller Sports and the Society of Roller Skating Teachers of America. Your cost includes the class and the ability to stay after for the public session to practice. SKATE RENTAL IS EXTRA at the door.
URL:https://bearslooking.com/event/adult-skating-class-all-levels-7/
LOCATION:Moonlight Rollerway\, Inc.\, 5110 San Fernando Road\, Glendale\, CA\, 91204\, United States
CATEGORIES:Party
ATTACH;FMTTYPE=image/jpeg:https://bearslooking.com/wp-content/uploads/2024/02/bdbb683655751c37e834d83d9167294b.jpg
END:VEVENT
BEGIN:VEVENT
DTSTART;TZID=America/Los_Angeles:20240220T200000
DTEND;TZID=America/Los_Angeles:20240220T230000
DTSTAMP:20260421T164214
CREATED:20240214T200430Z
LAST-MODIFIED:20240214T200430Z
UID:13313-1708459200-1708470000@bearslooking.com
SUMMARY:Tuesday Night ALL AGES 8pm - 11pm
DESCRIPTION:Admission ticket only. Skate rentals must be purchased at the window ($8.00) if you don’t bring your own skates.
URL:https://bearslooking.com/event/tuesday-night-all-ages-8pm-11pm-25/
LOCATION:Moonlight Rollerway\, Inc.\, 5110 San Fernando Road\, Glendale\, CA\, 91204\, United States
CATEGORIES:Party
ATTACH;FMTTYPE=image/jpeg:https://bearslooking.com/wp-content/uploads/2024/02/d9611b4bb1719484e462f801d8175d2b.jpg
END:VEVENT
BEGIN:VEVENT
DTSTART;TZID=America/Los_Angeles:20240221T200000
DTEND;TZID=America/Los_Angeles:20240221T230000
DTSTAMP:20260421T164214
CREATED:20240221T200147Z
LAST-MODIFIED:20240221T200147Z
UID:13390-1708545600-1708556400@bearslooking.com
SUMMARY:Rainbow/Disco Skate Night ALL AGES 8pm - 11pm
DESCRIPTION:Disco classics from 70’s and 80’s Admission ticket only. Skate rentals must be purchased at the window ($8.00) if you don’t bring your own\n\n\nLA’s premier LGBTQ+ skate night! Wednesday night all ages 8 PM to 11 PM.  \nAdmission ticket only. Skate rental available at the door ($8.00).
URL:https://bearslooking.com/event/rainbow-disco-skate-night-all-ages-8pm-11pm-7/
LOCATION:Moonlight Rollerway\, Inc.\, 5110 San Fernando Road\, Glendale\, CA\, 91204\, United States
CATEGORIES:Party
ATTACH;FMTTYPE=image/jpeg:https://bearslooking.com/wp-content/uploads/2024/02/a2a70b7b00295efa725e42e47290ee11.jpg
END:VEVENT
BEGIN:VEVENT
DTSTART;TZID=America/Los_Angeles:20240222T200000
DTEND;TZID=America/Los_Angeles:20240222T230000
DTSTAMP:20260421T164214
CREATED:20240221T200147Z
LAST-MODIFIED:20240221T200147Z
UID:13392-1708632000-1708642800@bearslooking.com
SUMMARY:Thursday Throwback Skate Night ALL AGES 8pm - 11pm
DESCRIPTION:Admission ticket only. Skate rentals must be purchased at the window ($8.00) if you don’t bring your own skates.
URL:https://bearslooking.com/event/thursday-throwback-skate-night-all-ages-8pm-11pm-7/
LOCATION:Moonlight Rollerway\, Inc.\, 5110 San Fernando Road\, Glendale\, CA\, 91204\, United States
CATEGORIES:Party
ATTACH;FMTTYPE=image/jpeg:https://bearslooking.com/wp-content/uploads/2024/02/c3991b3e5a32100e82017a022bdd6849.jpg
END:VEVENT
BEGIN:VEVENT
DTSTART;TZID=America/Los_Angeles:20240223T200000
DTEND;TZID=America/Los_Angeles:20240223T230000
DTSTAMP:20260421T164214
CREATED:20240131T200129Z
LAST-MODIFIED:20240221T200147Z
UID:13134-1708718400-1708729200@bearslooking.com
SUMMARY:Motown Skate Night ALL AGES 8pm - 11pm Admission only
DESCRIPTION:Admission ticket only. Skate rentals must be purchased at the window ($8.00) if you don’t bring your own skates.\n\n\nSkate to the legends of Motown. Temptations\, marvin Gaye\, Stevie Wonder\, Four Tops\, Smokey Robinson\, The Supremes\, Aretha Franklin\, Gladys Knight and many more of Detroit’s finest!
URL:https://bearslooking.com/event/motown-skate-night-all-ages-8pm-11pm-admission-only/
LOCATION:Moonlight Rollerway\, Inc.\, 5110 San Fernando Road\, Glendale\, CA\, 91204\, United States
CATEGORIES:Party
ATTACH;FMTTYPE=image/jpeg:https://bearslooking.com/wp-content/uploads/2024/01/57f3e0b76dc7ffe81189a6111da4d039.jpg
END:VEVENT
BEGIN:VEVENT
DTSTART;TZID=America/Los_Angeles:20240224T200000
DTEND;TZID=America/Los_Angeles:20240224T230000
DTSTAMP:20260421T164214
CREATED:20240221T200147Z
LAST-MODIFIED:20240221T200147Z
UID:13394-1708804800-1708815600@bearslooking.com
SUMMARY:Saturday Night ALL AGES 8pm - 11pm Admission only
DESCRIPTION:Admission ticket only. Skate rentals must be purchased at the window ($8.00) if you don’t bring your own skates.
URL:https://bearslooking.com/event/saturday-night-all-ages-8pm-11pm-admission-only-5/
LOCATION:Moonlight Rollerway\, Inc.\, 5110 San Fernando Road\, Glendale\, CA\, 91204\, United States
CATEGORIES:Party
ATTACH;FMTTYPE=image/jpeg:https://bearslooking.com/wp-content/uploads/2024/02/1e04ef93a1992f255c60e5e694189f6c.jpg
END:VEVENT
BEGIN:VEVENT
DTSTART;TZID=America/Los_Angeles:20240224T220000
DTEND;TZID=America/Los_Angeles:20240225T060000
DTSTAMP:20260421T164214
CREATED:20240117T081931Z
LAST-MODIFIED:20240225T103132Z
UID:12947-1708812000-1708840800@bearslooking.com
SUMMARY:BLACKOUT: A Winter's Tale with ARNO DIEM & JEREMY DAVA
DESCRIPTION:Pure Pulse Pounding Beats with DJs ARNO DIEM & JEREMY DAVA with FREE CLOTHES CHECK and decor by Mario Sandoval and 3DX Miami.\n\n\nBLACKOUT: A Winter’s Tale \nBrace yourself for an unforgettable night when DJs ARNO DIEM & JEREMY DAVA return. Immerse yourself as we transform the venue into a winter wonderland. Get ready to be blown away by mind-blowing decor and heart-pounding beats and show us what you got via our always FREE CLOTHES CHECK. Grab a buddy\, bundle up\, and make this a winter’s tale to remember!
URL:https://bearslooking.com/event/blackout-a-winters-tale-with-arni-diem-jeremy-dava/
LOCATION:3040 Sunset Blvd\, 3040 Sunset Boulevard\, Los Angeles\, CA\, 90026\, United States
CATEGORIES:Party
ATTACH;FMTTYPE=image/jpeg:https://bearslooking.com/wp-content/uploads/2024/02/aa9136b26bc4e92dc7da1a1b12624e2e.jpg
END:VEVENT
BEGIN:VEVENT
DTSTART;TZID=America/Los_Angeles:20240225T200000
DTEND;TZID=America/Los_Angeles:20240225T230000
DTSTAMP:20260421T164214
CREATED:20240221T200148Z
LAST-MODIFIED:20240221T200148Z
UID:13396-1708891200-1708902000@bearslooking.com
SUMMARY:Sunday Night ALL AGES 8pm - 11pm Admission only
DESCRIPTION:Admission ticket only. Skate rentals must be purchased at the window ($8.00) if you don’t bring your own skates.
URL:https://bearslooking.com/event/sunday-night-all-ages-8pm-11pm-admission-only-8/
LOCATION:Moonlight Rollerway\, Inc.\, 5110 San Fernando Road\, Glendale\, CA\, 91204\, United States
CATEGORIES:Party
ATTACH;FMTTYPE=image/jpeg:https://bearslooking.com/wp-content/uploads/2024/02/3d7c56015367b67f4653049a10b7cb29.jpg
END:VEVENT
BEGIN:VEVENT
DTSTART;TZID=America/Los_Angeles:20240226T200000
DTEND;TZID=America/Los_Angeles:20240226T230000
DTSTAMP:20260421T164214
CREATED:20240221T200148Z
LAST-MODIFIED:20240221T200148Z
UID:13398-1708977600-1708988400@bearslooking.com
SUMMARY:Monday Night 18 and over only 8pm - 11pm Admission only
DESCRIPTION:Admission ticket only. Skate rentals must be purchased at the window ($8.00) if you don’t bring your own skates.
URL:https://bearslooking.com/event/monday-night-18-and-over-only-8pm-11pm-admission-only-8/
LOCATION:Moonlight Rollerway\, Inc.\, 5110 San Fernando Road\, Glendale\, CA\, 91204\, United States
CATEGORIES:Party
ATTACH;FMTTYPE=image/jpeg:https://bearslooking.com/wp-content/uploads/2024/02/773668c7bbd7b9d5737fbe0e0bb27e94.jpg
END:VEVENT
BEGIN:VEVENT
DTSTART;TZID=America/Los_Angeles:20240227T190000
DTEND;TZID=America/Los_Angeles:20240227T230000
DTSTAMP:20260421T164214
CREATED:20240221T200148Z
LAST-MODIFIED:20240221T200148Z
UID:13400-1709060400-1709074800@bearslooking.com
SUMMARY:Adult Skating Class - All Levels
DESCRIPTION:Admission ticket only. Skate rentals must be purchased at the window ($8.00) if you don’t bring your own skates.\n\n\nThis class teaches the basic fundamentals of roller skating including balance\, good posture\, starting and stopping\, and how to get up safely. Forward and backward skating\, two foot turns and skating in time to music. Skaters in this class will also learn forward and backward dance steps. All of our instructors are certified by U.S.A. Roller Sports and the Society of Roller Skating Teachers of America. Your cost includes the class and the ability to stay after for the public session to practice. SKATE RENTAL IS EXTRA at the door.
URL:https://bearslooking.com/event/adult-skating-class-all-levels-8/
LOCATION:Moonlight Rollerway\, Inc.\, 5110 San Fernando Road\, Glendale\, CA\, 91204\, United States
CATEGORIES:Party
ATTACH;FMTTYPE=image/jpeg:https://bearslooking.com/wp-content/uploads/2024/02/6f4ec6eab1897643e117bcd944aa79fe.jpg
END:VEVENT
BEGIN:VEVENT
DTSTART;TZID=America/Los_Angeles:20240227T200000
DTEND;TZID=America/Los_Angeles:20240227T230000
DTSTAMP:20260421T164214
CREATED:20240221T200150Z
LAST-MODIFIED:20240221T200150Z
UID:13402-1709064000-1709074800@bearslooking.com
SUMMARY:Tuesday Night ALL AGES 8pm - 11pm
DESCRIPTION:Admission ticket only. Skate rentals must be purchased at the window ($8.00) if you don’t bring your own skates.
URL:https://bearslooking.com/event/tuesday-night-all-ages-8pm-11pm-26/
LOCATION:Moonlight Rollerway\, Inc.\, 5110 San Fernando Road\, Glendale\, CA\, 91204\, United States
CATEGORIES:Party
ATTACH;FMTTYPE=image/jpeg:https://bearslooking.com/wp-content/uploads/2024/02/35e26a552f7b2fc62173bed1ba84f449.jpg
END:VEVENT
BEGIN:VEVENT
DTSTART;TZID=America/Los_Angeles:20240228T200000
DTEND;TZID=America/Los_Angeles:20240228T230000
DTSTAMP:20260421T164214
CREATED:20240228T200326Z
LAST-MODIFIED:20240228T200326Z
UID:13471-1709150400-1709161200@bearslooking.com
SUMMARY:Rainbow/Disco Skate Night ALL AGES 8pm - 11pm
DESCRIPTION:Disco classics from 70’s and 80’s Admission ticket only. Skate rentals must be purchased at the window ($8.00) if you don’t bring your own\n\n\nLA’s premier LGBTQ+ skate night! Wednesday night all ages 8 PM to 11 PM.  \nAdmission ticket only. Skate rental available at the door ($8.00).
URL:https://bearslooking.com/event/rainbow-disco-skate-night-all-ages-8pm-11pm-8/
LOCATION:Moonlight Rollerway\, Inc.\, 5110 San Fernando Road\, Glendale\, CA\, 91204\, United States
CATEGORIES:Party
ATTACH;FMTTYPE=image/jpeg:https://bearslooking.com/wp-content/uploads/2024/02/2f9e20072dcc0959c1c246cbe33f8bf6.jpg
END:VEVENT
BEGIN:VEVENT
DTSTART;TZID=America/Los_Angeles:20240229T200000
DTEND;TZID=America/Los_Angeles:20240229T230000
DTSTAMP:20260421T164214
CREATED:20240207T200242Z
LAST-MODIFIED:20240228T200326Z
UID:13228-1709236800-1709247600@bearslooking.com
SUMMARY:One-Hit Wonder Leap Year Skate Night ALL AGES 8pm - 11pm
DESCRIPTION:Admission ticket only. Skate rentals must be purchased at the window ($8.00) if you don’t bring your own skates.\n\n\nJoin us for an exciting night of skating at the One-Hit Wonder Leap Year Skate Night! This event is open to ALL AGES and will take place on Thursday\, February 29\, 2024 from 8:00 PM to 11:00 PM at the Moonlight Rollerway\, Inc. \nGet ready to groove to the beats of your favorite one-hit wonders while enjoying the thrill of skating with friends and family. Whether you’re a seasoned skater or a beginner\, this event promises an unforgettable night of fun and laughter. \nPut on your coolest outfit\, lace up your skates\, and get ready to show off your moves on the rink. With a lively atmosphere and great music\, this skate night is the perfect opportunity to let loose and enjoy the company of fellow skating enthusiasts. \nDon’t miss out on this unique experience that only comes around once every four years! Grab your friends\, mark your calendars\, and join us at the One-Hit Wonder Leap Year Skate Night for an evening filled with laughter\, music\, and non-stop skating.
URL:https://bearslooking.com/event/one-hit-wonder-leap-year-skate-night-all-ages-8pm-11pm/
LOCATION:Moonlight Rollerway\, Inc.\, 5110 San Fernando Road\, Glendale\, CA\, 91204\, United States
CATEGORIES:Party
ATTACH;FMTTYPE=image/jpeg:https://bearslooking.com/wp-content/uploads/2024/02/fd11830c9a53cd7104335c72e4306a59.jpg
END:VEVENT
BEGIN:VEVENT
DTSTART;TZID=America/Los_Angeles:20240301T200000
DTEND;TZID=America/Los_Angeles:20240301T230000
DTSTAMP:20260421T164214
CREATED:20240228T200326Z
LAST-MODIFIED:20240228T200326Z
UID:13473-1709323200-1709334000@bearslooking.com
SUMMARY:Friday Night ALL AGES 8pm - 11pm Admission only
DESCRIPTION:Admission ticket only. Skate rentals must be purchased at the window ($8.00) if you don’t bring your own skates.
URL:https://bearslooking.com/event/friday-night-all-ages-8pm-11pm-admission-only-6/
LOCATION:Moonlight Rollerway\, Inc.\, 5110 San Fernando Road\, Glendale\, CA\, 91204\, United States
CATEGORIES:Party
ATTACH;FMTTYPE=image/jpeg:https://bearslooking.com/wp-content/uploads/2024/02/a884e2b77f74d90624d6073bd9a066d4.jpg
END:VEVENT
BEGIN:VEVENT
DTSTART;TZID=America/Los_Angeles:20240302T200000
DTEND;TZID=America/Los_Angeles:20240302T230000
DTSTAMP:20260421T164214
CREATED:20240228T200326Z
LAST-MODIFIED:20240228T200326Z
UID:13475-1709409600-1709420400@bearslooking.com
SUMMARY:Saturday Night ALL AGES 8pm - 11pm Admission only
DESCRIPTION:Admission ticket only. Skate rentals must be purchased at the window ($8.00) if you don’t bring your own skates.
URL:https://bearslooking.com/event/saturday-night-all-ages-8pm-11pm-admission-only-6/
LOCATION:Moonlight Rollerway\, Inc.\, 5110 San Fernando Road\, Glendale\, CA\, 91204\, United States
CATEGORIES:Party
ATTACH;FMTTYPE=image/jpeg:https://bearslooking.com/wp-content/uploads/2024/02/f1ab04d02127a8a6cb1530f1cf5a6a92.jpg
END:VEVENT
BEGIN:VEVENT
DTSTART;TZID=America/Los_Angeles:20240303T200000
DTEND;TZID=America/Los_Angeles:20240303T230000
DTSTAMP:20260421T164214
CREATED:20240228T200327Z
LAST-MODIFIED:20240228T200327Z
UID:13477-1709496000-1709506800@bearslooking.com
SUMMARY:Sunday Night ALL AGES 8pm - 11pm Admission only
DESCRIPTION:Admission ticket only. Skate rentals must be purchased at the window ($8.00) if you don’t bring your own skates.
URL:https://bearslooking.com/event/sunday-night-all-ages-8pm-11pm-admission-only-9/
LOCATION:Moonlight Rollerway\, Inc.\, 5110 San Fernando Road\, Glendale\, CA\, 91204\, United States
CATEGORIES:Party
ATTACH;FMTTYPE=image/jpeg:https://bearslooking.com/wp-content/uploads/2024/02/892bb0c565123d57b705ff65d050b55b.jpg
END:VEVENT
BEGIN:VEVENT
DTSTART;TZID=America/Los_Angeles:20240304T200000
DTEND;TZID=America/Los_Angeles:20240304T230000
DTSTAMP:20260421T164214
CREATED:20240228T200327Z
LAST-MODIFIED:20240228T200327Z
UID:13479-1709582400-1709593200@bearslooking.com
SUMMARY:Monday Night 18 and over only 8pm - 11pm Admission only
DESCRIPTION:Admission ticket only. Skate rentals must be purchased at the window ($8.00) if you don’t bring your own skates.
URL:https://bearslooking.com/event/monday-night-18-and-over-only-8pm-11pm-admission-only-9/
LOCATION:Moonlight Rollerway\, Inc.\, 5110 San Fernando Road\, Glendale\, CA\, 91204\, United States
CATEGORIES:Party
ATTACH;FMTTYPE=image/jpeg:https://bearslooking.com/wp-content/uploads/2024/02/36c5a21dd525e5be1281d1d3cfd0ce09.jpg
END:VEVENT
BEGIN:VEVENT
DTSTART;TZID=America/Los_Angeles:20240305T190000
DTEND;TZID=America/Los_Angeles:20240305T230000
DTSTAMP:20260421T164214
CREATED:20240228T200328Z
LAST-MODIFIED:20240228T200328Z
UID:13481-1709665200-1709679600@bearslooking.com
SUMMARY:Adult Skating Class - All Levels
DESCRIPTION:Admission ticket only. Skate rentals must be purchased at the window ($8.00) if you don’t bring your own skates.\n\n\nThis class teaches the basic fundamentals of roller skating including balance\, good posture\, starting and stopping\, and how to get up safely. Forward and backward skating\, two foot turns and skating in time to music. Skaters in this class will also learn forward and backward dance steps. All of our instructors are certified by U.S.A. Roller Sports and the Society of Roller Skating Teachers of America. Your cost includes the class and the ability to stay after for the public session to practice. SKATE RENTAL IS EXTRA at the door.
URL:https://bearslooking.com/event/adult-skating-class-all-levels-9/
LOCATION:Moonlight Rollerway\, Inc.\, 5110 San Fernando Road\, Glendale\, CA\, 91204\, United States
CATEGORIES:Party
ATTACH;FMTTYPE=image/jpeg:https://bearslooking.com/wp-content/uploads/2024/02/0d1fd3ec898e8ceb0ac6a0c1e7417c97.jpg
END:VEVENT
BEGIN:VEVENT
DTSTART;TZID=America/Los_Angeles:20240305T200000
DTEND;TZID=America/Los_Angeles:20240305T230000
DTSTAMP:20260421T164214
CREATED:20240228T200329Z
LAST-MODIFIED:20240228T200329Z
UID:13483-1709668800-1709679600@bearslooking.com
SUMMARY:Tuesday Night ALL AGES 8pm - 11pm
DESCRIPTION:Admission ticket only. Skate rentals must be purchased at the window ($8.00) if you don’t bring your own skates.
URL:https://bearslooking.com/event/tuesday-night-all-ages-8pm-11pm-27/
LOCATION:Moonlight Rollerway\, Inc.\, 5110 San Fernando Road\, Glendale\, CA\, 91204\, United States
CATEGORIES:Party
ATTACH;FMTTYPE=image/jpeg:https://bearslooking.com/wp-content/uploads/2024/02/aebc1d5a463e3d72f7d92a0a0eca10df.jpg
END:VEVENT
BEGIN:VEVENT
DTSTART;TZID=America/Los_Angeles:20240306T200000
DTEND;TZID=America/Los_Angeles:20240306T230000
DTSTAMP:20260421T164214
CREATED:20240306T201732Z
LAST-MODIFIED:20240306T201732Z
UID:13560-1709755200-1709766000@bearslooking.com
SUMMARY:Rainbow/Disco Skate Night ALL AGES 8pm - 11pm
DESCRIPTION:Disco classics from 70’s and 80’s Admission ticket only. Skate rentals must be purchased at the window ($8.00) if you don’t bring your own\n\n\nLA’s premier LGBTQ+ skate night! Wednesday night all ages 8 PM to 11 PM.  \nAdmission ticket only. Skate rental available at the door ($8.00).
URL:https://bearslooking.com/event/rainbow-disco-skate-night-all-ages-8pm-11pm-9/
LOCATION:Moonlight Rollerway\, Inc.\, 5110 San Fernando Road\, Glendale\, CA\, 91204\, United States
CATEGORIES:Party
ATTACH;FMTTYPE=image/jpeg:https://bearslooking.com/wp-content/uploads/2024/03/705710ff06ed477c193873b8f531e227.jpg
END:VEVENT
BEGIN:VEVENT
DTSTART;TZID=America/Los_Angeles:20240307T200000
DTEND;TZID=America/Los_Angeles:20240307T230000
DTSTAMP:20260421T164214
CREATED:20240306T201732Z
LAST-MODIFIED:20240306T201732Z
UID:13562-1709841600-1709852400@bearslooking.com
SUMMARY:CLOSED FOR A PRIVATE EVENT
DESCRIPTION:Closed for a private event
URL:https://bearslooking.com/event/closed-for-a-private-event-2/
LOCATION:Moonlight Rollerway\, Inc.\, 5110 San Fernando Road\, Glendale\, CA\, 91204\, United States
CATEGORIES:Party
ATTACH;FMTTYPE=image/jpeg:https://bearslooking.com/wp-content/uploads/2024/03/06411465f56c8be5387035e653297522.jpg
END:VEVENT
BEGIN:VEVENT
DTSTART;TZID=America/Los_Angeles:20240308T200000
DTEND;TZID=America/Los_Angeles:20240308T230000
DTSTAMP:20260421T164214
CREATED:20240306T201733Z
LAST-MODIFIED:20240306T201733Z
UID:13564-1709928000-1709938800@bearslooking.com
SUMMARY:Friday Night ALL AGES 8pm - 11pm Admission only
DESCRIPTION:Admission ticket only. Skate rentals must be purchased at the window ($8.00) if you don’t bring your own skates.
URL:https://bearslooking.com/event/friday-night-all-ages-8pm-11pm-admission-only-7/
LOCATION:Moonlight Rollerway\, Inc.\, 5110 San Fernando Road\, Glendale\, CA\, 91204\, United States
CATEGORIES:Party
ATTACH;FMTTYPE=image/jpeg:https://bearslooking.com/wp-content/uploads/2024/03/2698b80f29f5a4b4ea550001b061e0af.jpg
END:VEVENT
BEGIN:VEVENT
DTSTART;TZID=America/Los_Angeles:20240309T200000
DTEND;TZID=America/Los_Angeles:20240309T230000
DTSTAMP:20260421T164214
CREATED:20240214T200431Z
LAST-MODIFIED:20240306T201733Z
UID:13316-1710014400-1710025200@bearslooking.com
SUMMARY:Latin Greats Night ALL AGES 8pm - 11pm Admission only
DESCRIPTION:Admission ticket only. Skate rentals must be purchased at the window ($8.00) if you don’t bring your own skates.
URL:https://bearslooking.com/event/latin-greats-night-all-ages-8pm-11pm-admission-only/
LOCATION:Moonlight Rollerway\, Inc.\, 5110 San Fernando Road\, Glendale\, CA\, 91204\, United States
CATEGORIES:Party
ATTACH;FMTTYPE=image/jpeg:https://bearslooking.com/wp-content/uploads/2024/02/6339ddde54c0fb911c2749ec8bf08bc6.jpg
END:VEVENT
END:VCALENDAR