BEGIN:VCALENDAR
VERSION:2.0
PRODID:-// - ECPv6.12.0.1//NONSGML v1.0//EN
CALSCALE:GREGORIAN
METHOD:PUBLISH
X-ORIGINAL-URL:https://bearslooking.com
X-WR-CALDESC:Events for 
REFRESH-INTERVAL;VALUE=DURATION:PT1H
X-Robots-Tag:noindex
X-PUBLISHED-TTL:PT1H
BEGIN:VTIMEZONE
TZID:America/Los_Angeles
BEGIN:DAYLIGHT
TZOFFSETFROM:-0800
TZOFFSETTO:-0700
TZNAME:PDT
DTSTART:20240310T100000
END:DAYLIGHT
BEGIN:STANDARD
TZOFFSETFROM:-0700
TZOFFSETTO:-0800
TZNAME:PST
DTSTART:20241103T090000
END:STANDARD
END:VTIMEZONE
BEGIN:VEVENT
DTSTART;TZID=America/Los_Angeles:20240412T200000
DTEND;TZID=America/Los_Angeles:20240412T230000
DTSTAMP:20260419T202925
CREATED:20240410T204654Z
LAST-MODIFIED:20240410T204654Z
UID:14099-1712952000-1712962800@bearslooking.com
SUMMARY:Friday Night ALL AGES 8pm - 11pm Admission only
DESCRIPTION:Admission ticket only. Skate rentals must be purchased at the window ($8.00) if you don’t bring your own skates.
URL:https://bearslooking.com/event/friday-night-all-ages-8pm-11pm-admission-only-12/
LOCATION:Moonlight Rollerway\, Inc.\, 5110 San Fernando Road\, Glendale\, CA\, 91204\, United States
CATEGORIES:Party
ATTACH;FMTTYPE=image/jpeg:https://bearslooking.com/wp-content/uploads/2024/04/1bb85559c609a1e25f46ff407cb69639.jpg
END:VEVENT
BEGIN:VEVENT
DTSTART;TZID=America/Los_Angeles:20240413T200000
DTEND;TZID=America/Los_Angeles:20240413T230000
DTSTAMP:20260419T202925
CREATED:20240410T204654Z
LAST-MODIFIED:20240410T204654Z
UID:14101-1713038400-1713049200@bearslooking.com
SUMMARY:Saturday Night ALL AGES 8pm - 11pm Admission only
DESCRIPTION:Admission ticket only. Skate rentals must be purchased at the window ($8.00) if you don’t bring your own skates.
URL:https://bearslooking.com/event/saturday-night-all-ages-8pm-11pm-admission-only-9/
LOCATION:Moonlight Rollerway\, Inc.\, 5110 San Fernando Road\, Glendale\, CA\, 91204\, United States
CATEGORIES:Party
ATTACH;FMTTYPE=image/jpeg:https://bearslooking.com/wp-content/uploads/2024/04/131927d54bdb8413305ac69602b52efe.jpg
END:VEVENT
BEGIN:VEVENT
DTSTART;TZID=America/Los_Angeles:20240414T200000
DTEND;TZID=America/Los_Angeles:20240414T230000
DTSTAMP:20260419T202925
CREATED:20240410T204654Z
LAST-MODIFIED:20240410T204654Z
UID:14103-1713124800-1713135600@bearslooking.com
SUMMARY:Sunday Night ALL AGES 8pm - 11pm Admission only
DESCRIPTION:Admission ticket only. Skate rentals must be purchased at the window ($8.00) if you don’t bring your own skates.
URL:https://bearslooking.com/event/sunday-night-all-ages-8pm-11pm-admission-only-14/
LOCATION:Moonlight Rollerway\, Inc.\, 5110 San Fernando Road\, Glendale\, CA\, 91204\, United States
CATEGORIES:Party
ATTACH;FMTTYPE=image/jpeg:https://bearslooking.com/wp-content/uploads/2024/04/3b14eb0fc68eb76568f98c8d366a6318.jpg
END:VEVENT
BEGIN:VEVENT
DTSTART;TZID=America/Los_Angeles:20240415T200000
DTEND;TZID=America/Los_Angeles:20240415T230000
DTSTAMP:20260419T202925
CREATED:20240410T204655Z
LAST-MODIFIED:20240410T204655Z
UID:14105-1713211200-1713222000@bearslooking.com
SUMMARY:Monday Night 18 and over only 8pm - 11pm Admission only
DESCRIPTION:Admission ticket only. Skate rentals must be purchased at the window ($8.00) if you don’t bring your own skates.
URL:https://bearslooking.com/event/monday-night-18-and-over-only-8pm-11pm-admission-only-15/
LOCATION:Moonlight Rollerway\, Inc.\, 5110 San Fernando Road\, Glendale\, CA\, 91204\, United States
CATEGORIES:Party
ATTACH;FMTTYPE=image/jpeg:https://bearslooking.com/wp-content/uploads/2024/04/cb449ace7d4902b8c284b9a7dea4b6c3.jpg
END:VEVENT
BEGIN:VEVENT
DTSTART;TZID=America/Los_Angeles:20240416T190000
DTEND;TZID=America/Los_Angeles:20240416T230000
DTSTAMP:20260419T202925
CREATED:20240410T204655Z
LAST-MODIFIED:20240410T204655Z
UID:14107-1713294000-1713308400@bearslooking.com
SUMMARY:Adult Skating Class - All Levels
DESCRIPTION:Admission ticket only. Skate rentals must be purchased at the window ($8.00) if you don’t bring your own skates.\n\n\nThis class teaches the basic fundamentals of roller skating including balance\, good posture\, starting and stopping\, and how to get up safely. Forward and backward skating\, two foot turns and skating in time to music. Skaters in this class will also learn forward and backward dance steps. All of our instructors are certified by U.S.A. Roller Sports and the Society of Roller Skating Teachers of America. Your cost includes the class and the ability to stay after for the public session to practice. SKATE RENTAL IS EXTRA at the door.
URL:https://bearslooking.com/event/adult-skating-class-all-levels-15/
LOCATION:Moonlight Rollerway\, Inc.\, 5110 San Fernando Road\, Glendale\, CA\, 91204\, United States
CATEGORIES:Party
ATTACH;FMTTYPE=image/jpeg:https://bearslooking.com/wp-content/uploads/2024/04/ebdb98e4327c39779b03d60a0608283f.jpg
END:VEVENT
BEGIN:VEVENT
DTSTART;TZID=America/Los_Angeles:20240416T200000
DTEND;TZID=America/Los_Angeles:20240416T230000
DTSTAMP:20260419T202925
CREATED:20240410T204656Z
LAST-MODIFIED:20240410T204656Z
UID:14109-1713297600-1713308400@bearslooking.com
SUMMARY:Tuesday Night ALL AGES 8pm - 11pm
DESCRIPTION:Admission ticket only. Skate rentals must be purchased at the window ($8.00) if you don’t bring your own skates.
URL:https://bearslooking.com/event/tuesday-night-all-ages-8pm-11pm-33/
LOCATION:Moonlight Rollerway\, Inc.\, 5110 San Fernando Road\, Glendale\, CA\, 91204\, United States
CATEGORIES:Party
ATTACH;FMTTYPE=image/jpeg:https://bearslooking.com/wp-content/uploads/2024/04/b483b92e6f885aa44a02d3974a5b940b.jpg
END:VEVENT
BEGIN:VEVENT
DTSTART;TZID=America/Los_Angeles:20240417T200000
DTEND;TZID=America/Los_Angeles:20240417T230000
DTSTAMP:20260419T202925
CREATED:20240417T204722Z
LAST-MODIFIED:20240417T204722Z
UID:14209-1713384000-1713394800@bearslooking.com
SUMMARY:Rainbow/Disco Skate Night ALL AGES 8pm - 11pm
DESCRIPTION:Admission ticket only. Skate rentals must be purchased at the window ($8.00) if you don’t bring your own skates.\n\n\nLA’s premier LGBTQ+ skate night! Wednesday night all ages 8 PM to 11 PM.  \nAdmission ticket only. Skate rental available at the door ($8.00).
URL:https://bearslooking.com/event/rainbow-disco-skate-night-all-ages-8pm-11pm-15/
LOCATION:Moonlight Rollerway\, Inc.\, 5110 San Fernando Road\, Glendale\, CA\, 91204\, United States
CATEGORIES:Party
ATTACH;FMTTYPE=image/jpeg:https://bearslooking.com/wp-content/uploads/2024/04/87d8c35d596b2209aaf2a3eb515655d2.jpg
END:VEVENT
BEGIN:VEVENT
DTSTART;TZID=America/Los_Angeles:20240418T200000
DTEND;TZID=America/Los_Angeles:20240418T230000
DTSTAMP:20260419T202925
CREATED:20240417T204722Z
LAST-MODIFIED:20240417T204722Z
UID:14211-1713470400-1713481200@bearslooking.com
SUMMARY:Thursday Throwback Skate Night ALL AGES 8pm - 11pm
DESCRIPTION:Admission ticket only. Skate rentals must be purchased at the window ($8.00) if you don’t bring your own skates.
URL:https://bearslooking.com/event/thursday-throwback-skate-night-all-ages-8pm-11pm-13/
LOCATION:Moonlight Rollerway\, Inc.\, 5110 San Fernando Road\, Glendale\, CA\, 91204\, United States
CATEGORIES:Party
ATTACH;FMTTYPE=image/jpeg:https://bearslooking.com/wp-content/uploads/2024/04/5d9c4dfcf90528a3108cc751635c7c8f.jpg
END:VEVENT
BEGIN:VEVENT
DTSTART;TZID=America/Los_Angeles:20240419T200000
DTEND;TZID=America/Los_Angeles:20240419T230000
DTSTAMP:20260419T202925
CREATED:20240327T204643Z
LAST-MODIFIED:20240417T204722Z
UID:13870-1713556800-1713567600@bearslooking.com
SUMMARY:TS Tortured Poets Skate Night ALL AGES 8pm - 11pm Admission only
DESCRIPTION:Admission ticket only. Skate rentals must be purchased at the window ($8.00) if you don’t bring your own skates.\n\n\nWelcome to the TS Tortured Poets Skate Night! Get ready for a night of skating fun for all ages. Join us on Fri Apr 19 2024 at 8pm at Moonlight Rollerway\, Inc. \nCome and express your inner poet on wheels as we glide through the night to the beat of our favorite Taylor Swift tunes. Whether you’re a seasoned skater or a newbie\, this event is open to everyone. So grab your friends and family for a night of laughs\, singing and skating! \nAdmission is only for the event\, so make sure to arrive early to secure your spot. Don’t miss out on this unique and exciting experience. See you there!
URL:https://bearslooking.com/event/ts-tortured-poets-skate-night-all-ages-8pm-11pm-admission-only/
LOCATION:Moonlight Rollerway\, Inc.\, 5110 San Fernando Road\, Glendale\, CA\, 91204\, United States
CATEGORIES:Party
ATTACH;FMTTYPE=image/jpeg:https://bearslooking.com/wp-content/uploads/2024/03/9cc526cb72bd0d8de02a0311c1f78438.jpg
END:VEVENT
BEGIN:VEVENT
DTSTART;TZID=America/Los_Angeles:20240420T200000
DTEND;TZID=America/Los_Angeles:20240420T230000
DTSTAMP:20260419T202925
CREATED:20240417T204722Z
LAST-MODIFIED:20240417T204722Z
UID:14213-1713643200-1713654000@bearslooking.com
SUMMARY:Saturday Night ALL AGES 8pm - 11pm Admission only
DESCRIPTION:Admission ticket only. Skate rentals must be purchased at the window ($8.00) if you don’t bring your own skates.
URL:https://bearslooking.com/event/saturday-night-all-ages-8pm-11pm-admission-only-10/
LOCATION:Moonlight Rollerway\, Inc.\, 5110 San Fernando Road\, Glendale\, CA\, 91204\, United States
CATEGORIES:Party
ATTACH;FMTTYPE=image/jpeg:https://bearslooking.com/wp-content/uploads/2024/04/be291cc624a536dfb279ba92ad9c4249.jpg
END:VEVENT
BEGIN:VEVENT
DTSTART;TZID=America/Los_Angeles:20240421T200000
DTEND;TZID=America/Los_Angeles:20240421T230000
DTSTAMP:20260419T202925
CREATED:20240417T204722Z
LAST-MODIFIED:20240417T204722Z
UID:14215-1713729600-1713740400@bearslooking.com
SUMMARY:Sunday Night ALL AGES 8pm - 11pm Admission only
DESCRIPTION:Admission ticket only. Skate rentals must be purchased at the window ($8.00) if you don’t bring your own skates.
URL:https://bearslooking.com/event/sunday-night-all-ages-8pm-11pm-admission-only-15/
LOCATION:Moonlight Rollerway\, Inc.\, 5110 San Fernando Road\, Glendale\, CA\, 91204\, United States
CATEGORIES:Party
ATTACH;FMTTYPE=image/jpeg:https://bearslooking.com/wp-content/uploads/2024/04/d451008122810520bdcf044ae4b6f7f7.jpg
END:VEVENT
BEGIN:VEVENT
DTSTART;TZID=America/Los_Angeles:20240422T200000
DTEND;TZID=America/Los_Angeles:20240422T230000
DTSTAMP:20260419T202925
CREATED:20240417T204723Z
LAST-MODIFIED:20240417T204723Z
UID:14217-1713816000-1713826800@bearslooking.com
SUMMARY:Monday Night 18 and over only 8pm - 11pm Admission only
DESCRIPTION:Admission ticket only. Skate rentals must be purchased at the window ($8.00) if you don’t bring your own skates.
URL:https://bearslooking.com/event/monday-night-18-and-over-only-8pm-11pm-admission-only-16/
LOCATION:Moonlight Rollerway\, Inc.\, 5110 San Fernando Road\, Glendale\, CA\, 91204\, United States
CATEGORIES:Party
ATTACH;FMTTYPE=image/jpeg:https://bearslooking.com/wp-content/uploads/2024/04/2ae817637efce884807c2a557a8f83f5.jpg
END:VEVENT
BEGIN:VEVENT
DTSTART;TZID=America/Los_Angeles:20240423T190000
DTEND;TZID=America/Los_Angeles:20240423T230000
DTSTAMP:20260419T202925
CREATED:20240417T204723Z
LAST-MODIFIED:20240417T204723Z
UID:14219-1713898800-1713913200@bearslooking.com
SUMMARY:Adult Skating Class - All Levels
DESCRIPTION:Admission ticket only. Skate rentals must be purchased at the window ($8.00) if you don’t bring your own skates.\n\n\nThis class teaches the basic fundamentals of roller skating including balance\, good posture\, starting and stopping\, and how to get up safely. Forward and backward skating\, two foot turns and skating in time to music. Skaters in this class will also learn forward and backward dance steps. All of our instructors are certified by U.S.A. Roller Sports and the Society of Roller Skating Teachers of America. Your cost includes the class and the ability to stay after for the public session to practice. SKATE RENTAL IS EXTRA at the door.
URL:https://bearslooking.com/event/adult-skating-class-all-levels-16/
LOCATION:Moonlight Rollerway\, Inc.\, 5110 San Fernando Road\, Glendale\, CA\, 91204\, United States
CATEGORIES:Party
ATTACH;FMTTYPE=image/jpeg:https://bearslooking.com/wp-content/uploads/2024/04/324a1a4914ee3254dfdd543bbfaacd24.jpg
END:VEVENT
BEGIN:VEVENT
DTSTART;TZID=America/Los_Angeles:20240423T200000
DTEND;TZID=America/Los_Angeles:20240423T230000
DTSTAMP:20260419T202925
CREATED:20240417T204724Z
LAST-MODIFIED:20240417T204724Z
UID:14221-1713902400-1713913200@bearslooking.com
SUMMARY:Tuesday Night ALL AGES 8pm - 11pm
DESCRIPTION:Admission ticket only. Skate rentals must be purchased at the window ($8.00) if you don’t bring your own skates.
URL:https://bearslooking.com/event/tuesday-night-all-ages-8pm-11pm-34/
LOCATION:Moonlight Rollerway\, Inc.\, 5110 San Fernando Road\, Glendale\, CA\, 91204\, United States
CATEGORIES:Party
ATTACH;FMTTYPE=image/jpeg:https://bearslooking.com/wp-content/uploads/2024/04/a27e3e7c4880f0f2a49800d1f7612b9a.jpg
END:VEVENT
BEGIN:VEVENT
DTSTART;TZID=America/Los_Angeles:20240424T200000
DTEND;TZID=America/Los_Angeles:20240424T230000
DTSTAMP:20260419T202925
CREATED:20240424T204707Z
LAST-MODIFIED:20240424T204711Z
UID:14313-1713988800-1713999600@bearslooking.com
SUMMARY:Rainbow/Disco Skate Night ALL AGES 8pm - 11pm
DESCRIPTION:Admission ticket only. Skate rentals must be purchased at the window ($8.00) if you don’t bring your own skates.\n\n\nLA’s premier LGBTQ+ skate night! Wednesday night all ages 8 PM to 11 PM.  \nAdmission ticket only. Skate rental available at the door ($8.00).
URL:https://bearslooking.com/event/rainbow-disco-skate-night-all-ages-8pm-11pm-16/
LOCATION:Moonlight Rollerway\, Inc.\, 5110 San Fernando Road\, Glendale\, CA\, 91204\, United States
CATEGORIES:Party
ATTACH;FMTTYPE=image/jpeg:https://bearslooking.com/wp-content/uploads/2024/04/660ab2b4e59bd24977395f28a38d8fb2.jpg
END:VEVENT
BEGIN:VEVENT
DTSTART;TZID=America/Los_Angeles:20240425T200000
DTEND;TZID=America/Los_Angeles:20240425T230000
DTSTAMP:20260419T202925
CREATED:20240424T204707Z
LAST-MODIFIED:20240424T204712Z
UID:14315-1714075200-1714086000@bearslooking.com
SUMMARY:Thursday Throwback Skate Night ALL AGES 8pm - 11pm
DESCRIPTION:Admission ticket only. Skate rentals must be purchased at the window ($8.00) if you don’t bring your own skates.
URL:https://bearslooking.com/event/thursday-throwback-skate-night-all-ages-8pm-11pm-14/
LOCATION:Moonlight Rollerway\, Inc.\, 5110 San Fernando Road\, Glendale\, CA\, 91204\, United States
CATEGORIES:Party
ATTACH;FMTTYPE=image/jpeg:https://bearslooking.com/wp-content/uploads/2024/04/f4f0c00e773788a5a01be94cb6c7b86a.jpg
END:VEVENT
BEGIN:VEVENT
DTSTART;TZID=America/Los_Angeles:20240426T200000
DTEND;TZID=America/Los_Angeles:20240426T230000
DTSTAMP:20260419T202925
CREATED:20240424T204707Z
LAST-MODIFIED:20240424T204712Z
UID:14317-1714161600-1714172400@bearslooking.com
SUMMARY:Friday Night ALL AGES 8pm - 11pm Admission only
DESCRIPTION:Admission ticket only. Skate rentals must be purchased at the window ($8.00) if you don’t bring your own skates.
URL:https://bearslooking.com/event/friday-night-all-ages-8pm-11pm-admission-only-13/
LOCATION:Moonlight Rollerway\, Inc.\, 5110 San Fernando Road\, Glendale\, CA\, 91204\, United States
CATEGORIES:Party
ATTACH;FMTTYPE=image/jpeg:https://bearslooking.com/wp-content/uploads/2024/04/63aafb43825f33fbac0753a2974980d9.jpg
END:VEVENT
BEGIN:VEVENT
DTSTART;TZID=America/Los_Angeles:20240427T200000
DTEND;TZID=America/Los_Angeles:20240427T230000
DTSTAMP:20260419T202925
CREATED:20240424T204707Z
LAST-MODIFIED:20240424T204712Z
UID:14319-1714248000-1714258800@bearslooking.com
SUMMARY:Saturday Night ALL AGES 8pm - 11pm Admission only
DESCRIPTION:Admission ticket only. Skate rentals must be purchased at the window ($8.00) if you don’t bring your own skates.
URL:https://bearslooking.com/event/saturday-night-all-ages-8pm-11pm-admission-only-11/
LOCATION:Moonlight Rollerway\, Inc.\, 5110 San Fernando Road\, Glendale\, CA\, 91204\, United States
CATEGORIES:Party
ATTACH;FMTTYPE=image/jpeg:https://bearslooking.com/wp-content/uploads/2024/04/b80437993cf174f0d272a01ddaf8f275.jpg
END:VEVENT
BEGIN:VEVENT
DTSTART;TZID=America/Los_Angeles:20240428T200000
DTEND;TZID=America/Los_Angeles:20240428T230000
DTSTAMP:20260419T202925
CREATED:20240424T204707Z
LAST-MODIFIED:20240424T204712Z
UID:14321-1714334400-1714345200@bearslooking.com
SUMMARY:Sunday Night ALL AGES 8pm - 11pm Admission only
DESCRIPTION:Admission ticket only. Skate rentals must be purchased at the window ($8.00) if you don’t bring your own skates.
URL:https://bearslooking.com/event/sunday-night-all-ages-8pm-11pm-admission-only-16/
LOCATION:Moonlight Rollerway\, Inc.\, 5110 San Fernando Road\, Glendale\, CA\, 91204\, United States
CATEGORIES:Party
ATTACH;FMTTYPE=image/jpeg:https://bearslooking.com/wp-content/uploads/2024/04/9de58076b357e139c46d1aabb45fb9c8.jpg
END:VEVENT
BEGIN:VEVENT
DTSTART;TZID=America/Los_Angeles:20240429T200000
DTEND;TZID=America/Los_Angeles:20240429T230000
DTSTAMP:20260419T202925
CREATED:20240424T204708Z
LAST-MODIFIED:20240424T204712Z
UID:14323-1714420800-1714431600@bearslooking.com
SUMMARY:Monday Night 18 and over only 8pm - 11pm Admission only
DESCRIPTION:Admission ticket only. Skate rentals must be purchased at the window ($8.00) if you don’t bring your own skates.
URL:https://bearslooking.com/event/monday-night-18-and-over-only-8pm-11pm-admission-only-17/
LOCATION:Moonlight Rollerway\, Inc.\, 5110 San Fernando Road\, Glendale\, CA\, 91204\, United States
CATEGORIES:Party
ATTACH;FMTTYPE=image/jpeg:https://bearslooking.com/wp-content/uploads/2024/04/d6a5023760e1fe7939a7c20997ea87f0.jpg
END:VEVENT
BEGIN:VEVENT
DTSTART;TZID=America/Los_Angeles:20240430T190000
DTEND;TZID=America/Los_Angeles:20240430T230000
DTSTAMP:20260419T202925
CREATED:20240424T204708Z
LAST-MODIFIED:20240424T204712Z
UID:14325-1714503600-1714518000@bearslooking.com
SUMMARY:Adult Skating Class - All Levels
DESCRIPTION:Admission ticket only. Skate rentals must be purchased at the window ($8.00) if you don’t bring your own skates.\n\n\nThis class teaches the basic fundamentals of roller skating including balance\, good posture\, starting and stopping\, and how to get up safely. Forward and backward skating\, two foot turns and skating in time to music. Skaters in this class will also learn forward and backward dance steps. All of our instructors are certified by U.S.A. Roller Sports and the Society of Roller Skating Teachers of America. Your cost includes the class and the ability to stay after for the public session to practice. SKATE RENTAL IS EXTRA at the door.
URL:https://bearslooking.com/event/adult-skating-class-all-levels-17/
LOCATION:Moonlight Rollerway\, Inc.\, 5110 San Fernando Road\, Glendale\, CA\, 91204\, United States
CATEGORIES:Party
ATTACH;FMTTYPE=image/jpeg:https://bearslooking.com/wp-content/uploads/2024/04/15ee9abbd4892f05d38c06ee6bc7c28d.jpg
END:VEVENT
BEGIN:VEVENT
DTSTART;TZID=America/Los_Angeles:20240430T200000
DTEND;TZID=America/Los_Angeles:20240430T230000
DTSTAMP:20260419T202925
CREATED:20240424T204709Z
LAST-MODIFIED:20240424T204712Z
UID:14327-1714507200-1714518000@bearslooking.com
SUMMARY:Tuesday Night ALL AGES 8pm - 11pm
DESCRIPTION:Admission ticket only. Skate rentals must be purchased at the window ($8.00) if you don’t bring your own skates.
URL:https://bearslooking.com/event/tuesday-night-all-ages-8pm-11pm-35/
LOCATION:Moonlight Rollerway\, Inc.\, 5110 San Fernando Road\, Glendale\, CA\, 91204\, United States
CATEGORIES:Party
ATTACH;FMTTYPE=image/jpeg:https://bearslooking.com/wp-content/uploads/2024/04/42fc5f209ac8b6035126ba4033a55946.jpg
END:VEVENT
BEGIN:VEVENT
DTSTART;TZID=America/Los_Angeles:20240501T200000
DTEND;TZID=America/Los_Angeles:20240501T230000
DTSTAMP:20260419T202925
CREATED:20240501T204627Z
LAST-MODIFIED:20240501T204631Z
UID:14426-1714593600-1714604400@bearslooking.com
SUMMARY:Rainbow/Disco Skate Night ALL AGES 8pm - 11pm
DESCRIPTION:Admission ticket only. Skate rentals must be purchased at the window ($8.00) if you don’t bring your own skates.\n\n\nLA’s premier LGBTQ+ skate night! Wednesday night all ages 8 PM to 11 PM.  \nAdmission ticket only. Skate rental available at the door ($8.00).
URL:https://bearslooking.com/event/rainbow-disco-skate-night-all-ages-8pm-11pm-17/
LOCATION:Moonlight Rollerway\, Inc.\, 5110 San Fernando Road\, Glendale\, CA\, 91204\, United States
CATEGORIES:Party
ATTACH;FMTTYPE=image/jpeg:https://bearslooking.com/wp-content/uploads/2024/05/04bae1042d81923de00d20df2b6198ca.jpg
END:VEVENT
BEGIN:VEVENT
DTSTART;TZID=America/Los_Angeles:20240502T200000
DTEND;TZID=America/Los_Angeles:20240502T230000
DTSTAMP:20260419T202925
CREATED:20240501T204628Z
LAST-MODIFIED:20240501T204631Z
UID:14428-1714680000-1714690800@bearslooking.com
SUMMARY:Thursday Throwback Skate Night ALL AGES 8pm - 11pm
DESCRIPTION:Admission ticket only. Skate rentals must be purchased at the window ($8.00) if you don’t bring your own skates.
URL:https://bearslooking.com/event/thursday-throwback-skate-night-all-ages-8pm-11pm-15/
LOCATION:Moonlight Rollerway\, Inc.\, 5110 San Fernando Road\, Glendale\, CA\, 91204\, United States
CATEGORIES:Party
ATTACH;FMTTYPE=image/jpeg:https://bearslooking.com/wp-content/uploads/2024/05/79b89ff15ec01c66cb5a511d555afadb.jpg
END:VEVENT
BEGIN:VEVENT
DTSTART;TZID=America/Los_Angeles:20240503T200000
DTEND;TZID=America/Los_Angeles:20240503T230000
DTSTAMP:20260419T202925
CREATED:20240501T204628Z
LAST-MODIFIED:20240501T204631Z
UID:14430-1714766400-1714777200@bearslooking.com
SUMMARY:Friday Night ALL AGES 8pm - 11pm Admission only
DESCRIPTION:Admission ticket only. Skate rentals must be purchased at the window ($8.00) if you don’t bring your own skates.
URL:https://bearslooking.com/event/friday-night-all-ages-8pm-11pm-admission-only-14/
LOCATION:Moonlight Rollerway\, Inc.\, 5110 San Fernando Road\, Glendale\, CA\, 91204\, United States
CATEGORIES:Party
ATTACH;FMTTYPE=image/jpeg:https://bearslooking.com/wp-content/uploads/2024/05/560d4b0141bd21daea8a9c13effd383a.jpg
END:VEVENT
BEGIN:VEVENT
DTSTART;TZID=America/Los_Angeles:20240504T200000
DTEND;TZID=America/Los_Angeles:20240504T230000
DTSTAMP:20260419T202925
CREATED:20240501T204628Z
LAST-MODIFIED:20240501T204631Z
UID:14432-1714852800-1714863600@bearslooking.com
SUMMARY:Saturday Night ALL AGES 8pm - 11pm Admission only
DESCRIPTION:Admission ticket only. Skate rentals must be purchased at the window ($8.00) if you don’t bring your own skates.
URL:https://bearslooking.com/event/saturday-night-all-ages-8pm-11pm-admission-only-12/
LOCATION:Moonlight Rollerway\, Inc.\, 5110 San Fernando Road\, Glendale\, CA\, 91204\, United States
CATEGORIES:Party
ATTACH;FMTTYPE=image/jpeg:https://bearslooking.com/wp-content/uploads/2024/05/785e7fcbd4ad4fa5b1daff6616140c40.jpg
END:VEVENT
BEGIN:VEVENT
DTSTART;TZID=America/Los_Angeles:20240505T200000
DTEND;TZID=America/Los_Angeles:20240505T230000
DTSTAMP:20260419T202925
CREATED:20240410T204657Z
LAST-MODIFIED:20240501T204631Z
UID:14111-1714939200-1714950000@bearslooking.com
SUMMARY:Cinco de Mayo Skate Night ALL AGES 8pm - 11pm Admission only
DESCRIPTION:Admission ticket only. Skate rentals must be purchased at the window ($8.00) if you don’t bring your own skates.\n\n\nCinco de Mayo Skate Night \nCelebrate Cinco de Mayo with us at Moonlight Rollerway\, Inc.! Join us for a fun-filled evening of skating for all ages. Grab your friends and family and come skate with us from 8pm to 11pm on Sunday\, May 5th\, 2024. Admission only\, so don’t miss out on this exciting event!
URL:https://bearslooking.com/event/cinco-de-mayo-skate-night-all-ages-8pm-11pm-admission-only/
LOCATION:Moonlight Rollerway\, Inc.\, 5110 San Fernando Road\, Glendale\, CA\, 91204\, United States
CATEGORIES:Party
ATTACH;FMTTYPE=image/jpeg:https://bearslooking.com/wp-content/uploads/2024/04/c9f10401fcb0d33a8aab8938487e7a0f.jpg
END:VEVENT
BEGIN:VEVENT
DTSTART;TZID=America/Los_Angeles:20240506T200000
DTEND;TZID=America/Los_Angeles:20240506T230000
DTSTAMP:20260419T202925
CREATED:20240501T204628Z
LAST-MODIFIED:20240501T204631Z
UID:14434-1715025600-1715036400@bearslooking.com
SUMMARY:Monday Night 18 and over only 8pm - 11pm Admission only
DESCRIPTION:Admission ticket only. Skate rentals must be purchased at the window ($8.00) if you don’t bring your own skates.
URL:https://bearslooking.com/event/monday-night-18-and-over-only-8pm-11pm-admission-only-18/
LOCATION:Moonlight Rollerway\, Inc.\, 5110 San Fernando Road\, Glendale\, CA\, 91204\, United States
CATEGORIES:Party
ATTACH;FMTTYPE=image/jpeg:https://bearslooking.com/wp-content/uploads/2024/05/55627c7d565816277c3ca984c3124000.jpg
END:VEVENT
BEGIN:VEVENT
DTSTART;TZID=America/Los_Angeles:20240507T190000
DTEND;TZID=America/Los_Angeles:20240507T230000
DTSTAMP:20260419T202925
CREATED:20240501T204628Z
LAST-MODIFIED:20240501T204631Z
UID:14436-1715108400-1715122800@bearslooking.com
SUMMARY:Adult Skating Class - All Levels
DESCRIPTION:Admission ticket only. Skate rentals must be purchased at the window ($8.00) if you don’t bring your own skates.\n\n\nThis class teaches the basic fundamentals of roller skating including balance\, good posture\, starting and stopping\, and how to get up safely. Forward and backward skating\, two foot turns and skating in time to music. Skaters in this class will also learn forward and backward dance steps. All of our instructors are certified by U.S.A. Roller Sports and the Society of Roller Skating Teachers of America. Your cost includes the class and the ability to stay after for the public session to practice. SKATE RENTAL IS EXTRA at the door.
URL:https://bearslooking.com/event/adult-skating-class-all-levels-18/
LOCATION:Moonlight Rollerway\, Inc.\, 5110 San Fernando Road\, Glendale\, CA\, 91204\, United States
CATEGORIES:Party
ATTACH;FMTTYPE=image/jpeg:https://bearslooking.com/wp-content/uploads/2024/05/ba7f33276b754987f4fd495fc645998a.jpg
END:VEVENT
BEGIN:VEVENT
DTSTART;TZID=America/Los_Angeles:20240507T200000
DTEND;TZID=America/Los_Angeles:20240507T230000
DTSTAMP:20260419T202925
CREATED:20240501T204629Z
LAST-MODIFIED:20240501T204631Z
UID:14438-1715112000-1715122800@bearslooking.com
SUMMARY:Tuesday Night ALL AGES 8pm - 11pm
DESCRIPTION:Admission ticket only. Skate rentals must be purchased at the window ($8.00) if you don’t bring your own skates.
URL:https://bearslooking.com/event/tuesday-night-all-ages-8pm-11pm-36/
LOCATION:Moonlight Rollerway\, Inc.\, 5110 San Fernando Road\, Glendale\, CA\, 91204\, United States
CATEGORIES:Party
ATTACH;FMTTYPE=image/jpeg:https://bearslooking.com/wp-content/uploads/2024/05/889d8f4d8f9ccafdcdbebda3ef9eeadb.jpg
END:VEVENT
END:VCALENDAR