BEGIN:VCALENDAR
VERSION:2.0
PRODID:-// - ECPv6.12.0.1//NONSGML v1.0//EN
CALSCALE:GREGORIAN
METHOD:PUBLISH
X-ORIGINAL-URL:https://bearslooking.com
X-WR-CALDESC:Events for 
REFRESH-INTERVAL;VALUE=DURATION:PT1H
X-Robots-Tag:noindex
X-PUBLISHED-TTL:PT1H
BEGIN:VTIMEZONE
TZID:America/Los_Angeles
BEGIN:DAYLIGHT
TZOFFSETFROM:-0800
TZOFFSETTO:-0700
TZNAME:PDT
DTSTART:20240310T100000
END:DAYLIGHT
BEGIN:STANDARD
TZOFFSETFROM:-0700
TZOFFSETTO:-0800
TZNAME:PST
DTSTART:20241103T090000
END:STANDARD
END:VTIMEZONE
BEGIN:VTIMEZONE
TZID:America/New_York
BEGIN:DAYLIGHT
TZOFFSETFROM:-0500
TZOFFSETTO:-0400
TZNAME:EDT
DTSTART:20240310T070000
END:DAYLIGHT
BEGIN:STANDARD
TZOFFSETFROM:-0400
TZOFFSETTO:-0500
TZNAME:EST
DTSTART:20241103T060000
END:STANDARD
END:VTIMEZONE
BEGIN:VEVENT
DTSTART;TZID=America/Los_Angeles:20240312T190000
DTEND;TZID=America/Los_Angeles:20240312T230000
DTSTAMP:20260419T205405
CREATED:20240306T201734Z
LAST-MODIFIED:20240306T201734Z
UID:13570-1710270000-1710284400@bearslooking.com
SUMMARY:Adult Skating Class - All Levels
DESCRIPTION:Admission ticket only. Skate rentals must be purchased at the window ($8.00) if you don’t bring your own skates.\n\n\nThis class teaches the basic fundamentals of roller skating including balance\, good posture\, starting and stopping\, and how to get up safely. Forward and backward skating\, two foot turns and skating in time to music. Skaters in this class will also learn forward and backward dance steps. All of our instructors are certified by U.S.A. Roller Sports and the Society of Roller Skating Teachers of America. Your cost includes the class and the ability to stay after for the public session to practice. SKATE RENTAL IS EXTRA at the door.
URL:https://bearslooking.com/event/adult-skating-class-all-levels-10/
LOCATION:Moonlight Rollerway\, Inc.\, 5110 San Fernando Road\, Glendale\, CA\, 91204\, United States
CATEGORIES:Party
ATTACH;FMTTYPE=image/jpeg:https://bearslooking.com/wp-content/uploads/2024/03/c9c0f224a4c209224a09c7dbc8462a1f.jpg
END:VEVENT
BEGIN:VEVENT
DTSTART;TZID=America/Los_Angeles:20240312T200000
DTEND;TZID=America/Los_Angeles:20240312T230000
DTSTAMP:20260419T205405
CREATED:20240306T201736Z
LAST-MODIFIED:20240306T201736Z
UID:13572-1710273600-1710284400@bearslooking.com
SUMMARY:Tuesday Night ALL AGES 8pm - 11pm
DESCRIPTION:Admission ticket only. Skate rentals must be purchased at the window ($8.00) if you don’t bring your own skates.
URL:https://bearslooking.com/event/tuesday-night-all-ages-8pm-11pm-28/
LOCATION:Moonlight Rollerway\, Inc.\, 5110 San Fernando Road\, Glendale\, CA\, 91204\, United States
CATEGORIES:Party
ATTACH;FMTTYPE=image/jpeg:https://bearslooking.com/wp-content/uploads/2024/03/252bda02fd9185c43a89de8d17ce18a7.jpg
END:VEVENT
BEGIN:VEVENT
DTSTART;TZID=America/Los_Angeles:20240313T200000
DTEND;TZID=America/Los_Angeles:20240313T230000
DTSTAMP:20260419T205405
CREATED:20240313T203234Z
LAST-MODIFIED:20240313T203234Z
UID:13661-1710360000-1710370800@bearslooking.com
SUMMARY:Rainbow/Disco Skate Night ALL AGES 8pm - 11pm
DESCRIPTION:Disco classics from 70’s and 80’s Admission ticket only. Skate rentals must be purchased at the window ($8.00) if you don’t bring your own\n\n\nLA’s premier LGBTQ+ skate night! Wednesday night all ages 8 PM to 11 PM.  \nAdmission ticket only. Skate rental available at the door ($8.00).
URL:https://bearslooking.com/event/rainbow-disco-skate-night-all-ages-8pm-11pm-10/
LOCATION:Moonlight Rollerway\, Inc.\, 5110 San Fernando Road\, Glendale\, CA\, 91204\, United States
CATEGORIES:Party
ATTACH;FMTTYPE=image/jpeg:https://bearslooking.com/wp-content/uploads/2024/03/bf6454a09328c8666e17220c2a904453.jpg
END:VEVENT
BEGIN:VEVENT
DTSTART;TZID=America/Los_Angeles:20240314T200000
DTEND;TZID=America/Los_Angeles:20240314T230000
DTSTAMP:20260419T205405
CREATED:20240313T203234Z
LAST-MODIFIED:20240313T203234Z
UID:13663-1710446400-1710457200@bearslooking.com
SUMMARY:Thursday Throwback Skate Night ALL AGES 8pm - 11pm
DESCRIPTION:Admission ticket only. Skate rentals must be purchased at the window ($8.00) if you don’t bring your own skates.
URL:https://bearslooking.com/event/thursday-throwback-skate-night-all-ages-8pm-11pm-8/
LOCATION:Moonlight Rollerway\, Inc.\, 5110 San Fernando Road\, Glendale\, CA\, 91204\, United States
CATEGORIES:Party
ATTACH;FMTTYPE=image/jpeg:https://bearslooking.com/wp-content/uploads/2024/03/8b3c72ed93e6f4628c749f4f2647d555.jpg
END:VEVENT
BEGIN:VEVENT
DTSTART;TZID=America/Los_Angeles:20240315T200000
DTEND;TZID=America/Los_Angeles:20240315T230000
DTSTAMP:20260419T205405
CREATED:20240313T203234Z
LAST-MODIFIED:20240313T203234Z
UID:13665-1710532800-1710543600@bearslooking.com
SUMMARY:Friday Night ALL AGES 8pm - 11pm Admission only
DESCRIPTION:Admission ticket only. Skate rentals must be purchased at the window ($8.00) if you don’t bring your own skates.
URL:https://bearslooking.com/event/friday-night-all-ages-8pm-11pm-admission-only-8/
LOCATION:Moonlight Rollerway\, Inc.\, 5110 San Fernando Road\, Glendale\, CA\, 91204\, United States
CATEGORIES:Party
ATTACH;FMTTYPE=image/jpeg:https://bearslooking.com/wp-content/uploads/2024/03/34068092cbe522549abca8d116471683.jpg
END:VEVENT
BEGIN:VEVENT
DTSTART;TZID=America/Los_Angeles:20240316T200000
DTEND;TZID=America/Los_Angeles:20240316T230000
DTSTAMP:20260419T205405
CREATED:20240313T203235Z
LAST-MODIFIED:20240313T203235Z
UID:13667-1710619200-1710630000@bearslooking.com
SUMMARY:Saturday Night ALL AGES 8pm - 11pm Admission only
DESCRIPTION:Admission ticket only. Skate rentals must be purchased at the window ($8.00) if you don’t bring your own skates.
URL:https://bearslooking.com/event/saturday-night-all-ages-8pm-11pm-admission-only-7/
LOCATION:Moonlight Rollerway\, Inc.\, 5110 San Fernando Road\, Glendale\, CA\, 91204\, United States
CATEGORIES:Party
ATTACH;FMTTYPE=image/jpeg:https://bearslooking.com/wp-content/uploads/2024/03/98fda9b5e4cf17eaa9040b57e891878d.jpg
END:VEVENT
BEGIN:VEVENT
DTSTART;TZID=America/Los_Angeles:20240317T200000
DTEND;TZID=America/Los_Angeles:20240317T230000
DTSTAMP:20260419T205405
CREATED:20240313T203235Z
LAST-MODIFIED:20240313T203235Z
UID:13669-1710705600-1710716400@bearslooking.com
SUMMARY:Sunday Night ALL AGES 8pm - 11pm Admission only
DESCRIPTION:Admission ticket only. Skate rentals must be purchased at the window ($8.00) if you don’t bring your own skates.
URL:https://bearslooking.com/event/sunday-night-all-ages-8pm-11pm-admission-only-11/
LOCATION:Moonlight Rollerway\, Inc.\, 5110 San Fernando Road\, Glendale\, CA\, 91204\, United States
CATEGORIES:Party
ATTACH;FMTTYPE=image/jpeg:https://bearslooking.com/wp-content/uploads/2024/03/17d3f92bc8ad93aa638891fa136ba4e3.jpg
END:VEVENT
BEGIN:VEVENT
DTSTART;TZID=America/Los_Angeles:20240318T200000
DTEND;TZID=America/Los_Angeles:20240318T230000
DTSTAMP:20260419T205405
CREATED:20240313T203235Z
LAST-MODIFIED:20240313T203235Z
UID:13671-1710792000-1710802800@bearslooking.com
SUMMARY:Monday Night 18 and over only 8pm - 11pm Admission only
DESCRIPTION:Admission ticket only. Skate rentals must be purchased at the window ($8.00) if you don’t bring your own skates.
URL:https://bearslooking.com/event/monday-night-18-and-over-only-8pm-11pm-admission-only-11/
LOCATION:Moonlight Rollerway\, Inc.\, 5110 San Fernando Road\, Glendale\, CA\, 91204\, United States
CATEGORIES:Party
ATTACH;FMTTYPE=image/jpeg:https://bearslooking.com/wp-content/uploads/2024/03/6548236d4141c8f9a907552d43eb4a76.jpg
END:VEVENT
BEGIN:VEVENT
DTSTART;TZID=America/Los_Angeles:20240319T190000
DTEND;TZID=America/Los_Angeles:20240319T230000
DTSTAMP:20260419T205405
CREATED:20240313T203236Z
LAST-MODIFIED:20240313T203236Z
UID:13673-1710874800-1710889200@bearslooking.com
SUMMARY:Adult Skating Class - All Levels
DESCRIPTION:Admission ticket only. Skate rentals must be purchased at the window ($8.00) if you don’t bring your own skates.\n\n\nThis class teaches the basic fundamentals of roller skating including balance\, good posture\, starting and stopping\, and how to get up safely. Forward and backward skating\, two foot turns and skating in time to music. Skaters in this class will also learn forward and backward dance steps. All of our instructors are certified by U.S.A. Roller Sports and the Society of Roller Skating Teachers of America. Your cost includes the class and the ability to stay after for the public session to practice. SKATE RENTAL IS EXTRA at the door.
URL:https://bearslooking.com/event/adult-skating-class-all-levels-11/
LOCATION:Moonlight Rollerway\, Inc.\, 5110 San Fernando Road\, Glendale\, CA\, 91204\, United States
CATEGORIES:Party
ATTACH;FMTTYPE=image/jpeg:https://bearslooking.com/wp-content/uploads/2024/03/f1d52aa557038736d232043bdc8f9221.jpg
END:VEVENT
BEGIN:VEVENT
DTSTART;TZID=America/Los_Angeles:20240319T200000
DTEND;TZID=America/Los_Angeles:20240319T230000
DTSTAMP:20260419T205405
CREATED:20240313T203237Z
LAST-MODIFIED:20240313T203237Z
UID:13675-1710878400-1710889200@bearslooking.com
SUMMARY:Tuesday Night ALL AGES 8pm - 11pm
DESCRIPTION:Admission ticket only. Skate rentals must be purchased at the window ($8.00) if you don’t bring your own skates.
URL:https://bearslooking.com/event/tuesday-night-all-ages-8pm-11pm-29/
LOCATION:Moonlight Rollerway\, Inc.\, 5110 San Fernando Road\, Glendale\, CA\, 91204\, United States
CATEGORIES:Party
ATTACH;FMTTYPE=image/jpeg:https://bearslooking.com/wp-content/uploads/2024/03/c223eb2e7df61cdd28228b6a3173fef0.jpg
END:VEVENT
BEGIN:VEVENT
DTSTART;TZID=America/Los_Angeles:20240320T200000
DTEND;TZID=America/Los_Angeles:20240320T230000
DTSTAMP:20260419T205405
CREATED:20240320T204714Z
LAST-MODIFIED:20240320T204714Z
UID:13762-1710964800-1710975600@bearslooking.com
SUMMARY:Rainbow/Disco Skate Night ALL AGES 8pm - 11pm
DESCRIPTION:Disco classics from 70’s and 80’s Admission ticket only. Skate rentals must be purchased at the window ($8.00) if you don’t bring your own\n\n\nLA’s premier LGBTQ+ skate night! Wednesday night all ages 8 PM to 11 PM.  \nAdmission ticket only. Skate rental available at the door ($8.00).
URL:https://bearslooking.com/event/rainbow-disco-skate-night-all-ages-8pm-11pm-11/
LOCATION:Moonlight Rollerway\, Inc.\, 5110 San Fernando Road\, Glendale\, CA\, 91204\, United States
CATEGORIES:Party
ATTACH;FMTTYPE=image/jpeg:https://bearslooking.com/wp-content/uploads/2024/03/437431620a30e1b2d924bd95d2dd4ae4.jpg
END:VEVENT
BEGIN:VEVENT
DTSTART;TZID=America/Los_Angeles:20240321T200000
DTEND;TZID=America/Los_Angeles:20240321T230000
DTSTAMP:20260419T205405
CREATED:20240320T204714Z
LAST-MODIFIED:20240320T204714Z
UID:13764-1711051200-1711062000@bearslooking.com
SUMMARY:Thursday Throwback Skate Night ALL AGES 8pm - 11pm
DESCRIPTION:Admission ticket only. Skate rentals must be purchased at the window ($8.00) if you don’t bring your own skates.
URL:https://bearslooking.com/event/thursday-throwback-skate-night-all-ages-8pm-11pm-9/
LOCATION:Moonlight Rollerway\, Inc.\, 5110 San Fernando Road\, Glendale\, CA\, 91204\, United States
CATEGORIES:Party
ATTACH;FMTTYPE=image/jpeg:https://bearslooking.com/wp-content/uploads/2024/03/4cc79f4ed4877cdab6d6bf8bff089ec9.jpg
END:VEVENT
BEGIN:VEVENT
DTSTART;TZID=America/Los_Angeles:20240322T200000
DTEND;TZID=America/Los_Angeles:20240322T230000
DTSTAMP:20260419T205405
CREATED:20240320T204715Z
LAST-MODIFIED:20240320T204715Z
UID:13766-1711137600-1711148400@bearslooking.com
SUMMARY:Friday Night ALL AGES 8pm - 11pm Admission only
DESCRIPTION:Admission ticket only. Skate rentals must be purchased at the window ($8.00) if you don’t bring your own skates.
URL:https://bearslooking.com/event/friday-night-all-ages-8pm-11pm-admission-only-9/
LOCATION:Moonlight Rollerway\, Inc.\, 5110 San Fernando Road\, Glendale\, CA\, 91204\, United States
CATEGORIES:Party
ATTACH;FMTTYPE=image/jpeg:https://bearslooking.com/wp-content/uploads/2024/03/bca70b21b02f2c98930f28a5115f1326.jpg
END:VEVENT
BEGIN:VEVENT
DTSTART;TZID=America/New_York:20240323T120000
DTEND;TZID=America/New_York:20240330T080000
DTSTAMP:20260419T205405
CREATED:20230404T152335Z
LAST-MODIFIED:20230406T204142Z
UID:9285-1711195200-1711785600@bearslooking.com
SUMMARY:Bears On Deck Cruise 2024
DESCRIPTION:⚓️⚓️ Ahoy!!!! ⚓️⚓️ \nThe Getaway Guys are proud to announce the 2024 Bears On Deck Cruise! 🚢🚢 \nSailing on the beautiful Celebrity Apex sailing from Fort Lauderdale\, FL for 7 nights March 23-30\, 2024. \nAmazing ports of call – San Juan\, St. Maarten\, St. Thomas and Puerto Plata. \nExpect more parties\, shows and entertainment!!! \nClassic alcohol beverage package\, WiFi and tips/gratuities are INCLUDED in our EXCLUSIVE pricing. \nVisit www.BearsOnDeck.com and fill out a free inquiry for all pricing and information. \nWe can’t wait to see you there!!!!!
URL:https://bearslooking.com/event/bears-on-deck-cruise-2024/
LOCATION:CA
CATEGORIES:Bear,Cruise,Party,Travel
ATTACH;FMTTYPE=image/jpeg:https://bearslooking.com/wp-content/uploads/2023/04/1264F971-69AF-4624-A78A-9B4B9A5E9301-scaled.jpeg
END:VEVENT
BEGIN:VEVENT
DTSTART;TZID=America/New_York:20240323T120000
DTEND;TZID=America/New_York:20240330T080000
DTSTAMP:20260419T205405
CREATED:20230406T225029Z
LAST-MODIFIED:20240329T014713Z
UID:9389-1711195200-1711785600@bearslooking.com
SUMMARY:Bears on Deck Cruise 2024
DESCRIPTION:Sail with us onboard the new and luxurious Celebrity Apex. Rates include gratuities\, classic beverage package & basic WiFi!\n\n\nExpect more parties\, shows and entertainment. We have exclusive group rates. Once you fill out the form\, The Getaway Guys (Robert Huss or Edgar Nieves) will reach out to you with additional information.  All rates include gratuities\, classic beverage package & basic WiFi. Suite guests will also receive additional onboard credit. \nHablamos español! \n* The Classic Beverage Package includes fountain sodas\, select non-premium bottles of water\, premium coffees and teas\, juices\, and a selection beers\, spirits\, cocktails\, liqueurs\, frozen drinks and wines by the glass. Upgrades to the Premium Beverage Package may be available for an additional charge. \nC﻿lick “RESERVE A SPOT” to receive more information and pricing.   \nStateroom pricing starts at $1399 TOTAL per person\, based on double occupancy for an interior cabin (total price – including taxes & port charges).  Deposit of $250 per person. \nThere is NO OBLIGATION TO BOOK by completing the online inquiry.   \nWe can’t wait to see you on board!
URL:https://bearslooking.com/event/bears-on-deck-cruise-2024-2/
LOCATION:Port Everglades\, 1850 Eller Dr\, Fort Lauderdale\, FL\, 33316\, United States
CATEGORIES:Party
ATTACH;FMTTYPE=image/jpeg:https://bearslooking.com/wp-content/uploads/2023/04/c0a9bde9ec9cd850b9003c7e3f4e57b6.jpg
END:VEVENT
BEGIN:VEVENT
DTSTART;TZID=America/Los_Angeles:20240323T170000
DTEND;TZID=America/Los_Angeles:20240323T200000
DTSTAMP:20260419T205405
CREATED:20231122T193354Z
LAST-MODIFIED:20240320T204715Z
UID:12234-1711213200-1711224000@bearslooking.com
SUMMARY:Skills\, Drills and Roller Dance with LA Roller Entertainment Texas Hold 'Em
DESCRIPTION:Technique breakdowns of your favorite roller dances.  Includes admission to 8pm – 11pm public session Country Skate Night.\n\n\nWelcome to **Skills\, Drills and Roller Dance with LA Roller Entertainment**! Join us for a fun-filled evening of roller skating and dancing at Moonlight Rollerway\, Inc. on **Sat Mar 23 2024 at 5:00 PM**. \nWe are so excited to offer technique breakdowns of your favorite roller dance skills\, with drills\, to help take your skating to the next level\, as fun as possible! Each class will begin with a stretch and warm-up and quick review of skate basics. We will then focus on three designated skills. Instruction will be given on beginner and intermediate levels of each skill to ensure that you are able to roll at your preferred pace! We then roll into a fun one-minute roller dance where we get to show off our new skills! The class will conclude with a private skate session where LA Roller Instructors will be available for any and all questions\, special requests\, and one-on-one time! \n\nHighlighted Skills:\n\n\nTwo-foot + One-foot spins – This will include drills breaking down the different edges\, directions\, positions and making sure you have the tools and knowledge to spin like a pro!\nMoonwalk – This will include drills breaking down the transition of balance from each foot to the other and making sure you are rolling as smooth as MJ himself!\nCrazy Leg – This will include drills breaking down the movement from beginner to advance making sure no matter where you are currently at\, this move becomes the next level!\n\n\nRoller Dance:\n\n\nLearn a one-minute roller dance routine where you will get to learn choreography and push yourself out of the box\, bringing your personality to every move!\n\n\n\nDon’t miss out on this exciting opportunity to showcase your talent and have a blast on wheels! \nCan’t wait to roll with you!
URL:https://bearslooking.com/event/la-roller-workshop-all-ages-all-levels-2/
LOCATION:Moonlight Rollerway\, Inc.\, 5110 San Fernando Road\, Glendale\, CA\, 91204\, United States
CATEGORIES:Party
ATTACH;FMTTYPE=image/jpeg:https://bearslooking.com/wp-content/uploads/2023/12/ca356ef1e83cc042e5f38586ba5e60a2.jpg
END:VEVENT
BEGIN:VEVENT
DTSTART;TZID=America/Los_Angeles:20240323T200000
DTEND;TZID=America/Los_Angeles:20240323T230000
DTSTAMP:20260419T205405
CREATED:20240228T200330Z
LAST-MODIFIED:20240320T204715Z
UID:13486-1711224000-1711234800@bearslooking.com
SUMMARY:Boot Skatin' Boogie Night ALL AGES 8pm - 11pm Admission only
DESCRIPTION:Admission ticket only. Skate rentals must be purchased at the window ($8.00) if you don’t bring your own skates.\n\n\nSkate to all the great Country songs tonight
URL:https://bearslooking.com/event/boot-skatin-boogie-night-all-ages-8pm-11pm-admission-only/
LOCATION:Moonlight Rollerway\, Inc.\, 5110 San Fernando Road\, Glendale\, CA\, 91204\, United States
CATEGORIES:Party
ATTACH;FMTTYPE=image/jpeg:https://bearslooking.com/wp-content/uploads/2024/02/107b7b591b6c9e00404cd3e2f77143a3.jpg
END:VEVENT
BEGIN:VEVENT
DTSTART;TZID=America/Los_Angeles:20240324T200000
DTEND;TZID=America/Los_Angeles:20240324T230000
DTSTAMP:20260419T205405
CREATED:20240320T204715Z
LAST-MODIFIED:20240320T204715Z
UID:13768-1711310400-1711321200@bearslooking.com
SUMMARY:Sunday Night ALL AGES 8pm - 11pm Admission only
DESCRIPTION:Admission ticket only. Skate rentals must be purchased at the window ($8.00) if you don’t bring your own skates.
URL:https://bearslooking.com/event/sunday-night-all-ages-8pm-11pm-admission-only-12/
LOCATION:Moonlight Rollerway\, Inc.\, 5110 San Fernando Road\, Glendale\, CA\, 91204\, United States
CATEGORIES:Party
ATTACH;FMTTYPE=image/jpeg:https://bearslooking.com/wp-content/uploads/2024/01/2e22fc3c018179052d6cdb6fc2511736.jpg
END:VEVENT
BEGIN:VEVENT
DTSTART;TZID=America/Los_Angeles:20240325T200000
DTEND;TZID=America/Los_Angeles:20240325T230000
DTSTAMP:20260419T205405
CREATED:20240320T204715Z
LAST-MODIFIED:20240320T204715Z
UID:13769-1711396800-1711407600@bearslooking.com
SUMMARY:Monday Night 18 and over only 8pm - 11pm Admission only
DESCRIPTION:Admission ticket only. Skate rentals must be purchased at the window ($8.00) if you don’t bring your own skates.
URL:https://bearslooking.com/event/monday-night-18-and-over-only-8pm-11pm-admission-only-12/
LOCATION:Moonlight Rollerway\, Inc.\, 5110 San Fernando Road\, Glendale\, CA\, 91204\, United States
CATEGORIES:Party
ATTACH;FMTTYPE=image/jpeg:https://bearslooking.com/wp-content/uploads/2024/03/890f37e0c222e9cbed166faae141d2e0.jpg
END:VEVENT
BEGIN:VEVENT
DTSTART;TZID=America/Los_Angeles:20240326T190000
DTEND;TZID=America/Los_Angeles:20240326T230000
DTSTAMP:20260419T205405
CREATED:20240320T204715Z
LAST-MODIFIED:20240320T204715Z
UID:13771-1711479600-1711494000@bearslooking.com
SUMMARY:Adult Skating Class - All Levels
DESCRIPTION:Admission ticket only. Skate rentals must be purchased at the window ($8.00) if you don’t bring your own skates.\n\n\nThis class teaches the basic fundamentals of roller skating including balance\, good posture\, starting and stopping\, and how to get up safely. Forward and backward skating\, two foot turns and skating in time to music. Skaters in this class will also learn forward and backward dance steps. All of our instructors are certified by U.S.A. Roller Sports and the Society of Roller Skating Teachers of America. Your cost includes the class and the ability to stay after for the public session to practice. SKATE RENTAL IS EXTRA at the door.
URL:https://bearslooking.com/event/adult-skating-class-all-levels-12/
LOCATION:Moonlight Rollerway\, Inc.\, 5110 San Fernando Road\, Glendale\, CA\, 91204\, United States
CATEGORIES:Party
ATTACH;FMTTYPE=image/jpeg:https://bearslooking.com/wp-content/uploads/2024/03/1bdd6d8608d89b5a55b52535e017a4a5.jpg
END:VEVENT
BEGIN:VEVENT
DTSTART;TZID=America/Los_Angeles:20240326T200000
DTEND;TZID=America/Los_Angeles:20240326T230000
DTSTAMP:20260419T205405
CREATED:20240320T204716Z
LAST-MODIFIED:20240320T204716Z
UID:13773-1711483200-1711494000@bearslooking.com
SUMMARY:Tuesday Night ALL AGES 8pm - 11pm
DESCRIPTION:Admission ticket only. Skate rentals must be purchased at the window ($8.00) if you don’t bring your own skates.
URL:https://bearslooking.com/event/tuesday-night-all-ages-8pm-11pm-30/
LOCATION:Moonlight Rollerway\, Inc.\, 5110 San Fernando Road\, Glendale\, CA\, 91204\, United States
CATEGORIES:Party
ATTACH;FMTTYPE=image/jpeg:https://bearslooking.com/wp-content/uploads/2024/03/ce64a8e495fe8e0e519c19671e2af61f.jpg
END:VEVENT
BEGIN:VEVENT
DTSTART;TZID=America/Los_Angeles:20240327T200000
DTEND;TZID=America/Los_Angeles:20240327T230000
DTSTAMP:20260419T205405
CREATED:20240327T204639Z
LAST-MODIFIED:20240327T204639Z
UID:13854-1711569600-1711580400@bearslooking.com
SUMMARY:Rainbow/Disco Skate Night ALL AGES 8pm - 11pm
DESCRIPTION:Disco classics from 70’s and 80’s Admission ticket only. Skate rentals must be purchased at the window ($8.00) if you don’t bring your own\n\n\nLA’s premier LGBTQ+ skate night! Wednesday night all ages 8 PM to 11 PM.  \nAdmission ticket only. Skate rental available at the door ($8.00).
URL:https://bearslooking.com/event/rainbow-disco-skate-night-all-ages-8pm-11pm-12/
LOCATION:Moonlight Rollerway\, Inc.\, 5110 San Fernando Road\, Glendale\, CA\, 91204\, United States
CATEGORIES:Party
ATTACH;FMTTYPE=image/jpeg:https://bearslooking.com/wp-content/uploads/2024/03/5e1e265aaebdeb0dff696a1bf124a6ec.jpg
END:VEVENT
BEGIN:VEVENT
DTSTART;TZID=America/Los_Angeles:20240328T200000
DTEND;TZID=America/Los_Angeles:20240328T230000
DTSTAMP:20260419T205405
CREATED:20240327T204639Z
LAST-MODIFIED:20240327T204639Z
UID:13856-1711656000-1711666800@bearslooking.com
SUMMARY:Thursday Throwback Skate Night ALL AGES 8pm - 11pm
DESCRIPTION:Admission ticket only. Skate rentals must be purchased at the window ($8.00) if you don’t bring your own skates.
URL:https://bearslooking.com/event/thursday-throwback-skate-night-all-ages-8pm-11pm-10/
LOCATION:Moonlight Rollerway\, Inc.\, 5110 San Fernando Road\, Glendale\, CA\, 91204\, United States
CATEGORIES:Party
ATTACH;FMTTYPE=image/jpeg:https://bearslooking.com/wp-content/uploads/2024/03/9f9f4ecbd4e55d8717a67cf837c677bc.jpg
END:VEVENT
BEGIN:VEVENT
DTSTART;TZID=America/Los_Angeles:20240329T200000
DTEND;TZID=America/Los_Angeles:20240329T230000
DTSTAMP:20260419T205405
CREATED:20240327T204639Z
LAST-MODIFIED:20240327T204639Z
UID:13858-1711742400-1711753200@bearslooking.com
SUMMARY:Friday Night ALL AGES 8pm - 11pm Admission only
DESCRIPTION:Admission ticket only. Skate rentals must be purchased at the window ($8.00) if you don’t bring your own skates.
URL:https://bearslooking.com/event/friday-night-all-ages-8pm-11pm-admission-only-10/
LOCATION:Moonlight Rollerway\, Inc.\, 5110 San Fernando Road\, Glendale\, CA\, 91204\, United States
CATEGORIES:Party
ATTACH;FMTTYPE=image/jpeg:https://bearslooking.com/wp-content/uploads/2024/03/3bd4427e1d86b53dea9339e4c72140f1.jpg
END:VEVENT
BEGIN:VEVENT
DTSTART;TZID=America/Los_Angeles:20240330T200000
DTEND;TZID=America/Los_Angeles:20240330T230000
DTSTAMP:20260419T205405
CREATED:20240327T204640Z
LAST-MODIFIED:20240327T204640Z
UID:13860-1711828800-1711839600@bearslooking.com
SUMMARY:Saturday Night ALL AGES 8pm - 11pm Admission only
DESCRIPTION:Admission ticket only. Skate rentals must be purchased at the window ($8.00) if you don’t bring your own skates.
URL:https://bearslooking.com/event/saturday-night-all-ages-8pm-11pm-admission-only-8/
LOCATION:Moonlight Rollerway\, Inc.\, 5110 San Fernando Road\, Glendale\, CA\, 91204\, United States
CATEGORIES:Party
ATTACH;FMTTYPE=image/jpeg:https://bearslooking.com/wp-content/uploads/2024/03/46c83535fc2557b9f8bcea99dd2411ed.jpg
END:VEVENT
BEGIN:VEVENT
DTSTART;TZID=America/Los_Angeles:20240331T200000
DTEND;TZID=America/Los_Angeles:20240331T230000
DTSTAMP:20260419T205405
CREATED:20240327T204640Z
LAST-MODIFIED:20240327T204640Z
UID:13862-1711915200-1711926000@bearslooking.com
SUMMARY:Easter Night ALL AGES 8pm - 11pm Admission only
DESCRIPTION:Admission ticket only. Skate rentals must be purchased at the window ($8.00) if you don’t bring your own skates.
URL:https://bearslooking.com/event/easter-night-all-ages-8pm-11pm-admission-only/
LOCATION:Moonlight Rollerway\, Inc.\, 5110 San Fernando Road\, Glendale\, CA\, 91204\, United States
CATEGORIES:Party
ATTACH;FMTTYPE=image/jpeg:https://bearslooking.com/wp-content/uploads/2024/03/bbebfade80df325821755a367e6b18a3.jpg
END:VEVENT
BEGIN:VEVENT
DTSTART;TZID=America/Los_Angeles:20240401T200000
DTEND;TZID=America/Los_Angeles:20240401T230000
DTSTAMP:20260419T205405
CREATED:20240327T204641Z
LAST-MODIFIED:20240327T204641Z
UID:13864-1712001600-1712012400@bearslooking.com
SUMMARY:Monday Night 18 and over only 8pm - 11pm Admission only
DESCRIPTION:Admission ticket only. Skate rentals must be purchased at the window ($8.00) if you don’t bring your own skates.
URL:https://bearslooking.com/event/monday-night-18-and-over-only-8pm-11pm-admission-only-13/
LOCATION:Moonlight Rollerway\, Inc.\, 5110 San Fernando Road\, Glendale\, CA\, 91204\, United States
CATEGORIES:Party
ATTACH;FMTTYPE=image/jpeg:https://bearslooking.com/wp-content/uploads/2024/03/0289f8ea9c8b236e9eab8fd4692eb73d.jpg
END:VEVENT
BEGIN:VEVENT
DTSTART;TZID=America/Los_Angeles:20240402T190000
DTEND;TZID=America/Los_Angeles:20240402T230000
DTSTAMP:20260419T205405
CREATED:20240327T204641Z
LAST-MODIFIED:20240327T204641Z
UID:13866-1712084400-1712098800@bearslooking.com
SUMMARY:Adult Skating Class - All Levels
DESCRIPTION:Admission ticket only. Skate rentals must be purchased at the window ($8.00) if you don’t bring your own skates.\n\n\nThis class teaches the basic fundamentals of roller skating including balance\, good posture\, starting and stopping\, and how to get up safely. Forward and backward skating\, two foot turns and skating in time to music. Skaters in this class will also learn forward and backward dance steps. All of our instructors are certified by U.S.A. Roller Sports and the Society of Roller Skating Teachers of America. Your cost includes the class and the ability to stay after for the public session to practice. SKATE RENTAL IS EXTRA at the door.
URL:https://bearslooking.com/event/adult-skating-class-all-levels-13/
LOCATION:Moonlight Rollerway\, Inc.\, 5110 San Fernando Road\, Glendale\, CA\, 91204\, United States
CATEGORIES:Party
ATTACH;FMTTYPE=image/jpeg:https://bearslooking.com/wp-content/uploads/2024/03/44871643f34b8f192b6d6af213d3a13d.jpg
END:VEVENT
BEGIN:VEVENT
DTSTART;TZID=America/Los_Angeles:20240402T200000
DTEND;TZID=America/Los_Angeles:20240402T230000
DTSTAMP:20260419T205405
CREATED:20240327T204642Z
LAST-MODIFIED:20240327T204642Z
UID:13868-1712088000-1712098800@bearslooking.com
SUMMARY:Tuesday Night ALL AGES 8pm - 11pm
DESCRIPTION:Admission ticket only. Skate rentals must be purchased at the window ($8.00) if you don’t bring your own skates.
URL:https://bearslooking.com/event/tuesday-night-all-ages-8pm-11pm-31/
LOCATION:Moonlight Rollerway\, Inc.\, 5110 San Fernando Road\, Glendale\, CA\, 91204\, United States
CATEGORIES:Party
ATTACH;FMTTYPE=image/jpeg:https://bearslooking.com/wp-content/uploads/2024/03/28a39ee26ab58c362c7ea0478820c2a7.jpg
END:VEVENT
BEGIN:VEVENT
DTSTART;TZID=America/Los_Angeles:20240403T200000
DTEND;TZID=America/Los_Angeles:20240403T230000
DTSTAMP:20260419T205405
CREATED:20240403T204734Z
LAST-MODIFIED:20240403T204734Z
UID:13967-1712174400-1712185200@bearslooking.com
SUMMARY:Rainbow/Disco Skate Night ALL AGES 8pm - 11pm
DESCRIPTION:Disco classics from 70’s and 80’s Admission ticket only. Skate rentals must be purchased at the window ($8.00) if you don’t bring your own\n\n\nLA’s premier LGBTQ+ skate night! Wednesday night all ages 8 PM to 11 PM.  \nAdmission ticket only. Skate rental available at the door ($8.00).
URL:https://bearslooking.com/event/rainbow-disco-skate-night-all-ages-8pm-11pm-13/
LOCATION:Moonlight Rollerway\, Inc.\, 5110 San Fernando Road\, Glendale\, CA\, 91204\, United States
CATEGORIES:Party
ATTACH;FMTTYPE=image/jpeg:https://bearslooking.com/wp-content/uploads/2024/04/f711ab3f706e113041ab1cbe06cae11f.jpg
END:VEVENT
END:VCALENDAR