BEGIN:VCALENDAR
VERSION:2.0
PRODID:-// - ECPv6.12.0.1//NONSGML v1.0//EN
CALSCALE:GREGORIAN
METHOD:PUBLISH
X-ORIGINAL-URL:https://bearslooking.com
X-WR-CALDESC:Events for 
REFRESH-INTERVAL;VALUE=DURATION:PT1H
X-Robots-Tag:noindex
X-PUBLISHED-TTL:PT1H
BEGIN:VTIMEZONE
TZID:America/Los_Angeles
BEGIN:DAYLIGHT
TZOFFSETFROM:-0800
TZOFFSETTO:-0700
TZNAME:PDT
DTSTART:20250309T100000
END:DAYLIGHT
BEGIN:STANDARD
TZOFFSETFROM:-0700
TZOFFSETTO:-0800
TZNAME:PST
DTSTART:20251102T090000
END:STANDARD
END:VTIMEZONE
BEGIN:VEVENT
DTSTART;TZID=America/Los_Angeles:20251207T100000
DTEND;TZID=America/Los_Angeles:20251207T120000
DTSTAMP:20260425T052707
CREATED:20250811T210027Z
LAST-MODIFIED:20251207T145742Z
UID:20356-1765101600-1765108800@bearslooking.com
SUMMARY:Sunday Drag Brunch - Long Beach Location
DESCRIPTION:Join us for a fabulous Sunday Drag Brunch with the Brunchettes
URL:https://bearslooking.com/event/sunday-drag-brunch-long-beach-location-89/
LOCATION:Hamburger Mary’s Long Beach\, 330 Pine Avenue\, Long Beach\, CA\, 90802\, United States
CATEGORIES:Party
ATTACH;FMTTYPE=image/jpeg:https://bearslooking.com/wp-content/uploads/2025/05/77994e5e56c3485c882743296ec098d8.jpg
END:VEVENT
BEGIN:VEVENT
DTSTART;TZID=America/Los_Angeles:20251207T110000
DTEND;TZID=America/Los_Angeles:20251207T123000
DTSTAMP:20260425T052707
CREATED:20251007T034518Z
LAST-MODIFIED:20251207T145741Z
UID:21201-1765105200-1765110600@bearslooking.com
SUMMARY:Sunday Drag Brunch : West Hollywood Location
DESCRIPTION:Join us for a fabulous Sunday Drag Brunch with the Brunchettes
URL:https://bearslooking.com/event/sunday-drag-brunch-west-hollywood-location-178/
LOCATION:Hamburger Mary’s\, 8288 Santa Monica Boulevard\, Los Angeles\, CA\, 90046\, United States
CATEGORIES:Party
ATTACH;FMTTYPE=image/jpeg:https://bearslooking.com/wp-content/uploads/2025/05/77994e5e56c3485c882743296ec098d8.jpg
END:VEVENT
BEGIN:VEVENT
DTSTART;TZID=America/Los_Angeles:20251207T123000
DTEND;TZID=America/Los_Angeles:20251207T143000
DTSTAMP:20260425T052707
CREATED:20250811T210027Z
LAST-MODIFIED:20251207T145751Z
UID:20357-1765110600-1765117800@bearslooking.com
SUMMARY:Sunday Drag Brunch - Long Beach Location
DESCRIPTION:Join us for a fabulous Sunday Drag Brunch with the Brunchettes
URL:https://bearslooking.com/event/sunday-drag-brunch-long-beach-location-90/
LOCATION:Hamburger Mary’s Long Beach\, 330 Pine Avenue\, Long Beach\, CA\, 90802\, United States
CATEGORIES:Party
ATTACH;FMTTYPE=image/jpeg:https://bearslooking.com/wp-content/uploads/2025/05/77994e5e56c3485c882743296ec098d8.jpg
END:VEVENT
BEGIN:VEVENT
DTSTART;TZID=America/Los_Angeles:20251207T130000
DTEND;TZID=America/Los_Angeles:20251207T143000
DTSTAMP:20260425T052707
CREATED:20251007T034518Z
LAST-MODIFIED:20251207T145745Z
UID:21202-1765112400-1765117800@bearslooking.com
SUMMARY:Sunday Drag Brunch : West Hollywood Location
DESCRIPTION:Join us for a fabulous Sunday Drag Brunch with the Brunchettes
URL:https://bearslooking.com/event/sunday-drag-brunch-west-hollywood-location-179/
LOCATION:Hamburger Mary’s\, 8288 Santa Monica Boulevard\, Los Angeles\, CA\, 90046\, United States
CATEGORIES:Party
ATTACH;FMTTYPE=image/jpeg:https://bearslooking.com/wp-content/uploads/2025/05/77994e5e56c3485c882743296ec098d8.jpg
END:VEVENT
BEGIN:VEVENT
DTSTART;TZID=America/Los_Angeles:20251207T150000
DTEND;TZID=America/Los_Angeles:20251207T163000
DTSTAMP:20260425T052707
CREATED:20250817T231727Z
LAST-MODIFIED:20251207T145751Z
UID:20448-1765119600-1765125000@bearslooking.com
SUMMARY:Sunday Drag Brunch - Long Beach Location
DESCRIPTION:Join us for a fabulous Sunday Drag Brunch with the Brunchettes
URL:https://bearslooking.com/event/sunday-drag-brunch-long-beach-location-91/
LOCATION:Hamburger Mary’s Long Beach\, 330 Pine Avenue\, Long Beach\, CA\, 90802\, United States
CATEGORIES:Party
ATTACH;FMTTYPE=image/jpeg:https://bearslooking.com/wp-content/uploads/2025/05/77994e5e56c3485c882743296ec098d8.jpg
END:VEVENT
BEGIN:VEVENT
DTSTART;TZID=America/Los_Angeles:20251207T150000
DTEND;TZID=America/Los_Angeles:20251207T163000
DTSTAMP:20260425T052707
CREATED:20251013T043037Z
LAST-MODIFIED:20251207T145745Z
UID:21280-1765119600-1765125000@bearslooking.com
SUMMARY:Sunday Drag Brunch : West Hollywood Location
DESCRIPTION:Join us for a fabulous Sunday Drag Brunch with the Brunchettes
URL:https://bearslooking.com/event/sunday-drag-brunch-west-hollywood-location-180/
LOCATION:Hamburger Mary’s\, 8288 Santa Monica Boulevard\, Los Angeles\, CA\, 90046\, United States
CATEGORIES:Party
ATTACH;FMTTYPE=image/jpeg:https://bearslooking.com/wp-content/uploads/2025/05/77994e5e56c3485c882743296ec098d8.jpg
END:VEVENT
END:VCALENDAR