BEGIN:VCALENDAR
VERSION:2.0
PRODID:-// - ECPv6.12.0.1//NONSGML v1.0//EN
CALSCALE:GREGORIAN
METHOD:PUBLISH
X-ORIGINAL-URL:https://bearslooking.com
X-WR-CALDESC:Events for 
REFRESH-INTERVAL;VALUE=DURATION:PT1H
X-Robots-Tag:noindex
X-PUBLISHED-TTL:PT1H
BEGIN:VTIMEZONE
TZID:America/Los_Angeles
BEGIN:DAYLIGHT
TZOFFSETFROM:-0800
TZOFFSETTO:-0700
TZNAME:PDT
DTSTART:20250309T100000
END:DAYLIGHT
BEGIN:STANDARD
TZOFFSETFROM:-0700
TZOFFSETTO:-0800
TZNAME:PST
DTSTART:20251102T090000
END:STANDARD
END:VTIMEZONE
BEGIN:VEVENT
DTSTART;TZID=America/Los_Angeles:20251030T130000
DTEND;TZID=America/Los_Angeles:20251102T180000
DTSTAMP:20260425T051518
CREATED:20250407T203905Z
LAST-MODIFIED:20250407T203905Z
UID:15976-1761829200-1762106400@bearslooking.com
SUMMARY:World Bear Weekend: Dia de Los Osos
DESCRIPTION:Our 7th annual World Bear Weekend returns to Lexington\, KY from 10/30 to 11/02/2025 for our 4-day Halloween/Day of the Dead-themed event! This year’s event features hilarious entertainment from Brad Loekle; all-weekend pool parties; Halloween Costume Dance on Friday\, and a Day of the Dead-themed Dance on Saturday. Also enjoy cultural/holiday activities\, educational workshops\, vendor market\, entertaining drag shows\, exciting excursions\, and more. Don’t miss the highlight of the weekend – our 7th annual World Bear Contest – with portions taking place each evening. \nCome celebrate “Gay Christmas” (aka Halloween) with us this year in Lexington\, KY!
URL:https://bearslooking.com/event/world-bear-weekend-dia-de-los-osos/
LOCATION:Embassy Suites Lexington/Coldstream Campus\, 1801 Newtown Pike\, Lexington\, KY\, 40511\, United States
CATEGORIES:Bear,Contest,Party
ATTACH;FMTTYPE=image/jpeg:https://bearslooking.com/wp-content/uploads/2025/04/IMG_4944.jpeg
END:VEVENT
BEGIN:VEVENT
DTSTART;TZID=America/Los_Angeles:20251102T100000
DTEND;TZID=America/Los_Angeles:20251102T120000
DTSTAMP:20260425T051518
CREATED:20250706T214529Z
LAST-MODIFIED:20251102T083016Z
UID:19829-1762077600-1762084800@bearslooking.com
SUMMARY:Sunday Drag Brunch - Long Beach Location
DESCRIPTION:Join us for a fabulous Sunday Drag Brunch with the Brunchettes
URL:https://bearslooking.com/event/sunday-drag-brunch-long-beach-location-74/
LOCATION:Hamburger Mary’s Long Beach\, 330 Pine Avenue\, Long Beach\, CA\, 90802\, United States
CATEGORIES:Party
ATTACH;FMTTYPE=image/jpeg:https://bearslooking.com/wp-content/uploads/2025/05/77994e5e56c3485c882743296ec098d8.jpg
END:VEVENT
BEGIN:VEVENT
DTSTART;TZID=America/Los_Angeles:20251102T110000
DTEND;TZID=America/Los_Angeles:20251102T123000
DTSTAMP:20260425T051518
CREATED:20250902T153041Z
LAST-MODIFIED:20251102T083012Z
UID:20681-1762081200-1762086600@bearslooking.com
SUMMARY:Sunday Drag Brunch : West Hollywood Location
DESCRIPTION:Join us for a fabulous Sunday Drag Brunch with the Brunchettes
URL:https://bearslooking.com/event/sunday-drag-brunch-west-hollywood-location-148/
LOCATION:Hamburger Mary’s\, 8288 Santa Monica Boulevard\, Los Angeles\, CA\, 90046\, United States
CATEGORIES:Party
ATTACH;FMTTYPE=image/jpeg:https://bearslooking.com/wp-content/uploads/2025/05/77994e5e56c3485c882743296ec098d8.jpg
END:VEVENT
BEGIN:VEVENT
DTSTART;TZID=America/Los_Angeles:20251102T123000
DTEND;TZID=America/Los_Angeles:20251102T143000
DTSTAMP:20260425T051518
CREATED:20250707T233623Z
LAST-MODIFIED:20251102T083039Z
UID:19854-1762086600-1762093800@bearslooking.com
SUMMARY:Sunday Drag Brunch - Long Beach Location
DESCRIPTION:Join us for a fabulous Sunday Drag Brunch with the Brunchettes
URL:https://bearslooking.com/event/sunday-drag-brunch-long-beach-location-75/
LOCATION:Hamburger Mary’s Long Beach\, 330 Pine Avenue\, Long Beach\, CA\, 90802\, United States
CATEGORIES:Party
ATTACH;FMTTYPE=image/jpeg:https://bearslooking.com/wp-content/uploads/2025/05/77994e5e56c3485c882743296ec098d8.jpg
END:VEVENT
BEGIN:VEVENT
DTSTART;TZID=America/Los_Angeles:20251102T130000
DTEND;TZID=America/Los_Angeles:20251102T143000
DTSTAMP:20260425T051518
CREATED:20250902T153041Z
LAST-MODIFIED:20251102T083022Z
UID:20682-1762088400-1762093800@bearslooking.com
SUMMARY:Sunday Drag Brunch : West Hollywood Location
DESCRIPTION:Join us for a fabulous Sunday Drag Brunch with the Brunchettes
URL:https://bearslooking.com/event/sunday-drag-brunch-west-hollywood-location-149/
LOCATION:Hamburger Mary’s\, 8288 Santa Monica Boulevard\, Los Angeles\, CA\, 90046\, United States
CATEGORIES:Party
ATTACH;FMTTYPE=image/jpeg:https://bearslooking.com/wp-content/uploads/2025/05/77994e5e56c3485c882743296ec098d8.jpg
END:VEVENT
BEGIN:VEVENT
DTSTART;TZID=America/Los_Angeles:20251102T150000
DTEND;TZID=America/Los_Angeles:20251102T163000
DTSTAMP:20260425T051518
CREATED:20250714T010042Z
LAST-MODIFIED:20251102T083039Z
UID:19928-1762095600-1762101000@bearslooking.com
SUMMARY:Sunday Drag Brunch - Long Beach Location
DESCRIPTION:Join us for a fabulous Sunday Drag Brunch with the Brunchettes
URL:https://bearslooking.com/event/sunday-drag-brunch-long-beach-location-76/
LOCATION:Hamburger Mary’s Long Beach\, 330 Pine Avenue\, Long Beach\, CA\, 90802\, United States
CATEGORIES:Party
ATTACH;FMTTYPE=image/jpeg:https://bearslooking.com/wp-content/uploads/2025/05/77994e5e56c3485c882743296ec098d8.jpg
END:VEVENT
BEGIN:VEVENT
DTSTART;TZID=America/Los_Angeles:20251102T150000
DTEND;TZID=America/Los_Angeles:20251102T163000
DTSTAMP:20260425T051518
CREATED:20250908T171451Z
LAST-MODIFIED:20251102T083023Z
UID:20764-1762095600-1762101000@bearslooking.com
SUMMARY:Sunday Drag Brunch : West Hollywood Location
DESCRIPTION:Join us for a fabulous Sunday Drag Brunch with the Brunchettes
URL:https://bearslooking.com/event/sunday-drag-brunch-west-hollywood-location-150/
LOCATION:Hamburger Mary’s\, 8288 Santa Monica Boulevard\, Los Angeles\, CA\, 90046\, United States
CATEGORIES:Party
ATTACH;FMTTYPE=image/jpeg:https://bearslooking.com/wp-content/uploads/2025/05/77994e5e56c3485c882743296ec098d8.jpg
END:VEVENT
END:VCALENDAR