BEGIN:VCALENDAR
VERSION:2.0
PRODID:-// - ECPv6.12.0.1//NONSGML v1.0//EN
CALSCALE:GREGORIAN
METHOD:PUBLISH
X-ORIGINAL-URL:https://bearslooking.com
X-WR-CALDESC:Events for 
REFRESH-INTERVAL;VALUE=DURATION:PT1H
X-Robots-Tag:noindex
X-PUBLISHED-TTL:PT1H
BEGIN:VTIMEZONE
TZID:America/Los_Angeles
BEGIN:DAYLIGHT
TZOFFSETFROM:-0800
TZOFFSETTO:-0700
TZNAME:PDT
DTSTART:20250309T100000
END:DAYLIGHT
BEGIN:STANDARD
TZOFFSETFROM:-0700
TZOFFSETTO:-0800
TZNAME:PST
DTSTART:20251102T090000
END:STANDARD
END:VTIMEZONE
BEGIN:VEVENT
DTSTART;TZID=America/Los_Angeles:20251030T130000
DTEND;TZID=America/Los_Angeles:20251102T180000
DTSTAMP:20260425T052744
CREATED:20250407T203905Z
LAST-MODIFIED:20250407T203905Z
UID:15976-1761829200-1762106400@bearslooking.com
SUMMARY:World Bear Weekend: Dia de Los Osos
DESCRIPTION:Our 7th annual World Bear Weekend returns to Lexington\, KY from 10/30 to 11/02/2025 for our 4-day Halloween/Day of the Dead-themed event! This year’s event features hilarious entertainment from Brad Loekle; all-weekend pool parties; Halloween Costume Dance on Friday\, and a Day of the Dead-themed Dance on Saturday. Also enjoy cultural/holiday activities\, educational workshops\, vendor market\, entertaining drag shows\, exciting excursions\, and more. Don’t miss the highlight of the weekend – our 7th annual World Bear Contest – with portions taking place each evening. \nCome celebrate “Gay Christmas” (aka Halloween) with us this year in Lexington\, KY!
URL:https://bearslooking.com/event/world-bear-weekend-dia-de-los-osos/
LOCATION:Embassy Suites Lexington/Coldstream Campus\, 1801 Newtown Pike\, Lexington\, KY\, 40511\, United States
CATEGORIES:Bear,Contest,Party
ATTACH;FMTTYPE=image/jpeg:https://bearslooking.com/wp-content/uploads/2025/04/IMG_4944.jpeg
END:VEVENT
BEGIN:VEVENT
DTSTART;TZID=America/Los_Angeles:20251101T100000
DTEND;TZID=America/Los_Angeles:20251101T120000
DTSTAMP:20260425T052744
CREATED:20250512T192837Z
LAST-MODIFIED:20251101T082914Z
UID:16507-1761991200-1761998400@bearslooking.com
SUMMARY:Saturday Drag Brunch - Long Beach Location
DESCRIPTION:Join us for a fabulous Sunday Drag Brunch with the Brunchettes
URL:https://bearslooking.com/event/saturday-drag-brunch-long-beach-location-49/
LOCATION:Hamburger Mary’s Long Beach\, 330 Pine Avenue\, Long Beach\, CA\, 90802\, United States
CATEGORIES:Party
ATTACH;FMTTYPE=image/jpeg:https://bearslooking.com/wp-content/uploads/2025/05/77994e5e56c3485c882743296ec098d8.jpg
END:VEVENT
BEGIN:VEVENT
DTSTART;TZID=America/Los_Angeles:20251101T110000
DTEND;TZID=America/Los_Angeles:20251101T123000
DTSTAMP:20260425T052744
CREATED:20250706T214519Z
LAST-MODIFIED:20251101T082917Z
UID:19826-1761994800-1762000200@bearslooking.com
SUMMARY:Saturday Drag Brunch West Hollywood Location
DESCRIPTION:Join us for a fabulous Sunday Drag Brunch with the Brunchettes
URL:https://bearslooking.com/event/saturday-drag-brunch-west-hollywood-location-73/
LOCATION:Hamburger Mary’s\, 8288 Santa Monica Boulevard\, Los Angeles\, CA\, 90046\, United States
CATEGORIES:Party
ATTACH;FMTTYPE=image/jpeg:https://bearslooking.com/wp-content/uploads/2025/05/77994e5e56c3485c882743296ec098d8.jpg
END:VEVENT
BEGIN:VEVENT
DTSTART;TZID=America/Los_Angeles:20251101T123000
DTEND;TZID=America/Los_Angeles:20251101T140000
DTSTAMP:20260425T052744
CREATED:20250512T192838Z
LAST-MODIFIED:20251101T082915Z
UID:16508-1762000200-1762005600@bearslooking.com
SUMMARY:Saturday Drag Brunch - Long Beach Location
DESCRIPTION:Join us for a fabulous Sunday Drag Brunch with the Brunchettes
URL:https://bearslooking.com/event/saturday-drag-brunch-long-beach-location-50/
LOCATION:Hamburger Mary’s Long Beach\, 330 Pine Avenue\, Long Beach\, CA\, 90802\, United States
CATEGORIES:Party
ATTACH;FMTTYPE=image/jpeg:https://bearslooking.com/wp-content/uploads/2025/05/77994e5e56c3485c882743296ec098d8.jpg
END:VEVENT
BEGIN:VEVENT
DTSTART;TZID=America/Los_Angeles:20251101T130000
DTEND;TZID=America/Los_Angeles:20251101T143000
DTSTAMP:20260425T052744
CREATED:20250706T214519Z
LAST-MODIFIED:20251101T082934Z
UID:19827-1762002000-1762007400@bearslooking.com
SUMMARY:Saturday Drag Brunch West Hollywood Location
DESCRIPTION:Join us for a fabulous Sunday Drag Brunch with the Brunchettes
URL:https://bearslooking.com/event/saturday-drag-brunch-west-hollywood-location-74/
LOCATION:Hamburger Mary’s\, 8288 Santa Monica Boulevard\, Los Angeles\, CA\, 90046\, United States
CATEGORIES:Party
ATTACH;FMTTYPE=image/jpeg:https://bearslooking.com/wp-content/uploads/2025/05/77994e5e56c3485c882743296ec098d8.jpg
END:VEVENT
BEGIN:VEVENT
DTSTART;TZID=America/Los_Angeles:20251101T150000
DTEND;TZID=America/Los_Angeles:20251101T163000
DTSTAMP:20260425T052744
CREATED:20250713T004537Z
LAST-MODIFIED:20251101T082934Z
UID:19908-1762009200-1762014600@bearslooking.com
SUMMARY:Saturday Drag Brunch West Hollywood Location
DESCRIPTION:Join us for a fabulous Sunday Drag Brunch with the Brunchettes
URL:https://bearslooking.com/event/saturday-drag-brunch-west-hollywood-location-75/
LOCATION:Hamburger Mary’s\, 8288 Santa Monica Boulevard\, Los Angeles\, CA\, 90046\, United States
CATEGORIES:Party
ATTACH;FMTTYPE=image/jpeg:https://bearslooking.com/wp-content/uploads/2025/05/77994e5e56c3485c882743296ec098d8.jpg
END:VEVENT
BEGIN:VEVENT
DTSTART;TZID=America/Los_Angeles:20251101T190000
DTEND;TZID=America/Los_Angeles:20251101T220000
DTSTAMP:20260425T052744
CREATED:20250512T192858Z
LAST-MODIFIED:20251101T082914Z
UID:16607-1762023600-1762034400@bearslooking.com
SUMMARY:Mary's Cabaret - West Hollywood Location
DESCRIPTION:Get the party started on a Saturday Night at Hamburger Mary’s!
URL:https://bearslooking.com/event/marys-cabaret-west-hollywood-location-25/
LOCATION:Hamburger Mary’s\, 8288 Santa Monica Boulevard\, Los Angeles\, CA\, 90046\, United States
CATEGORIES:Party
ATTACH;FMTTYPE=image/jpeg:https://bearslooking.com/wp-content/uploads/2025/05/9f579f6bba94a1e7f400f3b65c00b798.jpg
END:VEVENT
END:VCALENDAR