BEGIN:VCALENDAR
VERSION:2.0
PRODID:-// - ECPv6.12.0.1//NONSGML v1.0//EN
CALSCALE:GREGORIAN
METHOD:PUBLISH
X-ORIGINAL-URL:https://bearslooking.com
X-WR-CALDESC:Events for 
REFRESH-INTERVAL;VALUE=DURATION:PT1H
X-Robots-Tag:noindex
X-PUBLISHED-TTL:PT1H
BEGIN:VTIMEZONE
TZID:America/Los_Angeles
BEGIN:DAYLIGHT
TZOFFSETFROM:-0800
TZOFFSETTO:-0700
TZNAME:PDT
DTSTART:20240310T100000
END:DAYLIGHT
BEGIN:STANDARD
TZOFFSETFROM:-0700
TZOFFSETTO:-0800
TZNAME:PST
DTSTART:20241103T090000
END:STANDARD
END:VTIMEZONE
BEGIN:VEVENT
DTSTART;TZID=America/Los_Angeles:20240127T200000
DTEND;TZID=America/Los_Angeles:20240127T230000
DTSTAMP:20260421T161515
CREATED:20240103T194943Z
LAST-MODIFIED:20240124T200454Z
UID:12784-1706385600-1706396400@bearslooking.com
SUMMARY:Bad Bitch Anthem Skate Night 18+ 8pm - 11pm Admission only
DESCRIPTION:Admission ticket only. Skate rentals must be purchased at the window ($8.00) if you don’t bring your own skates.\n\n\nSkate to the Anthems of Bad Bitches in music .  Beyonce\, Rhianna\, Cardi B.  Carol G\, Nicki\, Taylor\, Miley\, Ariana and so many more.  This event is 18+ and there will eb explicit lyrics played throughout the night.
URL:https://bearslooking.com/event/bad-bitch-anthem-skate-night-18-8pm-11pm-admission-only/
LOCATION:Moonlight Rollerway\, Inc.\, 5110 San Fernando Road\, Glendale\, CA\, 91204\, United States
CATEGORIES:Party
ATTACH;FMTTYPE=image/jpeg:https://bearslooking.com/wp-content/uploads/2024/01/f5cbad835dd58d133b26a428e13320a4.jpg
END:VEVENT
BEGIN:VEVENT
DTSTART;TZID=America/Los_Angeles:20240127T220000
DTEND;TZID=America/Los_Angeles:20240128T060000
DTSTAMP:20260421T161515
CREATED:20231207T060230Z
LAST-MODIFIED:20240128T091939Z
UID:12445-1706392800-1706421600@bearslooking.com
SUMMARY:BLACKOUT VI:  DJ JOE GAUTHREAUX
DESCRIPTION:Get ready to experience a Black Lit Journey with supersonic\, DJ Joe Gauthreaux BLACKOUT All Night Saturday Night at Los Globos.\n\n\nReflex & Gay Almanac invite you to the second event in our series of 8-Hour extended sets\, this time featuring Superstar DJ/Producer JOE GAUTHREAUX 10PM-6AM on Saturday Night January 27 at Los Globos. This time around we are pumping up the content by packing in an extra large serving of Black Lit decor from both 3DX (Miami) & Mario Sandoval (LA)\, with the return of our Laser Light Show\, A New improved and always FREE Clothes Check\, plus FREE INK provided by Marky Make-UP and our BLACKOUT dancers to lead you on into the Night.
URL:https://bearslooking.com/event/blackout-joe-gauthreaux/
LOCATION:3040 Sunset Blvd\, 3040 Sunset Boulevard\, Los Angeles\, CA\, 90026\, United States
CATEGORIES:Party
ATTACH;FMTTYPE=image/jpeg:https://bearslooking.com/wp-content/uploads/2023/12/b8a192dbc857659135d15c1d2d8aca81.jpg
END:VEVENT
END:VCALENDAR