BEGIN:VCALENDAR
VERSION:2.0
PRODID:-// - ECPv6.12.0.1//NONSGML v1.0//EN
CALSCALE:GREGORIAN
METHOD:PUBLISH
X-ORIGINAL-URL:https://bearslooking.com
X-WR-CALDESC:Events for 
REFRESH-INTERVAL;VALUE=DURATION:PT1H
X-Robots-Tag:noindex
X-PUBLISHED-TTL:PT1H
BEGIN:VTIMEZONE
TZID:America/Los_Angeles
BEGIN:DAYLIGHT
TZOFFSETFROM:-0800
TZOFFSETTO:-0700
TZNAME:PDT
DTSTART:20230312T100000
END:DAYLIGHT
BEGIN:STANDARD
TZOFFSETFROM:-0700
TZOFFSETTO:-0800
TZNAME:PST
DTSTART:20231105T090000
END:STANDARD
END:VTIMEZONE
BEGIN:VEVENT
DTSTART;TZID=America/Los_Angeles:20231213T200000
DTEND;TZID=America/Los_Angeles:20231213T230000
DTSTAMP:20260421T211937
CREATED:20231213T193200Z
LAST-MODIFIED:20231213T193200Z
UID:12510-1702497600-1702508400@bearslooking.com
SUMMARY:Rainbow Skate/DISCO Night All Ages 8pm-11pm
DESCRIPTION:LA’s premier LGBTQ+ skate night! Wednesday night all ages 8 PM to 11 PM.\nAdmission ticket only. Skate rental available at the door ($8.00).
URL:https://bearslooking.com/event/rainbow-skate-disco-night-all-ages-8pm-11pm-18/
LOCATION:Moonlight Rollerway\, Inc.\, 5110 San Fernando Road\, Glendale\, CA\, 91204\, United States
CATEGORIES:Party
ATTACH;FMTTYPE=image/jpeg:https://bearslooking.com/wp-content/uploads/2023/12/26bfe629fb80a1caacbb007e113b7885.jpg
END:VEVENT
END:VCALENDAR