BEGIN:VCALENDAR
VERSION:2.0
PRODID:-// - ECPv6.12.0.1//NONSGML v1.0//EN
CALSCALE:GREGORIAN
METHOD:PUBLISH
X-ORIGINAL-URL:https://bearslooking.com
X-WR-CALDESC:Events for 
REFRESH-INTERVAL;VALUE=DURATION:PT1H
X-Robots-Tag:noindex
X-PUBLISHED-TTL:PT1H
BEGIN:VTIMEZONE
TZID:America/Los_Angeles
BEGIN:DAYLIGHT
TZOFFSETFROM:-0800
TZOFFSETTO:-0700
TZNAME:PDT
DTSTART:20230312T100000
END:DAYLIGHT
BEGIN:STANDARD
TZOFFSETFROM:-0700
TZOFFSETTO:-0800
TZNAME:PST
DTSTART:20231105T090000
END:STANDARD
END:VTIMEZONE
BEGIN:VEVENT
DTSTART;TZID=America/Los_Angeles:20231130T190000
DTEND;TZID=America/Los_Angeles:20231130T230000
DTSTAMP:20260421T211400
CREATED:20231129T193223Z
LAST-MODIFIED:20231129T193223Z
UID:12315-1701370800-1701385200@bearslooking.com
SUMMARY:ALL AGES Beginner's Class
DESCRIPTION:This class teaches the new skater the basic techniques of roller skating including balance\, good posture and safety.\n\n\nThis class teaches the new skater the basic techniques of roller skating including balance\, good posture and safety. These techniques include balancing while standing still\, good posture for forward and backwards skating and stopping.
URL:https://bearslooking.com/event/all-ages-beginners-class-5/
LOCATION:Moonlight Rollerway\, Inc.\, 5110 San Fernando Road\, Glendale\, CA\, 91204\, United States
CATEGORIES:Party
ATTACH;FMTTYPE=image/jpeg:https://bearslooking.com/wp-content/uploads/2023/11/3c940fc9d8912f4a367304a199bfb90d.jpg
END:VEVENT
BEGIN:VEVENT
DTSTART;TZID=America/Los_Angeles:20231130T200000
DTEND;TZID=America/Los_Angeles:20231130T230000
DTSTAMP:20260421T211400
CREATED:20231129T193225Z
LAST-MODIFIED:20231129T193225Z
UID:12317-1701374400-1701385200@bearslooking.com
SUMMARY:Throwback Thursday night All Ages 8pm-11pm
DESCRIPTION:Thursday night all ages 8 PM to 11 PM.\nAdmission ticket only. Skate rental available at the door ($8.00).\n\n\nThursday night all ages 8 PM to 11 PM. Admission ticket only. Skate rental available at the door ($8.00).
URL:https://bearslooking.com/event/throwback-thursday-night-all-ages-8pm-11pm-15/
LOCATION:Moonlight Rollerway\, Inc.\, 5110 San Fernando Road\, Glendale\, CA\, 91204\, United States
CATEGORIES:Party
ATTACH;FMTTYPE=image/jpeg:https://bearslooking.com/wp-content/uploads/2023/11/cff19c16149709e1a5b47cb39719dcc5.jpg
END:VEVENT
END:VCALENDAR