BEGIN:VCALENDAR
VERSION:2.0
PRODID:-// - ECPv6.12.0.1//NONSGML v1.0//EN
CALSCALE:GREGORIAN
METHOD:PUBLISH
X-ORIGINAL-URL:https://bearslooking.com
X-WR-CALDESC:Events for 
REFRESH-INTERVAL;VALUE=DURATION:PT1H
X-Robots-Tag:noindex
X-PUBLISHED-TTL:PT1H
BEGIN:VTIMEZONE
TZID:America/Los_Angeles
BEGIN:DAYLIGHT
TZOFFSETFROM:-0800
TZOFFSETTO:-0700
TZNAME:PDT
DTSTART:20230312T100000
END:DAYLIGHT
BEGIN:STANDARD
TZOFFSETFROM:-0700
TZOFFSETTO:-0800
TZNAME:PST
DTSTART:20231105T090000
END:STANDARD
END:VTIMEZONE
BEGIN:VEVENT
DTSTART;TZID=America/Los_Angeles:20231129T200000
DTEND;TZID=America/Los_Angeles:20231129T230000
DTSTAMP:20260421T225607
CREATED:20231129T193221Z
LAST-MODIFIED:20231129T193221Z
UID:12313-1701288000-1701298800@bearslooking.com
SUMMARY:Rainbow Skate/DISCO Night All Ages 8pm-11pm
DESCRIPTION:LA’s premier LGBTQ+ skate night! Wednesday night all ages 8 PM to 11 PM.\nAdmission ticket only. Skate rental available at the door ($8.00).
URL:https://bearslooking.com/event/rainbow-skate-disco-night-all-ages-8pm-11pm-16/
LOCATION:Moonlight Rollerway\, Inc.\, 5110 San Fernando Road\, Glendale\, CA\, 91204\, United States
CATEGORIES:Party
ATTACH;FMTTYPE=image/jpeg:https://bearslooking.com/wp-content/uploads/2023/11/3c8c96ad7f84fd69fae7ca20734b9916.jpg
END:VEVENT
END:VCALENDAR