BEGIN:VCALENDAR
VERSION:2.0
PRODID:-// - ECPv6.12.0.1//NONSGML v1.0//EN
CALSCALE:GREGORIAN
METHOD:PUBLISH
X-ORIGINAL-URL:https://bearslooking.com
X-WR-CALDESC:Events for 
REFRESH-INTERVAL;VALUE=DURATION:PT1H
X-Robots-Tag:noindex
X-PUBLISHED-TTL:PT1H
BEGIN:VTIMEZONE
TZID:America/Los_Angeles
BEGIN:DAYLIGHT
TZOFFSETFROM:-0800
TZOFFSETTO:-0700
TZNAME:PDT
DTSTART:20230312T100000
END:DAYLIGHT
BEGIN:STANDARD
TZOFFSETFROM:-0700
TZOFFSETTO:-0800
TZNAME:PST
DTSTART:20231105T090000
END:STANDARD
BEGIN:DAYLIGHT
TZOFFSETFROM:-0800
TZOFFSETTO:-0700
TZNAME:PDT
DTSTART:20240310T100000
END:DAYLIGHT
BEGIN:STANDARD
TZOFFSETFROM:-0700
TZOFFSETTO:-0800
TZNAME:PST
DTSTART:20241103T090000
END:STANDARD
END:VTIMEZONE
BEGIN:VEVENT
DTSTART;TZID=America/Los_Angeles:20231220T171500
DTEND;TZID=America/Los_Angeles:20240105T190000
DTSTAMP:20260421T142307
CREATED:20231129T193237Z
LAST-MODIFIED:20231220T193259Z
UID:12332-1703092500-1704481200@bearslooking.com
SUMMARY:Rolling Around the Holidays  Artistic Skating Recital
DESCRIPTION:Come and see what our skating classes have been learning as well as exhibitions from professional skaters!\n\n\nThere will be a skating intermission\, skate rentals for the intermission can be purchased at the rink for $8.
URL:https://bearslooking.com/event/rolling-around-the-holidays-artistic-skating-recital/
LOCATION:Moonlight Rollerway\, Inc.\, 5110 San Fernando Road\, Glendale\, CA\, 91204\, United States
CATEGORIES:Party
ATTACH;FMTTYPE=image/jpeg:https://bearslooking.com/wp-content/uploads/2023/11/495cef6fe0ade42d6051b62fe7d1af1e.jpg
END:VEVENT
BEGIN:VEVENT
DTSTART;TZID=America/Los_Angeles:20240102T190000
DTEND;TZID=America/Los_Angeles:20240102T230000
DTSTAMP:20260421T142307
CREATED:20231227T193426Z
LAST-MODIFIED:20231227T193426Z
UID:12693-1704222000-1704236400@bearslooking.com
SUMMARY:Adult Class All Levels
DESCRIPTION:Admission ticket only. Skate rentals must be purchased at the window ($8.00) if you don’t bring your own skates.\n\n\nThis class teaches the basic fundamentals of roller skating including balance\, good posture\, starting and stopping\, and how to get up safely. Forward and backward skating\, two foot turns and skating in time to music.  Skaters in this class will also learn forward and backward dance steps.  All of our instructors are certified by U.S.A. Roller Sports and the Society of Roller Skating Teachers of America.  You cost includes the class and the ability to stay after for the public session to practice.  SKATE RENTAL IS EXTRA at the door.
URL:https://bearslooking.com/event/adult-class-all-levels-18/
LOCATION:Moonlight Rollerway\, Inc.\, 5110 San Fernando Road\, Glendale\, CA\, 91204\, United States
CATEGORIES:Party
ATTACH;FMTTYPE=image/jpeg:https://bearslooking.com/wp-content/uploads/2023/12/5d8f7eea564947c1c72a9a3a75cc90e6.jpg
END:VEVENT
BEGIN:VEVENT
DTSTART;TZID=America/Los_Angeles:20240102T200000
DTEND;TZID=America/Los_Angeles:20240102T230000
DTSTAMP:20260421T142307
CREATED:20231227T193428Z
LAST-MODIFIED:20231227T193428Z
UID:12695-1704225600-1704236400@bearslooking.com
SUMMARY:Tuesday night All Ages 8pm-11pm
DESCRIPTION:Admission ticket only. Skate rentals must be purchased at the window ($8.00) if you don’t bring your own skates.
URL:https://bearslooking.com/event/tuesday-night-all-ages-8pm-11pm-18/
LOCATION:Moonlight Rollerway\, Inc.\, 5110 San Fernando Road\, Glendale\, CA\, 91204\, United States
CATEGORIES:Party
ATTACH;FMTTYPE=image/jpeg:https://bearslooking.com/wp-content/uploads/2023/08/188090f6d07c1e197d05065855486d8c.jpg
END:VEVENT
BEGIN:VEVENT
DTSTART;TZID=America/Los_Angeles:20240103T200000
DTEND;TZID=America/Los_Angeles:20240103T230000
DTSTAMP:20260421T142307
CREATED:20240103T194940Z
LAST-MODIFIED:20240103T194940Z
UID:12771-1704312000-1704322800@bearslooking.com
SUMMARY:Rainbow Skate/DISCO Night All Ages 8pm-11pm
DESCRIPTION:LA’s premier LGBTQ+ skate night! Admission ticket only. Skate rentals must be purchased at the window ($8.00) if you don’t bring your own
URL:https://bearslooking.com/event/rainbow-skate-disco-night-all-ages-8pm-11pm-21/
LOCATION:Moonlight Rollerway\, Inc.\, 5110 San Fernando Road\, Glendale\, CA\, 91204\, United States
CATEGORIES:Party
ATTACH;FMTTYPE=image/jpeg:https://bearslooking.com/wp-content/uploads/2023/09/f1b4ade5ba66091f67b44809a6d1008d.jpg
END:VEVENT
BEGIN:VEVENT
DTSTART;TZID=America/Los_Angeles:20240104T200000
DTEND;TZID=America/Los_Angeles:20240104T230000
DTSTAMP:20260421T142307
CREATED:20240103T194940Z
LAST-MODIFIED:20240103T194940Z
UID:12772-1704398400-1704409200@bearslooking.com
SUMMARY:Throwback Thursday night All Ages 8pm-11pm
DESCRIPTION:Admission ticket only. Skate rentals must be purchased at the window ($8.00) if you don’t bring your own skates.\n\n\nThursday night all ages 8 PM to 11 PM. Admission ticket only. Skate rental available at the door ($8.00).
URL:https://bearslooking.com/event/throwback-thursday-night-all-ages-8pm-11pm-19/
LOCATION:Moonlight Rollerway\, Inc.\, 5110 San Fernando Road\, Glendale\, CA\, 91204\, United States
CATEGORIES:Party
ATTACH;FMTTYPE=image/jpeg:https://bearslooking.com/wp-content/uploads/2023/09/0ef4e35f9e6fd3a2e473e45c52e3692d.jpg
END:VEVENT
BEGIN:VEVENT
DTSTART;TZID=America/Los_Angeles:20240105T200000
DTEND;TZID=America/Los_Angeles:20240105T230000
DTSTAMP:20260421T142307
CREATED:20240103T194940Z
LAST-MODIFIED:20240103T194940Z
UID:12773-1704484800-1704495600@bearslooking.com
SUMMARY:Friday night All Ages 8pm-11pm
DESCRIPTION:Admission ticket only. Skate rentals must be purchased at the window ($8.00) if you don’t bring your own skates.
URL:https://bearslooking.com/event/friday-night-all-ages-8pm-11pm-21/
LOCATION:Moonlight Rollerway\, Inc.\, 5110 San Fernando Road\, Glendale\, CA\, 91204\, United States
CATEGORIES:Party
ATTACH;FMTTYPE=image/jpeg:https://bearslooking.com/wp-content/uploads/2023/09/f1b7dbfc1b76e437a9f99b569b9be074.jpg
END:VEVENT
BEGIN:VEVENT
DTSTART;TZID=America/Los_Angeles:20240106T200000
DTEND;TZID=America/Los_Angeles:20240106T230000
DTSTAMP:20260421T142307
CREATED:20240103T194940Z
LAST-MODIFIED:20240103T194940Z
UID:12774-1704571200-1704582000@bearslooking.com
SUMMARY:Saturday night All Ages 8pm-11pm
DESCRIPTION:Admission ticket only. Skate rentals must be purchased at the window ($8.00) if you don’t bring your own skates.
URL:https://bearslooking.com/event/saturday-night-all-ages-8pm-11pm-16/
LOCATION:Moonlight Rollerway\, Inc.\, 5110 San Fernando Road\, Glendale\, CA\, 91204\, United States
CATEGORIES:Party
ATTACH;FMTTYPE=image/jpeg:https://bearslooking.com/wp-content/uploads/2023/09/1db7ed70e242ff2225c63a5478d573e9.jpg
END:VEVENT
BEGIN:VEVENT
DTSTART;TZID=America/Los_Angeles:20240107T200000
DTEND;TZID=America/Los_Angeles:20240107T230000
DTSTAMP:20260421T142307
CREATED:20240103T194940Z
LAST-MODIFIED:20240103T194940Z
UID:12775-1704657600-1704668400@bearslooking.com
SUMMARY:Sunday Night ALL AGES 8pm - 11pm Admission only
DESCRIPTION:Admission ticket only. Skate rentals must be purchased at the window ($8.00) if you don’t bring your own skates.
URL:https://bearslooking.com/event/sunday-night-all-ages-8pm-11pm-admission-only/
LOCATION:Moonlight Rollerway\, Inc.\, 5110 San Fernando Road\, Glendale\, CA\, 91204\, United States
CATEGORIES:Party
ATTACH;FMTTYPE=image/jpeg:https://bearslooking.com/wp-content/uploads/2024/01/2e22fc3c018179052d6cdb6fc2511736.jpg
END:VEVENT
BEGIN:VEVENT
DTSTART;TZID=America/Los_Angeles:20240108T200000
DTEND;TZID=America/Los_Angeles:20240108T230000
DTSTAMP:20260421T142307
CREATED:20240103T194940Z
LAST-MODIFIED:20240103T194940Z
UID:12777-1704744000-1704754800@bearslooking.com
SUMMARY:Monday Night 18 and over only 8pm - 11pm Admission only
DESCRIPTION:Admission ticket only. Skate rentals must be purchased at the window ($8.00) if you don’t bring your own skates.
URL:https://bearslooking.com/event/monday-night-18-and-over-only-8pm-11pm-admission-only/
LOCATION:Moonlight Rollerway\, Inc.\, 5110 San Fernando Road\, Glendale\, CA\, 91204\, United States
CATEGORIES:Party
ATTACH;FMTTYPE=image/jpeg:https://bearslooking.com/wp-content/uploads/2024/01/2b7f3f70ad9bcdf4f982f8352676d347.jpg
END:VEVENT
BEGIN:VEVENT
DTSTART;TZID=America/Los_Angeles:20240109T190000
DTEND;TZID=America/Los_Angeles:20240109T230000
DTSTAMP:20260421T142307
CREATED:20240103T194941Z
LAST-MODIFIED:20240103T194941Z
UID:12779-1704826800-1704841200@bearslooking.com
SUMMARY:Adult Skating Class - All Levels
DESCRIPTION:Admission ticket only. Skate rentals must be purchased at the window ($8.00) if you don’t bring your own skates.\n\n\nThis class teaches the basic fundamentals of roller skating including balance\, good posture\, starting and stopping\, and how to get up safely. Forward and backward skating\, two foot turns and skating in time to music. Skaters in this class will also learn forward and backward dance steps. All of our instructors are certified by U.S.A. Roller Sports and the Society of Roller Skating Teachers of America. Your cost includes the class and the ability to stay after for the public session to practice. SKATE RENTAL IS EXTRA at the door.
URL:https://bearslooking.com/event/adult-skating-class-all-levels/
LOCATION:Moonlight Rollerway\, Inc.\, 5110 San Fernando Road\, Glendale\, CA\, 91204\, United States
CATEGORIES:Party
ATTACH;FMTTYPE=image/jpeg:https://bearslooking.com/wp-content/uploads/2024/01/db53ad723e432cfc4c50aef5cb1ad980.jpg
END:VEVENT
BEGIN:VEVENT
DTSTART;TZID=America/Los_Angeles:20240109T200000
DTEND;TZID=America/Los_Angeles:20240109T230000
DTSTAMP:20260421T142307
CREATED:20240103T194942Z
LAST-MODIFIED:20240103T194942Z
UID:12781-1704830400-1704841200@bearslooking.com
SUMMARY:Tuesday Night ALL AGES 8pm - 11pm
DESCRIPTION:Admission ticket only. Skate rentals must be purchased at the window ($8.00) if you don’t bring your own skates.
URL:https://bearslooking.com/event/tuesday-night-all-ages-8pm-11pm-19/
LOCATION:Moonlight Rollerway\, Inc.\, 5110 San Fernando Road\, Glendale\, CA\, 91204\, United States
CATEGORIES:Party
ATTACH;FMTTYPE=image/jpeg:https://bearslooking.com/wp-content/uploads/2024/01/10bc95a63da8e9a1c6f5abeb28cac31c.jpg
END:VEVENT
BEGIN:VEVENT
DTSTART;TZID=America/Los_Angeles:20240110T200000
DTEND;TZID=America/Los_Angeles:20240110T230000
DTSTAMP:20260421T142307
CREATED:20240110T194944Z
LAST-MODIFIED:20240110T194944Z
UID:12861-1704916800-1704927600@bearslooking.com
SUMMARY:Rainbow/Disco Skate Night ALL AGES 8pm - 11pm
DESCRIPTION:Disco classics from 70’s and 80’s Admission ticket only. Skate rentals must be purchased at the window ($8.00) if you don’t bring your own\n\n\nLA’s premier LGBTQ+ skate night! Wednesday night all ages 8 PM to 11 PM.  \nAdmission ticket only. Skate rental available at the door ($8.00).
URL:https://bearslooking.com/event/rainbow-disco-skate-night-all-ages-8pm-11pm/
LOCATION:Moonlight Rollerway\, Inc.\, 5110 San Fernando Road\, Glendale\, CA\, 91204\, United States
CATEGORIES:Party
ATTACH;FMTTYPE=image/jpeg:https://bearslooking.com/wp-content/uploads/2024/01/038f2014013c20286623878fd36a3dfa.jpg
END:VEVENT
BEGIN:VEVENT
DTSTART;TZID=America/Los_Angeles:20240111T200000
DTEND;TZID=America/Los_Angeles:20240111T230000
DTSTAMP:20260421T142307
CREATED:20240110T194944Z
LAST-MODIFIED:20240110T194944Z
UID:12863-1705003200-1705014000@bearslooking.com
SUMMARY:Thursday Throwback Skate Night ALL AGES 8pm - 11pm
DESCRIPTION:Admission ticket only. Skate rentals must be purchased at the window ($8.00) if you don’t bring your own skates.
URL:https://bearslooking.com/event/thursday-throwback-skate-night-all-ages-8pm-11pm/
LOCATION:Moonlight Rollerway\, Inc.\, 5110 San Fernando Road\, Glendale\, CA\, 91204\, United States
CATEGORIES:Party
ATTACH;FMTTYPE=image/jpeg:https://bearslooking.com/wp-content/uploads/2024/01/9979566bb79678d11719079aabc191c3.jpg
END:VEVENT
BEGIN:VEVENT
DTSTART;TZID=America/Los_Angeles:20240112T200000
DTEND;TZID=America/Los_Angeles:20240112T230000
DTSTAMP:20260421T142307
CREATED:20240110T194944Z
LAST-MODIFIED:20240110T194944Z
UID:12865-1705089600-1705100400@bearslooking.com
SUMMARY:Friday Night ALL AGES 8pm - 11pm Admission only
DESCRIPTION:Admission ticket only. Skate rentals must be purchased at the window ($8.00) if you don’t bring your own skates.
URL:https://bearslooking.com/event/friday-night-all-ages-8pm-11pm-admission-only/
LOCATION:Moonlight Rollerway\, Inc.\, 5110 San Fernando Road\, Glendale\, CA\, 91204\, United States
CATEGORIES:Party
ATTACH;FMTTYPE=image/jpeg:https://bearslooking.com/wp-content/uploads/2024/01/55849111a06356e9866934c285b11c4b.jpg
END:VEVENT
BEGIN:VEVENT
DTSTART;TZID=America/Los_Angeles:20240113T200000
DTEND;TZID=America/Los_Angeles:20240113T230000
DTSTAMP:20260421T142307
CREATED:20240110T194944Z
LAST-MODIFIED:20240110T194944Z
UID:12867-1705176000-1705186800@bearslooking.com
SUMMARY:Saturday Night ALL AGES 8pm - 11pm Admission only
DESCRIPTION:Admission ticket only. Skate rentals must be purchased at the window ($8.00) if you don’t bring your own skates.
URL:https://bearslooking.com/event/saturday-night-all-ages-8pm-11pm-admission-only/
LOCATION:Moonlight Rollerway\, Inc.\, 5110 San Fernando Road\, Glendale\, CA\, 91204\, United States
CATEGORIES:Party
ATTACH;FMTTYPE=image/jpeg:https://bearslooking.com/wp-content/uploads/2024/01/8949acdd4c64248032e94d5353031038.jpg
END:VEVENT
BEGIN:VEVENT
DTSTART;TZID=America/Los_Angeles:20240114T200000
DTEND;TZID=America/Los_Angeles:20240114T230000
DTSTAMP:20260421T142307
CREATED:20240110T194945Z
LAST-MODIFIED:20240110T194945Z
UID:12869-1705262400-1705273200@bearslooking.com
SUMMARY:Sunday Night ALL AGES 8pm - 11pm Admission only
DESCRIPTION:Admission ticket only. Skate rentals must be purchased at the window ($8.00) if you don’t bring your own skates.
URL:https://bearslooking.com/event/sunday-night-all-ages-8pm-11pm-admission-only-2/
LOCATION:Moonlight Rollerway\, Inc.\, 5110 San Fernando Road\, Glendale\, CA\, 91204\, United States
CATEGORIES:Party
ATTACH;FMTTYPE=image/jpeg:https://bearslooking.com/wp-content/uploads/2024/01/2e22fc3c018179052d6cdb6fc2511736.jpg
END:VEVENT
BEGIN:VEVENT
DTSTART;TZID=America/Los_Angeles:20240115T200000
DTEND;TZID=America/Los_Angeles:20240115T230000
DTSTAMP:20260421T142307
CREATED:20240110T194945Z
LAST-MODIFIED:20240110T194945Z
UID:12870-1705348800-1705359600@bearslooking.com
SUMMARY:Monday Night 18 and over only 8pm - 11pm Admission only
DESCRIPTION:Admission ticket only. Skate rentals must be purchased at the window ($8.00) if you don’t bring your own skates.
URL:https://bearslooking.com/event/monday-night-18-and-over-only-8pm-11pm-admission-only-2/
LOCATION:Moonlight Rollerway\, Inc.\, 5110 San Fernando Road\, Glendale\, CA\, 91204\, United States
CATEGORIES:Party
ATTACH;FMTTYPE=image/jpeg:https://bearslooking.com/wp-content/uploads/2024/01/c777027efc15fb58673982ddf90ffe6b.jpg
END:VEVENT
BEGIN:VEVENT
DTSTART;TZID=America/Los_Angeles:20240116T190000
DTEND;TZID=America/Los_Angeles:20240116T230000
DTSTAMP:20260421T142307
CREATED:20240110T194945Z
LAST-MODIFIED:20240110T194945Z
UID:12872-1705431600-1705446000@bearslooking.com
SUMMARY:Adult Skating Class - All Levels
DESCRIPTION:Admission ticket only. Skate rentals must be purchased at the window ($8.00) if you don’t bring your own skates.\n\n\nThis class teaches the basic fundamentals of roller skating including balance\, good posture\, starting and stopping\, and how to get up safely. Forward and backward skating\, two foot turns and skating in time to music. Skaters in this class will also learn forward and backward dance steps. All of our instructors are certified by U.S.A. Roller Sports and the Society of Roller Skating Teachers of America. Your cost includes the class and the ability to stay after for the public session to practice. SKATE RENTAL IS EXTRA at the door.
URL:https://bearslooking.com/event/adult-skating-class-all-levels-2/
LOCATION:Moonlight Rollerway\, Inc.\, 5110 San Fernando Road\, Glendale\, CA\, 91204\, United States
CATEGORIES:Party
ATTACH;FMTTYPE=image/jpeg:https://bearslooking.com/wp-content/uploads/2024/01/db53ad723e432cfc4c50aef5cb1ad980.jpg
END:VEVENT
BEGIN:VEVENT
DTSTART;TZID=America/Los_Angeles:20240116T200000
DTEND;TZID=America/Los_Angeles:20240116T230000
DTSTAMP:20260421T142307
CREATED:20240110T194945Z
LAST-MODIFIED:20240110T194945Z
UID:12873-1705435200-1705446000@bearslooking.com
SUMMARY:Tuesday Night ALL AGES 8pm - 11pm
DESCRIPTION:Admission ticket only. Skate rentals must be purchased at the window ($8.00) if you don’t bring your own skates.
URL:https://bearslooking.com/event/tuesday-night-all-ages-8pm-11pm-20/
LOCATION:Moonlight Rollerway\, Inc.\, 5110 San Fernando Road\, Glendale\, CA\, 91204\, United States
CATEGORIES:Party
ATTACH;FMTTYPE=image/jpeg:https://bearslooking.com/wp-content/uploads/2024/01/10bc95a63da8e9a1c6f5abeb28cac31c.jpg
END:VEVENT
BEGIN:VEVENT
DTSTART;TZID=America/Los_Angeles:20240117T200000
DTEND;TZID=America/Los_Angeles:20240117T230000
DTSTAMP:20260421T142307
CREATED:20240117T194939Z
LAST-MODIFIED:20240117T194939Z
UID:12952-1705521600-1705532400@bearslooking.com
SUMMARY:Rainbow/Disco Skate Night ALL AGES 8pm - 11pm
DESCRIPTION:Admission ticket only. Skate rentals must be purchased at the window ($8.00) if you don’t bring your own skates.\n\n\nLA’s premier LGBTQ+ skate night! Wednesday night all ages 8 PM to 11 PM.  \nAdmission ticket only. Skate rental available at the door ($8.00).
URL:https://bearslooking.com/event/rainbow-disco-skate-night-all-ages-8pm-11pm-2/
LOCATION:Moonlight Rollerway\, Inc.\, 5110 San Fernando Road\, Glendale\, CA\, 91204\, United States
CATEGORIES:Party
ATTACH;FMTTYPE=image/jpeg:https://bearslooking.com/wp-content/uploads/2024/01/038f2014013c20286623878fd36a3dfa.jpg
END:VEVENT
BEGIN:VEVENT
DTSTART;TZID=America/Los_Angeles:20240118T200000
DTEND;TZID=America/Los_Angeles:20240118T230000
DTSTAMP:20260421T142307
CREATED:20240117T194939Z
LAST-MODIFIED:20240117T194939Z
UID:12953-1705608000-1705618800@bearslooking.com
SUMMARY:Thursday Throwback Skate Night ALL AGES 8pm - 11pm
DESCRIPTION:Admission ticket only. Skate rentals must be purchased at the window ($8.00) if you don’t bring your own skates.
URL:https://bearslooking.com/event/thursday-throwback-skate-night-all-ages-8pm-11pm-2/
LOCATION:Moonlight Rollerway\, Inc.\, 5110 San Fernando Road\, Glendale\, CA\, 91204\, United States
CATEGORIES:Party
ATTACH;FMTTYPE=image/jpeg:https://bearslooking.com/wp-content/uploads/2024/01/26817d6f9027a6cf6208a8e4bfd89bcf.jpg
END:VEVENT
BEGIN:VEVENT
DTSTART;TZID=America/Los_Angeles:20240119T200000
DTEND;TZID=America/Los_Angeles:20240119T230000
DTSTAMP:20260421T142307
CREATED:20231227T193428Z
LAST-MODIFIED:20240117T194939Z
UID:12696-1705694400-1705705200@bearslooking.com
SUMMARY:David Bowie Skate Night ALL AGES 8pm - 11pm Admission only
DESCRIPTION:Admission ticket only. Skate rentals must be purchased at the window ($8.00) if you don’t bring your own skates.
URL:https://bearslooking.com/event/david-bowie-skate-night-all-ages-8pm-11pm-admission-only/
LOCATION:Moonlight Rollerway\, Inc.\, 5110 San Fernando Road\, Glendale\, CA\, 91204\, United States
CATEGORIES:Party
ATTACH;FMTTYPE=image/jpeg:https://bearslooking.com/wp-content/uploads/2023/12/e511c8f31d2ecced80afe9094e7ef9b0.jpg
END:VEVENT
BEGIN:VEVENT
DTSTART;TZID=America/Los_Angeles:20240120T200000
DTEND;TZID=America/Los_Angeles:20240120T230000
DTSTAMP:20260421T142307
CREATED:20240117T194939Z
LAST-MODIFIED:20240117T194939Z
UID:12955-1705780800-1705791600@bearslooking.com
SUMMARY:Saturday Night ALL AGES 8pm - 11pm Admission only
DESCRIPTION:Admission ticket only. Skate rentals must be purchased at the window ($8.00) if you don’t bring your own skates.
URL:https://bearslooking.com/event/saturday-night-all-ages-8pm-11pm-admission-only-2/
LOCATION:Moonlight Rollerway\, Inc.\, 5110 San Fernando Road\, Glendale\, CA\, 91204\, United States
CATEGORIES:Party
ATTACH;FMTTYPE=image/jpeg:https://bearslooking.com/wp-content/uploads/2024/01/8949acdd4c64248032e94d5353031038.jpg
END:VEVENT
BEGIN:VEVENT
DTSTART;TZID=America/Los_Angeles:20240121T170000
DTEND;TZID=America/Los_Angeles:20240121T200000
DTSTAMP:20260421T142307
CREATED:20231122T193354Z
LAST-MODIFIED:20240117T194939Z
UID:12233-1705856400-1705867200@bearslooking.com
SUMMARY:LA ROLLER WORKSHOP - ALL AGES!  ALL LEVELS!
DESCRIPTION:Learn to skate with LA Roller Entertainment! We have opened this up to all ages and all levels!\n\n\nWe are so excited to skate with you\, what better time than now to lace up those skates and level up on your moves! \nThere will be instruction given on beginner and intermediate levels as well as a roller dance! \nOur extensive background and training allows us to be the number one trusted source for all ages\, all levels\, and all disciplines of roller skating. No matter your roller skating goals\, we can help you along your journey! \nBringing skaters together is a great passion for us and we are honored to be able t o share our knowledge and expertise with you! Bring a friend\, bring the family\, bring yourself and come skate! We are excited to meet new faces and love getting to re-connect with our roller friends! \nCan’t wait to roll with you! \nXOXO\, \nLA Roller Entertainment X Moonlight Rollerway
URL:https://bearslooking.com/event/la-roller-workshop-all-ages-all-levels/
LOCATION:Moonlight Rollerway\, Inc.\, 5110 San Fernando Road\, Glendale\, CA\, 91204\, United States
CATEGORIES:Party
ATTACH;FMTTYPE=image/jpeg:https://bearslooking.com/wp-content/uploads/2023/12/c24527b0e653d2aeab9c43ec2e9b3627.jpg
END:VEVENT
BEGIN:VEVENT
DTSTART;TZID=America/Los_Angeles:20240121T200000
DTEND;TZID=America/Los_Angeles:20240121T230000
DTSTAMP:20260421T142307
CREATED:20240117T194939Z
LAST-MODIFIED:20240117T194939Z
UID:12956-1705867200-1705878000@bearslooking.com
SUMMARY:Sunday Night ALL AGES 8pm - 11pm Admission only
DESCRIPTION:Admission ticket only. Skate rentals must be purchased at the window ($8.00) if you don’t bring your own skates.
URL:https://bearslooking.com/event/sunday-night-all-ages-8pm-11pm-admission-only-3/
LOCATION:Moonlight Rollerway\, Inc.\, 5110 San Fernando Road\, Glendale\, CA\, 91204\, United States
CATEGORIES:Party
ATTACH;FMTTYPE=image/jpeg:https://bearslooking.com/wp-content/uploads/2024/01/2e22fc3c018179052d6cdb6fc2511736.jpg
END:VEVENT
BEGIN:VEVENT
DTSTART;TZID=America/Los_Angeles:20240122T200000
DTEND;TZID=America/Los_Angeles:20240122T230000
DTSTAMP:20260421T142307
CREATED:20240117T194939Z
LAST-MODIFIED:20240117T194939Z
UID:12957-1705953600-1705964400@bearslooking.com
SUMMARY:Monday Night 18 and over only 8pm - 11pm Admission only
DESCRIPTION:Admission ticket only. Skate rentals must be purchased at the window ($8.00) if you don’t bring your own skates.
URL:https://bearslooking.com/event/monday-night-18-and-over-only-8pm-11pm-admission-only-3/
LOCATION:Moonlight Rollerway\, Inc.\, 5110 San Fernando Road\, Glendale\, CA\, 91204\, United States
CATEGORIES:Party
ATTACH;FMTTYPE=image/jpeg:https://bearslooking.com/wp-content/uploads/2024/01/c777027efc15fb58673982ddf90ffe6b.jpg
END:VEVENT
BEGIN:VEVENT
DTSTART;TZID=America/Los_Angeles:20240123T190000
DTEND;TZID=America/Los_Angeles:20240123T230000
DTSTAMP:20260421T142307
CREATED:20240117T194939Z
LAST-MODIFIED:20240117T194939Z
UID:12958-1706036400-1706050800@bearslooking.com
SUMMARY:Adult Skating Class - All Levels
DESCRIPTION:Admission ticket only. Skate rentals must be purchased at the window ($8.00) if you don’t bring your own skates.\n\n\nThis class teaches the basic fundamentals of roller skating including balance\, good posture\, starting and stopping\, and how to get up safely. Forward and backward skating\, two foot turns and skating in time to music. Skaters in this class will also learn forward and backward dance steps. All of our instructors are certified by U.S.A. Roller Sports and the Society of Roller Skating Teachers of America. Your cost includes the class and the ability to stay after for the public session to practice. SKATE RENTAL IS EXTRA at the door.
URL:https://bearslooking.com/event/adult-skating-class-all-levels-3/
LOCATION:Moonlight Rollerway\, Inc.\, 5110 San Fernando Road\, Glendale\, CA\, 91204\, United States
CATEGORIES:Party
ATTACH;FMTTYPE=image/jpeg:https://bearslooking.com/wp-content/uploads/2024/01/db53ad723e432cfc4c50aef5cb1ad980.jpg
END:VEVENT
BEGIN:VEVENT
DTSTART;TZID=America/Los_Angeles:20240123T200000
DTEND;TZID=America/Los_Angeles:20240123T230000
DTSTAMP:20260421T142307
CREATED:20240117T194939Z
LAST-MODIFIED:20240117T194939Z
UID:12959-1706040000-1706050800@bearslooking.com
SUMMARY:Tuesday Night ALL AGES 8pm - 11pm
DESCRIPTION:Admission ticket only. Skate rentals must be purchased at the window ($8.00) if you don’t bring your own skates.
URL:https://bearslooking.com/event/tuesday-night-all-ages-8pm-11pm-21/
LOCATION:Moonlight Rollerway\, Inc.\, 5110 San Fernando Road\, Glendale\, CA\, 91204\, United States
CATEGORIES:Party
ATTACH;FMTTYPE=image/jpeg:https://bearslooking.com/wp-content/uploads/2024/01/10bc95a63da8e9a1c6f5abeb28cac31c.jpg
END:VEVENT
BEGIN:VEVENT
DTSTART;TZID=America/Los_Angeles:20240124T200000
DTEND;TZID=America/Los_Angeles:20240124T230000
DTSTAMP:20260421T142307
CREATED:20240124T200454Z
LAST-MODIFIED:20240124T200454Z
UID:13040-1706126400-1706137200@bearslooking.com
SUMMARY:Rainbow/Disco Skate Night ALL AGES 8pm - 11pm
DESCRIPTION:Admission ticket only. Skate rentals must be purchased at the window ($8.00) if you don’t bring your own skates.\n\n\nLA’s premier LGBTQ+ skate night! Wednesday night all ages 8 PM to 11 PM.  \nAdmission ticket only. Skate rental available at the door ($8.00).
URL:https://bearslooking.com/event/rainbow-disco-skate-night-all-ages-8pm-11pm-3/
LOCATION:Moonlight Rollerway\, Inc.\, 5110 San Fernando Road\, Glendale\, CA\, 91204\, United States
CATEGORIES:Party
ATTACH;FMTTYPE=image/jpeg:https://bearslooking.com/wp-content/uploads/2024/01/038f2014013c20286623878fd36a3dfa.jpg
END:VEVENT
BEGIN:VEVENT
DTSTART;TZID=America/Los_Angeles:20240125T200000
DTEND;TZID=America/Los_Angeles:20240125T230000
DTSTAMP:20260421T142307
CREATED:20240124T200454Z
LAST-MODIFIED:20240124T200454Z
UID:13041-1706212800-1706223600@bearslooking.com
SUMMARY:Thursday Throwback Skate Night ALL AGES 8pm - 11pm
DESCRIPTION:Admission ticket only. Skate rentals must be purchased at the window ($8.00) if you don’t bring your own skates.
URL:https://bearslooking.com/event/thursday-throwback-skate-night-all-ages-8pm-11pm-3/
LOCATION:Moonlight Rollerway\, Inc.\, 5110 San Fernando Road\, Glendale\, CA\, 91204\, United States
CATEGORIES:Party
ATTACH;FMTTYPE=image/jpeg:https://bearslooking.com/wp-content/uploads/2024/01/038777bfab11a907b8a4aa7f05fb7296.jpg
END:VEVENT
END:VCALENDAR