BEGIN:VCALENDAR
VERSION:2.0
PRODID:-// - ECPv6.12.0.1//NONSGML v1.0//EN
CALSCALE:GREGORIAN
METHOD:PUBLISH
X-ORIGINAL-URL:https://bearslooking.com
X-WR-CALDESC:Events for 
REFRESH-INTERVAL;VALUE=DURATION:PT1H
X-Robots-Tag:noindex
X-PUBLISHED-TTL:PT1H
BEGIN:VTIMEZONE
TZID:America/Los_Angeles
BEGIN:DAYLIGHT
TZOFFSETFROM:-0800
TZOFFSETTO:-0700
TZNAME:PDT
DTSTART:20230312T100000
END:DAYLIGHT
BEGIN:STANDARD
TZOFFSETFROM:-0700
TZOFFSETTO:-0800
TZNAME:PST
DTSTART:20231105T090000
END:STANDARD
BEGIN:DAYLIGHT
TZOFFSETFROM:-0800
TZOFFSETTO:-0700
TZNAME:PDT
DTSTART:20240310T100000
END:DAYLIGHT
BEGIN:STANDARD
TZOFFSETFROM:-0700
TZOFFSETTO:-0800
TZNAME:PST
DTSTART:20241103T090000
END:STANDARD
END:VTIMEZONE
BEGIN:VEVENT
DTSTART;TZID=America/Los_Angeles:20231201T200000
DTEND;TZID=America/Los_Angeles:20231201T230000
DTSTAMP:20260421T155805
CREATED:20231129T193227Z
LAST-MODIFIED:20231129T193227Z
UID:12319-1701460800-1701471600@bearslooking.com
SUMMARY:Friday night All Ages 8pm-11pm
DESCRIPTION:Friday night all ages 8 PM to 11 PM.\nAdmission ticket only. Skate rental available at the door ($8.00).
URL:https://bearslooking.com/event/friday-night-all-ages-8pm-11pm-16/
LOCATION:Moonlight Rollerway\, Inc.\, 5110 San Fernando Road\, Glendale\, CA\, 91204\, United States
CATEGORIES:Party
ATTACH;FMTTYPE=image/jpeg:https://bearslooking.com/wp-content/uploads/2023/11/7fe3df8254dbcd95a598ca4bc5558856.jpg
END:VEVENT
BEGIN:VEVENT
DTSTART;TZID=America/Los_Angeles:20231202T200000
DTEND;TZID=America/Los_Angeles:20231202T230000
DTSTAMP:20260421T155805
CREATED:20231129T193228Z
LAST-MODIFIED:20231129T193228Z
UID:12321-1701547200-1701558000@bearslooking.com
SUMMARY:Saturday night All Ages 8pm-11pm
DESCRIPTION:Saturday night all ages 8 PM to 11 PM.\nAdmission ticket only. Skate rental available at the door ($8.00).
URL:https://bearslooking.com/event/saturday-night-all-ages-8pm-11pm-12/
LOCATION:Moonlight Rollerway\, Inc.\, 5110 San Fernando Road\, Glendale\, CA\, 91204\, United States
CATEGORIES:Party
ATTACH;FMTTYPE=image/jpeg:https://bearslooking.com/wp-content/uploads/2023/11/cf892a1c0c3e733b7660ded024ff9559.jpg
END:VEVENT
BEGIN:VEVENT
DTSTART;TZID=America/Los_Angeles:20231203T200000
DTEND;TZID=America/Los_Angeles:20231203T230000
DTSTAMP:20260421T155805
CREATED:20231129T193230Z
LAST-MODIFIED:20231129T193230Z
UID:12323-1701633600-1701644400@bearslooking.com
SUMMARY:Sunday night All Ages 8pm-11pm
DESCRIPTION:Sunday night all ages 8 PM to 11 PM.\nAdmission ticket only. Skate rental available at the door ($8.00).
URL:https://bearslooking.com/event/sunday-night-all-ages-8pm-11pm-16/
LOCATION:Moonlight Rollerway\, Inc.\, 5110 San Fernando Road\, Glendale\, CA\, 91204\, United States
CATEGORIES:Party
ATTACH;FMTTYPE=image/jpeg:https://bearslooking.com/wp-content/uploads/2023/11/fcd4f2ccfb330479127cdb4de9df941a.jpg
END:VEVENT
BEGIN:VEVENT
DTSTART;TZID=America/Los_Angeles:20231204T200000
DTEND;TZID=America/Los_Angeles:20231204T230000
DTSTAMP:20260421T155805
CREATED:20231129T193232Z
LAST-MODIFIED:20231129T193232Z
UID:12325-1701720000-1701730800@bearslooking.com
SUMMARY:AGES 18+ Monday night  8pm-11pm
DESCRIPTION:Monday night AGES 18+ 8 PM to 11 PM.\nAdmission ticket only. Skate rental available at the door ($8.00).\n\n\nOnly Ages 18+ will be allowed in the door.  All attendees must have a GOVERNMENT issued ID.  No Spectators!
URL:https://bearslooking.com/event/ages-18-monday-night-8pm-11pm-16/
LOCATION:Moonlight Rollerway\, Inc.\, 5110 San Fernando Road\, Glendale\, CA\, 91204\, United States
CATEGORIES:Party
ATTACH;FMTTYPE=image/jpeg:https://bearslooking.com/wp-content/uploads/2023/11/4445debb430ff1dc967cf0266ef8e59b.jpg
END:VEVENT
BEGIN:VEVENT
DTSTART;TZID=America/Los_Angeles:20231205T190000
DTEND;TZID=America/Los_Angeles:20231205T230000
DTSTAMP:20260421T155805
CREATED:20231129T193234Z
LAST-MODIFIED:20231129T193234Z
UID:12327-1701802800-1701817200@bearslooking.com
SUMMARY:Adult Class All Levels
DESCRIPTION:This one hour class teaches the basics of roller skating including balance\, good posture\, starting and stopping\, and how to get up safely\n\n\nThis class teaches the basic fundamentals of roller skating including balance\, good posture\, starting and stopping\, and how to get up safely. Forward and backward skating\, two foot turns and skating in time to music.  Skaters in this class will also learn forward and backward dance steps.  All of our instructors are certified by U.S.A. Roller Sports and the Society of Roller Skating Teachers of America.  You cost includes the class and the ability to stay after for the public session to practice.  SKATE RENTAL IS EXTRA at the door.
URL:https://bearslooking.com/event/adult-class-all-levels-15/
LOCATION:Moonlight Rollerway\, Inc.\, 5110 San Fernando Road\, Glendale\, CA\, 91204\, United States
CATEGORIES:Party
ATTACH;FMTTYPE=image/jpeg:https://bearslooking.com/wp-content/uploads/2023/11/b3b4bac1278a6e019fc3023fb3057728.jpg
END:VEVENT
BEGIN:VEVENT
DTSTART;TZID=America/Los_Angeles:20231205T200000
DTEND;TZID=America/Los_Angeles:20231205T230000
DTSTAMP:20260421T155805
CREATED:20231129T193235Z
LAST-MODIFIED:20231129T193235Z
UID:12329-1701806400-1701817200@bearslooking.com
SUMMARY:Tuesday night All Ages 8pm-11pm
DESCRIPTION:Tuesday night all ages 8 PM to 11 PM.\nAdmission ticket only. Skate rental available at the door ($8.00).
URL:https://bearslooking.com/event/tuesday-night-all-ages-8pm-11pm-15/
LOCATION:Moonlight Rollerway\, Inc.\, 5110 San Fernando Road\, Glendale\, CA\, 91204\, United States
CATEGORIES:Party
ATTACH;FMTTYPE=image/jpeg:https://bearslooking.com/wp-content/uploads/2023/11/a24c1ae4e37aad2e49330fdee52cb8db.jpg
END:VEVENT
BEGIN:VEVENT
DTSTART;TZID=America/Los_Angeles:20231206T200000
DTEND;TZID=America/Los_Angeles:20231206T230000
DTSTAMP:20260421T155805
CREATED:20231206T193220Z
LAST-MODIFIED:20231206T193220Z
UID:12419-1701892800-1701903600@bearslooking.com
SUMMARY:Rainbow Skate/DISCO Night All Ages 8pm-11pm
DESCRIPTION:LA’s premier LGBTQ+ skate night! Wednesday night all ages 8 PM to 11 PM.\nAdmission ticket only. Skate rental available at the door ($8.00).
URL:https://bearslooking.com/event/rainbow-skate-disco-night-all-ages-8pm-11pm-17/
LOCATION:Moonlight Rollerway\, Inc.\, 5110 San Fernando Road\, Glendale\, CA\, 91204\, United States
CATEGORIES:Party
ATTACH;FMTTYPE=image/jpeg:https://bearslooking.com/wp-content/uploads/2023/12/27a007736ba8503c17cd27d4e3c9131a.jpg
END:VEVENT
BEGIN:VEVENT
DTSTART;TZID=America/Los_Angeles:20231207T200000
DTEND;TZID=America/Los_Angeles:20231207T230000
DTSTAMP:20260421T155805
CREATED:20231122T193353Z
LAST-MODIFIED:20231206T193222Z
UID:12231-1701979200-1701990000@bearslooking.com
SUMMARY:CLOSED FOR A PRIVATE EVENT
DESCRIPTION:Closed for a private event
URL:https://bearslooking.com/event/closed-for-a-private-event/
LOCATION:Moonlight Rollerway\, Inc.\, 5110 San Fernando Road\, Glendale\, CA\, 91204\, United States
CATEGORIES:Party
ATTACH;FMTTYPE=image/jpeg:https://bearslooking.com/wp-content/uploads/2023/11/22103fd93daa8125c915c2f5ca4582d1.jpg
END:VEVENT
BEGIN:VEVENT
DTSTART;TZID=America/Los_Angeles:20231208T200000
DTEND;TZID=America/Los_Angeles:20231208T230000
DTSTAMP:20260421T155805
CREATED:20231206T193222Z
LAST-MODIFIED:20231206T193222Z
UID:12421-1702065600-1702076400@bearslooking.com
SUMMARY:Friday night All Ages 8pm-11pm
DESCRIPTION:Friday night all ages 8 PM to 11 PM.\nAdmission ticket only. Skate rental available at the door ($8.00).
URL:https://bearslooking.com/event/friday-night-all-ages-8pm-11pm-17/
LOCATION:Moonlight Rollerway\, Inc.\, 5110 San Fernando Road\, Glendale\, CA\, 91204\, United States
CATEGORIES:Party
ATTACH;FMTTYPE=image/jpeg:https://bearslooking.com/wp-content/uploads/2023/12/ecbc112fd52710f47f46e7f8a1fcb449.jpg
END:VEVENT
BEGIN:VEVENT
DTSTART;TZID=America/Los_Angeles:20231208T210000
DTEND;TZID=America/Los_Angeles:20231209T020000
DTSTAMP:20260421T155805
CREATED:20230411T161641Z
LAST-MODIFIED:20231205T223229Z
UID:9458-1702069200-1702087200@bearslooking.com
SUMMARY:Cocksock
DESCRIPTION:Cocksock is a sexy crowded party that donates money to testicular cancer. This party is mind blowing and comes with free socks for $7
URL:https://bearslooking.com/event/cocksock-april-14-9/
LOCATION:The Bullet Bar\, 10522 Burbank Boulevard\, Los Angeles\, CA\, 91601\, United States
CATEGORIES:Party
ATTACH;FMTTYPE=image/jpeg:https://bearslooking.com/wp-content/uploads/2023/09/ed01ed8ea7c94d51514ca44b30981c4c.jpg
END:VEVENT
BEGIN:VEVENT
DTSTART;TZID=America/Los_Angeles:20231209T200000
DTEND;TZID=America/Los_Angeles:20231209T230000
DTSTAMP:20260421T155805
CREATED:20231206T193224Z
LAST-MODIFIED:20231206T193224Z
UID:12423-1702152000-1702162800@bearslooking.com
SUMMARY:Saturday night All Ages 8pm-11pm
DESCRIPTION:Saturday night all ages 8 PM to 11 PM.\nAdmission ticket only. Skate rental available at the door ($8.00).
URL:https://bearslooking.com/event/saturday-night-all-ages-8pm-11pm-13/
LOCATION:Moonlight Rollerway\, Inc.\, 5110 San Fernando Road\, Glendale\, CA\, 91204\, United States
CATEGORIES:Party
ATTACH;FMTTYPE=image/jpeg:https://bearslooking.com/wp-content/uploads/2023/12/dd853fdd7c93b09f1e2fd3c3bc7be584.jpg
END:VEVENT
BEGIN:VEVENT
DTSTART;TZID=America/Los_Angeles:20231209T210000
DTEND;TZID=America/Los_Angeles:20231210T020000
DTSTAMP:20260421T155805
CREATED:20231022T030403Z
LAST-MODIFIED:20231210T064726Z
UID:11807-1702155600-1702173600@bearslooking.com
SUMMARY:Feel Good Inc. - A Feel Good Disco Party
DESCRIPTION:Feel Good Inc. is a monthly feel good dance party featuring DJs playing inspired sets rooted in disco\, soul\, funk\, house and more.\n\n\n2nd Saturdays every month at The Virgil in Los Angeles featuring rotating special guest DJs and resident dj100proof.  \nDance. Sing. Sweat. Feel Good. \nInspired by the music of: \nEarth Wind & Fire・Chic ・Donna Summer・ABBA・Blondie・Talking Heads・Michael Jackson ・Diana Ross・Aretha Franklin・Chaka Khan・Grace Jones・Breakbot・Daft Punk・Skyy・Heatwave・Poolside・SOS Band ・Justice ・Jungle・Marvin Gaye・James Brown・KC & The Sunshine Band・Fleetwood Mac ・Jamiroquai ・Masters at Work ・and MORE!!! \n \nSaturday December 9th\, 2023 \nDoors at 9pm – Free entry with RSVP before 10:30 \nThe Virgil \n4519 Santa Monica Blvd\, Los Angeles\, CA 90029 \nFor more information email: feelgoodinc.club@gmail.com or visit www.feelgoodinc.club
URL:https://bearslooking.com/event/feel-good-inc-a-feel-good-disco-party-8/
LOCATION:The Virgil\, 4519 Santa Monica Blvd\, Los Angeles\, CA\, 90029-1906\, United States
CATEGORIES:Party
ATTACH;FMTTYPE=image/jpeg:https://bearslooking.com/wp-content/uploads/2023/10/267a3aaa7ffb2d877ab9644639a3ca36.jpg
END:VEVENT
BEGIN:VEVENT
DTSTART;TZID=America/Los_Angeles:20231209T220000
DTEND;TZID=America/Los_Angeles:20231210T060000
DTSTAMP:20260421T155805
CREATED:20231026T031940Z
LAST-MODIFIED:20231210T060227Z
UID:11863-1702159200-1702188000@bearslooking.com
SUMMARY:BLACKOUT Encore: DJ/Producer JACKINSKY
DESCRIPTION:JACKINSKY spins special 8-hour extended set 10pm-6am\n\n\nBLACKOUT with DJ/Producer Alain Jackinsky10PM-6AM SAT. DEC 9 @ LOS GLOBOS. \nSaturday Night December 9 DJ/Producer JACKINSKY (Montreal) returns to spin a Special 8-Hour extended encore set 10pm-6am at Los Globos. Strip down and show us your sexiest gear in our always FREE Clothes Check\, grab some FREE INK courtesy of Marky Make-Up then Dance your ass off on a floor drenched in Mario Sandoval’s signature very dark decor amd let our BLACKOUT Dancers guide you on your sensual journey into the night.  \nPARKING: Using Uber and Lyft are always best. If you have a designated sriver please park on Silverlale or Sunsrt Blvd as the venue no longer has a parking lot. Please do n ot park on Vernome street and be respectfulof venues residential neighbors .
URL:https://bearslooking.com/event/blackout-encore-dj-producer-jackinsky/
LOCATION:3040 Sunset Blvd\, 3040 Sunset Boulevard\, Los Angeles\, CA\, 90026\, United States
CATEGORIES:Party
ATTACH;FMTTYPE=image/jpeg:https://bearslooking.com/wp-content/uploads/2023/11/a8419fff1cbdc2fa597317f2f2086eec.jpg
END:VEVENT
BEGIN:VEVENT
DTSTART;TZID=America/Los_Angeles:20231210T200000
DTEND;TZID=America/Los_Angeles:20231210T230000
DTSTAMP:20260421T155805
CREATED:20231206T193225Z
LAST-MODIFIED:20231206T193225Z
UID:12425-1702238400-1702249200@bearslooking.com
SUMMARY:Sunday night All Ages 8pm-11pm
DESCRIPTION:Sunday night all ages 8 PM to 11 PM.\nAdmission ticket only. Skate rental available at the door ($8.00).
URL:https://bearslooking.com/event/sunday-night-all-ages-8pm-11pm-17/
LOCATION:Moonlight Rollerway\, Inc.\, 5110 San Fernando Road\, Glendale\, CA\, 91204\, United States
CATEGORIES:Party
ATTACH;FMTTYPE=image/jpeg:https://bearslooking.com/wp-content/uploads/2023/12/f893a952db80310cdf04d61b45fcaaf9.jpg
END:VEVENT
BEGIN:VEVENT
DTSTART;TZID=America/Los_Angeles:20231211T200000
DTEND;TZID=America/Los_Angeles:20231211T230000
DTSTAMP:20260421T155805
CREATED:20231206T193227Z
LAST-MODIFIED:20231206T193227Z
UID:12427-1702324800-1702335600@bearslooking.com
SUMMARY:AGES 18+ Monday night  8pm-11pm
DESCRIPTION:Monday night AGES 18+ 8 PM to 11 PM.\nAdmission ticket only. Skate rental available at the door ($8.00).\n\n\nOnly Ages 18+ will be allowed in the door.  All attendees must have a GOVERNMENT issued ID.  No Spectators!
URL:https://bearslooking.com/event/ages-18-monday-night-8pm-11pm-17/
LOCATION:Moonlight Rollerway\, Inc.\, 5110 San Fernando Road\, Glendale\, CA\, 91204\, United States
CATEGORIES:Party
ATTACH;FMTTYPE=image/jpeg:https://bearslooking.com/wp-content/uploads/2023/12/c8eac61f7ec52b0f3d6fc927d52799b3.jpg
END:VEVENT
BEGIN:VEVENT
DTSTART;TZID=America/Los_Angeles:20231212T190000
DTEND;TZID=America/Los_Angeles:20231212T230000
DTSTAMP:20260421T155805
CREATED:20231206T193229Z
LAST-MODIFIED:20231206T193229Z
UID:12429-1702407600-1702422000@bearslooking.com
SUMMARY:Adult Class All Levels
DESCRIPTION:This one hour class teaches the basics of roller skating including balance\, good posture\, starting and stopping\, and how to get up safely\n\n\nThis class teaches the basic fundamentals of roller skating including balance\, good posture\, starting and stopping\, and how to get up safely. Forward and backward skating\, two foot turns and skating in time to music.  Skaters in this class will also learn forward and backward dance steps.  All of our instructors are certified by U.S.A. Roller Sports and the Society of Roller Skating Teachers of America.  You cost includes the class and the ability to stay after for the public session to practice.  SKATE RENTAL IS EXTRA at the door.
URL:https://bearslooking.com/event/adult-class-all-levels-16/
LOCATION:Moonlight Rollerway\, Inc.\, 5110 San Fernando Road\, Glendale\, CA\, 91204\, United States
CATEGORIES:Party
ATTACH;FMTTYPE=image/jpeg:https://bearslooking.com/wp-content/uploads/2023/12/21965bb301cf387ad5e748218a591c22.jpg
END:VEVENT
BEGIN:VEVENT
DTSTART;TZID=America/Los_Angeles:20231213T200000
DTEND;TZID=America/Los_Angeles:20231213T230000
DTSTAMP:20260421T155805
CREATED:20231213T193200Z
LAST-MODIFIED:20231213T193200Z
UID:12510-1702497600-1702508400@bearslooking.com
SUMMARY:Rainbow Skate/DISCO Night All Ages 8pm-11pm
DESCRIPTION:LA’s premier LGBTQ+ skate night! Wednesday night all ages 8 PM to 11 PM.\nAdmission ticket only. Skate rental available at the door ($8.00).
URL:https://bearslooking.com/event/rainbow-skate-disco-night-all-ages-8pm-11pm-18/
LOCATION:Moonlight Rollerway\, Inc.\, 5110 San Fernando Road\, Glendale\, CA\, 91204\, United States
CATEGORIES:Party
ATTACH;FMTTYPE=image/jpeg:https://bearslooking.com/wp-content/uploads/2023/12/26bfe629fb80a1caacbb007e113b7885.jpg
END:VEVENT
BEGIN:VEVENT
DTSTART;TZID=America/Los_Angeles:20231214T200000
DTEND;TZID=America/Los_Angeles:20231214T230000
DTSTAMP:20260421T155805
CREATED:20231213T193202Z
LAST-MODIFIED:20231213T193202Z
UID:12512-1702584000-1702594800@bearslooking.com
SUMMARY:Throwback Thursday night All Ages 8pm-11pm
DESCRIPTION:Thursday night all ages 8 PM to 11 PM.\nAdmission ticket only. Skate rental available at the door ($8.00).\n\n\nThursday night all ages 8 PM to 11 PM. Admission ticket only. Skate rental available at the door ($8.00).
URL:https://bearslooking.com/event/throwback-thursday-night-all-ages-8pm-11pm-16/
LOCATION:Moonlight Rollerway\, Inc.\, 5110 San Fernando Road\, Glendale\, CA\, 91204\, United States
CATEGORIES:Party
ATTACH;FMTTYPE=image/jpeg:https://bearslooking.com/wp-content/uploads/2023/12/b522153bd0fbbdd560ef17bd87967276.jpg
END:VEVENT
BEGIN:VEVENT
DTSTART;TZID=America/Los_Angeles:20231215T200000
DTEND;TZID=America/Los_Angeles:20231215T230000
DTSTAMP:20260421T155805
CREATED:20231213T193204Z
LAST-MODIFIED:20231213T193204Z
UID:12514-1702670400-1702681200@bearslooking.com
SUMMARY:Friday night All Ages 8pm-11pm
DESCRIPTION:Friday night all ages 8 PM to 11 PM.\nAdmission ticket only. Skate rental available at the door ($8.00).
URL:https://bearslooking.com/event/friday-night-all-ages-8pm-11pm-18/
LOCATION:Moonlight Rollerway\, Inc.\, 5110 San Fernando Road\, Glendale\, CA\, 91204\, United States
CATEGORIES:Party
ATTACH;FMTTYPE=image/jpeg:https://bearslooking.com/wp-content/uploads/2023/12/f4c03040e1a125d63e3c4700d06cd296.jpg
END:VEVENT
BEGIN:VEVENT
DTSTART;TZID=America/Los_Angeles:20231216T200000
DTEND;TZID=America/Los_Angeles:20231216T230000
DTSTAMP:20260421T155805
CREATED:20231213T193205Z
LAST-MODIFIED:20231213T193205Z
UID:12516-1702756800-1702767600@bearslooking.com
SUMMARY:Saturday night All Ages 8pm-11pm
DESCRIPTION:Saturday night all ages 8 PM to 11 PM.\nAdmission ticket only. Skate rental available at the door ($8.00).
URL:https://bearslooking.com/event/saturday-night-all-ages-8pm-11pm-14/
LOCATION:Moonlight Rollerway\, Inc.\, 5110 San Fernando Road\, Glendale\, CA\, 91204\, United States
CATEGORIES:Party
ATTACH;FMTTYPE=image/jpeg:https://bearslooking.com/wp-content/uploads/2023/12/ee6a09fe6c1ca89a97ccf0e62a39c0e1.jpg
END:VEVENT
BEGIN:VEVENT
DTSTART;TZID=America/Los_Angeles:20231217T200000
DTEND;TZID=America/Los_Angeles:20231217T230000
DTSTAMP:20260421T155805
CREATED:20231213T193207Z
LAST-MODIFIED:20231213T193207Z
UID:12518-1702843200-1702854000@bearslooking.com
SUMMARY:Sunday night All Ages 8pm-11pm
DESCRIPTION:Sunday night all ages 8 PM to 11 PM.\nAdmission ticket only. Skate rental available at the door ($8.00).
URL:https://bearslooking.com/event/sunday-night-all-ages-8pm-11pm-18/
LOCATION:Moonlight Rollerway\, Inc.\, 5110 San Fernando Road\, Glendale\, CA\, 91204\, United States
CATEGORIES:Party
ATTACH;FMTTYPE=image/jpeg:https://bearslooking.com/wp-content/uploads/2023/12/cbeb7b452f44f88b861a87707f4482b2.jpg
END:VEVENT
BEGIN:VEVENT
DTSTART;TZID=America/Los_Angeles:20231218T200000
DTEND;TZID=America/Los_Angeles:20231218T230000
DTSTAMP:20260421T155805
CREATED:20231213T193209Z
LAST-MODIFIED:20231213T193209Z
UID:12520-1702929600-1702940400@bearslooking.com
SUMMARY:AGES 18+ Monday night  8pm-11pm
DESCRIPTION:Monday night AGES 18+ 8 PM to 11 PM.\nAdmission ticket only. Skate rental available at the door ($8.00).\n\n\nOnly Ages 18+ will be allowed in the door.  All attendees must have a GOVERNMENT issued ID.  No Spectators!
URL:https://bearslooking.com/event/ages-18-monday-night-8pm-11pm-18/
LOCATION:Moonlight Rollerway\, Inc.\, 5110 San Fernando Road\, Glendale\, CA\, 91204\, United States
CATEGORIES:Party
ATTACH;FMTTYPE=image/jpeg:https://bearslooking.com/wp-content/uploads/2023/12/28921026dd77719b36044f1e93eaf6bd.jpg
END:VEVENT
BEGIN:VEVENT
DTSTART;TZID=America/Los_Angeles:20231219T190000
DTEND;TZID=America/Los_Angeles:20231219T230000
DTSTAMP:20260421T155805
CREATED:20231213T193211Z
LAST-MODIFIED:20231213T193211Z
UID:12522-1703012400-1703026800@bearslooking.com
SUMMARY:Copy of Adult Class All Levels
DESCRIPTION:This one hour class teaches the basics of roller skating including balance\, good posture\, starting and stopping\, and how to get up safely\n\n\nThis class teaches the basic fundamentals of roller skating including balance\, good posture\, starting and stopping\, and how to get up safely. Forward and backward skating\, two foot turns and skating in time to music.  Skaters in this class will also learn forward and backward dance steps.  All of our instructors are certified by U.S.A. Roller Sports and the Society of Roller Skating Teachers of America.  You cost includes the class and the ability to stay after for the public session to practice.  SKATE RENTAL IS EXTRA at the door.
URL:https://bearslooking.com/event/copy-of-adult-class-all-levels/
LOCATION:Moonlight Rollerway\, Inc.\, 5110 San Fernando Road\, Glendale\, CA\, 91204\, United States
CATEGORIES:Party
ATTACH;FMTTYPE=image/jpeg:https://bearslooking.com/wp-content/uploads/2023/12/700f1565a091717f95b29ef446886001.jpg
END:VEVENT
BEGIN:VEVENT
DTSTART;TZID=America/Los_Angeles:20231219T200000
DTEND;TZID=America/Los_Angeles:20231219T230000
DTSTAMP:20260421T155805
CREATED:20231213T193213Z
LAST-MODIFIED:20231213T193213Z
UID:12524-1703016000-1703026800@bearslooking.com
SUMMARY:Tuesday night All Ages 8pm-11pm
DESCRIPTION:Tuesday night all ages 8 PM to 11 PM.\nAdmission ticket only. Skate rental available at the door ($8.00).
URL:https://bearslooking.com/event/tuesday-night-all-ages-8pm-11pm-16/
LOCATION:Moonlight Rollerway\, Inc.\, 5110 San Fernando Road\, Glendale\, CA\, 91204\, United States
CATEGORIES:Party
ATTACH;FMTTYPE=image/jpeg:https://bearslooking.com/wp-content/uploads/2023/12/4caf37f13ccbaaf498fdbe8c4e3a2a7f.jpg
END:VEVENT
BEGIN:VEVENT
DTSTART;TZID=America/Los_Angeles:20231220T171500
DTEND;TZID=America/Los_Angeles:20240105T190000
DTSTAMP:20260421T155805
CREATED:20231129T193237Z
LAST-MODIFIED:20231220T193259Z
UID:12332-1703092500-1704481200@bearslooking.com
SUMMARY:Rolling Around the Holidays  Artistic Skating Recital
DESCRIPTION:Come and see what our skating classes have been learning as well as exhibitions from professional skaters!\n\n\nThere will be a skating intermission\, skate rentals for the intermission can be purchased at the rink for $8.
URL:https://bearslooking.com/event/rolling-around-the-holidays-artistic-skating-recital/
LOCATION:Moonlight Rollerway\, Inc.\, 5110 San Fernando Road\, Glendale\, CA\, 91204\, United States
CATEGORIES:Party
ATTACH;FMTTYPE=image/jpeg:https://bearslooking.com/wp-content/uploads/2023/11/495cef6fe0ade42d6051b62fe7d1af1e.jpg
END:VEVENT
BEGIN:VEVENT
DTSTART;TZID=America/Los_Angeles:20231220T200000
DTEND;TZID=America/Los_Angeles:20231220T230000
DTSTAMP:20260421T155805
CREATED:20231220T193259Z
LAST-MODIFIED:20231220T193259Z
UID:12608-1703102400-1703113200@bearslooking.com
SUMMARY:Rainbow Skate/DISCO Night All Ages 8pm-11pm
DESCRIPTION:LA’s premier LGBTQ+ skate night! Admission ticket only. Skate rentals must be purchased at the window ($8.00) if you don’t bring your own
URL:https://bearslooking.com/event/rainbow-skate-disco-night-all-ages-8pm-11pm-19/
LOCATION:Moonlight Rollerway\, Inc.\, 5110 San Fernando Road\, Glendale\, CA\, 91204\, United States
CATEGORIES:Party
ATTACH;FMTTYPE=image/jpeg:https://bearslooking.com/wp-content/uploads/2023/09/f1b4ade5ba66091f67b44809a6d1008d.jpg
END:VEVENT
BEGIN:VEVENT
DTSTART;TZID=America/Los_Angeles:20231221T200000
DTEND;TZID=America/Los_Angeles:20231221T230000
DTSTAMP:20260421T155805
CREATED:20231220T193259Z
LAST-MODIFIED:20231220T193259Z
UID:12609-1703188800-1703199600@bearslooking.com
SUMMARY:Throwback Thursday night All Ages 8pm-11pm
DESCRIPTION:Admission ticket only. Skate rentals must be purchased at the window ($8.00) if you don’t bring your own skates.\n\n\nThursday night all ages 8 PM to 11 PM. Admission ticket only. Skate rental available at the door ($8.00).
URL:https://bearslooking.com/event/throwback-thursday-night-all-ages-8pm-11pm-17/
LOCATION:Moonlight Rollerway\, Inc.\, 5110 San Fernando Road\, Glendale\, CA\, 91204\, United States
CATEGORIES:Party
ATTACH;FMTTYPE=image/jpeg:https://bearslooking.com/wp-content/uploads/2023/09/0ef4e35f9e6fd3a2e473e45c52e3692d.jpg
END:VEVENT
BEGIN:VEVENT
DTSTART;TZID=America/Los_Angeles:20231222T200000
DTEND;TZID=America/Los_Angeles:20231222T230000
DTSTAMP:20260421T155805
CREATED:20231220T193259Z
LAST-MODIFIED:20231220T193259Z
UID:12610-1703275200-1703286000@bearslooking.com
SUMMARY:Friday night All Ages 8pm-11pm
DESCRIPTION:Admission ticket only. Skate rentals must be purchased at the window ($8.00) if you don’t bring your own skates.
URL:https://bearslooking.com/event/friday-night-all-ages-8pm-11pm-19/
LOCATION:Moonlight Rollerway\, Inc.\, 5110 San Fernando Road\, Glendale\, CA\, 91204\, United States
CATEGORIES:Party
ATTACH;FMTTYPE=image/jpeg:https://bearslooking.com/wp-content/uploads/2023/09/f1b7dbfc1b76e437a9f99b569b9be074.jpg
END:VEVENT
BEGIN:VEVENT
DTSTART;TZID=America/Los_Angeles:20231223T200000
DTEND;TZID=America/Los_Angeles:20231223T230000
DTSTAMP:20260421T155805
CREATED:20231129T193238Z
LAST-MODIFIED:20231220T193300Z
UID:12334-1703361600-1703372400@bearslooking.com
SUMMARY:Ugly Holiday Sweater Skate Saturday night All Ages 8pm-11pm
DESCRIPTION:Admission ticket only. Skate rentals must be purchased at the window ($8.00) if you don’t bring your own skates.\n\n\nW﻿ear your ugliest holiday sweater and skate to holiday tunes from classic to current artists.
URL:https://bearslooking.com/event/ugly-holiday-sweater-skate-saturday-night-all-ages-8pm-11pm/
LOCATION:Moonlight Rollerway\, Inc.\, 5110 San Fernando Road\, Glendale\, CA\, 91204\, United States
CATEGORIES:Party
ATTACH;FMTTYPE=image/jpeg:https://bearslooking.com/wp-content/uploads/2023/11/62f29bf09fb79d4176985916e8757142.jpg
END:VEVENT
BEGIN:VEVENT
DTSTART;TZID=America/Los_Angeles:20231224T200000
DTEND;TZID=America/Los_Angeles:20231224T230000
DTSTAMP:20260421T155805
CREATED:20231206T193231Z
LAST-MODIFIED:20231220T193300Z
UID:12433-1703448000-1703458800@bearslooking.com
SUMMARY:CLOSED FOR THE HOLIDAY
DESCRIPTION:Closed
URL:https://bearslooking.com/event/closed-for-the-holiday/
LOCATION:Moonlight Rollerway\, Inc.\, 5110 San Fernando Road\, Glendale\, CA\, 91204\, United States
CATEGORIES:Party
ATTACH;FMTTYPE=image/jpeg:https://bearslooking.com/wp-content/uploads/2023/12/8d51105dbd026f02d8b32d5264bae6d4.jpg
END:VEVENT
END:VCALENDAR