BEGIN:VCALENDAR
VERSION:2.0
PRODID:-// - ECPv6.12.0.1//NONSGML v1.0//EN
CALSCALE:GREGORIAN
METHOD:PUBLISH
X-ORIGINAL-URL:https://bearslooking.com
X-WR-CALDESC:Events for 
REFRESH-INTERVAL;VALUE=DURATION:PT1H
X-Robots-Tag:noindex
X-PUBLISHED-TTL:PT1H
BEGIN:VTIMEZONE
TZID:America/Los_Angeles
BEGIN:DAYLIGHT
TZOFFSETFROM:-0800
TZOFFSETTO:-0700
TZNAME:PDT
DTSTART:20250309T100000
END:DAYLIGHT
BEGIN:STANDARD
TZOFFSETFROM:-0700
TZOFFSETTO:-0800
TZNAME:PST
DTSTART:20251102T090000
END:STANDARD
END:VTIMEZONE
BEGIN:VEVENT
DTSTART;VALUE=DATE:20250501
DTEND;VALUE=DATE:20250505
DTSTAMP:20260424T040228
CREATED:20250202T200039Z
LAST-MODIFIED:20250202T200045Z
UID:14717-1746057600-1746403199@bearslooking.com
SUMMARY:The MeatUp West
DESCRIPTION:Tony Vega Presents\nThe 3rd Annual MeatUp West – A fetish event for modified individuals & their chasers \nThis features body modded people from around the world\, in one safe and relaxing weekend. The main events include: \nThe Meat & Greet • May 2\nThe MeatUp East Contest •May 3\nPhallic Frolic Dance Party • May 3\nExclusive VIP Pool Party • May 4 \nRegistration is now open. Join us at themeatupusa.com
URL:https://bearslooking.com/event/the-meatup-west/
LOCATION:Tool Shed\, Palm Springs\, CA
CATEGORIES:Competition,Contest,Dance,Meetup,Social Gathering
ATTACH;FMTTYPE=image/png:https://bearslooking.com/wp-content/uploads/2024/10/MeatUp-East-2025-fb-Banner.png
ORGANIZER;CN="Tony Vega":MAILTO:info@themeatupusa.com
END:VEVENT
END:VCALENDAR