BEGIN:VCALENDAR
VERSION:2.0
PRODID:-// - ECPv6.12.0.1//NONSGML v1.0//EN
CALSCALE:GREGORIAN
METHOD:PUBLISH
X-ORIGINAL-URL:https://bearslooking.com
X-WR-CALDESC:Events for 
REFRESH-INTERVAL;VALUE=DURATION:PT1H
X-Robots-Tag:noindex
X-PUBLISHED-TTL:PT1H
BEGIN:VTIMEZONE
TZID:America/Chicago
BEGIN:DAYLIGHT
TZOFFSETFROM:-0600
TZOFFSETTO:-0500
TZNAME:CDT
DTSTART:20240310T080000
END:DAYLIGHT
BEGIN:STANDARD
TZOFFSETFROM:-0500
TZOFFSETTO:-0600
TZNAME:CST
DTSTART:20241103T070000
END:STANDARD
END:VTIMEZONE
BEGIN:VTIMEZONE
TZID:America/Los_Angeles
BEGIN:DAYLIGHT
TZOFFSETFROM:-0800
TZOFFSETTO:-0700
TZNAME:PDT
DTSTART:20240310T100000
END:DAYLIGHT
BEGIN:STANDARD
TZOFFSETFROM:-0700
TZOFFSETTO:-0800
TZNAME:PST
DTSTART:20241103T090000
END:STANDARD
END:VTIMEZONE
BEGIN:VEVENT
DTSTART;TZID=America/Chicago:20240629T210000
DTEND;TZID=America/Chicago:20240630T050000
DTSTAMP:20260421T142533
CREATED:20240428T021836Z
LAST-MODIFIED:20240428T021836Z
UID:14284-1719694800-1719723600@bearslooking.com
SUMMARY:Bearracuda Chicago: PRIDE SATURDAY
DESCRIPTION:Bearracuda is back for a MASSIVE Pride Saturday!  Two floors\, basement cruising\, Hot Go-Go’s and 700+ guys await\n\n\nBearracuda RETURNS to Jackhammer for PRIDE SATURDAY! Two floors\, basement cruising\, Hot Go-Go’s and 700+ guys await you on Saturday\, June 29th. Clothes check available! 9pm-5am.  Headliner: Wayne G (UK) and more guests TBA. \nGet into trouble in THE HOLE.  Dress code enforced in The Hole.  Please visit www.whatisthedresscode.com BEFORE coming to the party.
URL:https://bearslooking.com/event/bearracuda-chicago-pride-saturday/
LOCATION:The Jackhammer Complex\, 6406 N Clark St\, Chicago\, IL\, 60626\, United States
ATTACH;FMTTYPE=image/jpeg:https://bearslooking.com/wp-content/uploads/2024/01/bc01a42497c52632e0cc9da776ae1598.jpg
END:VEVENT
BEGIN:VEVENT
DTSTART;TZID=America/Los_Angeles:20240629T220000
DTEND;TZID=America/Los_Angeles:20240630T080000
DTSTAMP:20260421T142533
CREATED:20240311T013729Z
LAST-MODIFIED:20240508T025315Z
UID:12848-1719698400-1719734400@bearslooking.com
SUMMARY:ODYSSEY - Pride SF Main Event
DESCRIPTION:This Pride SF Saturday\, travel back to ancient Greece and party all night into the morning at CLUB SIX!\n\n\nTrophyDad presents ODYSSEY!\n\nPRIDE SAN FRANCSICO SATURDAY\nJUNE 29\, 2024\nCLUB SIX – BOTH FLOORS\n10 PM – 8 AM\n \nEmbark on an epic journey at the premiere of ODYSSEY\, TrophyDad’s Saturday night Pride SF event. Prepare for an unforgettable experience as CLUB SIX is transformed taking you back to ancient Greece. Featuring superstar DJ/Producer GSP bringing you on a musical voyage all night upstairs and DJ Phil B delivering an erotic vibe down below. At 3 AM\, the downstairs will shift into an AFTER-HOURS event with DJ Jesus Montanez taking over the decks and keeping the party going until 8 AM. Don’t miss your chance to indulge in revelry reminiscent of decadent parties from centuries past. Get ready for a pride ODYSSEY. \n \n=== FEATURING === \n* Upstairs: GSP (Greece) \n* Downstairs: Phil B (London) \n* After Hours: Jesus Montanez (Mexico) \n* Enhanced Audio Upstairs Powered by Funktion-One \n* Spectacular Lighting and Visual Production \n* Sexy Go-Go Dancers \n \n=== MUSIC === \nGSP \nGSP is a native of Athens\, Greece\, who has been a professional DJ for more than 15 years. He is known worldwide for his mostly Tech and Progressive House with a touch of Tribal Percussions and lots of vocals. He is one the best worldwide circuit DJs having already played several times all over the world in clubs\, festivals\, and prides. His sound is very significant known all over from his gigs and his internationally-broadcast podcasts. He is also owner of the record labels Queen House Music\, Queen Dance Records\, and QSQUARED. \n \nPHIL B \nDuring a career spanning more than 15 years\, Phil B has appeared at some of the biggest clubs and events on the US Circuit. Incredibly versatile\, he has successfully played t-dance sets\, peak-hour sets\, and harder after-hours events. He’s also a renowned remixer and reporter for Billboard Magazine’s Hot Dance Club Play Chart. No matter where you find Phil B spinning\, there is always an unparalleled energy on the dance floor that carries you through the night. \n \nJESUS MONTANEZ \nInternationally renowned DJ & Producer Jesus Montanez has been in the music industry for 14 years and is one of the top DJs in Mexico. Known for his tribal music\, he plays events/festivals worldwide and releases his own remixes as well as collaborations with other hit DJs. No stranger to the after-hours scene\, he will set the downstairs of Club Six on fire to continue the party with intense energy into the morning hours. \n \n=== WHERE === \nClub Six (BOTH FLOORS!) \n60 Sixth Street \nSan Francisco \n \n=== TROPHYDAD GIVES BACK TO THE COMMUNITY === \n* TrophyDad supports the Grass Roots Gay Rights Foundation serving as a Platinum Sponsor of its annual event REAL BAD. \n* TrophyDad supports AIDS/LifeCycle.
URL:https://bearslooking.com/event/odyssey-pride-sf-main-event/
LOCATION:Club Six – Both Floors!\, 60 6th Street\, San Francisco\, CA\, 94103\, United States
ATTACH;FMTTYPE=image/jpeg:https://bearslooking.com/wp-content/uploads/2024/01/331218f6a70f6a68cb11e787616ea4d6.jpg
END:VEVENT
END:VCALENDAR