BEGIN:VCALENDAR
VERSION:2.0
PRODID:-// - ECPv6.12.0.1//NONSGML v1.0//EN
CALSCALE:GREGORIAN
METHOD:PUBLISH
X-ORIGINAL-URL:https://bearslooking.com
X-WR-CALDESC:Events for 
REFRESH-INTERVAL;VALUE=DURATION:PT1H
X-Robots-Tag:noindex
X-PUBLISHED-TTL:PT1H
BEGIN:VTIMEZONE
TZID:America/Los_Angeles
BEGIN:DAYLIGHT
TZOFFSETFROM:-0800
TZOFFSETTO:-0700
TZNAME:PDT
DTSTART:20240310T100000
END:DAYLIGHT
BEGIN:STANDARD
TZOFFSETFROM:-0700
TZOFFSETTO:-0800
TZNAME:PST
DTSTART:20241103T090000
END:STANDARD
END:VTIMEZONE
BEGIN:VEVENT
DTSTART;TZID=America/Los_Angeles:20240526T160000
DTEND;TZID=America/Los_Angeles:20240527T120000
DTSTAMP:20260421T173738
CREATED:20240419T091622Z
LAST-MODIFIED:20240503T235450Z
UID:14237-1716739200-1716811200@bearslooking.com
SUMMARY:D_U_R_O         W _ E _ T              THE       BEAR      FOAM     PARTY
DESCRIPTION:D_U_R_O       W _ E _ T        THE     BEAR     FOAM     PARTY
URL:https://bearslooking.com/event/d_u_r_o-w-_-e-_-t-the-bear-foam-party/
LOCATION:CA
ATTACH;FMTTYPE=image/jpeg:https://bearslooking.com/wp-content/uploads/2024/04/8d35af8027cf65e8bb112f8941bc8e4b.jpg
END:VEVENT
END:VCALENDAR