BEGIN:VCALENDAR
VERSION:2.0
PRODID:-// - ECPv6.12.0.1//NONSGML v1.0//EN
CALSCALE:GREGORIAN
METHOD:PUBLISH
X-ORIGINAL-URL:https://bearslooking.com
X-WR-CALDESC:Events for 
REFRESH-INTERVAL;VALUE=DURATION:PT1H
X-Robots-Tag:noindex
X-PUBLISHED-TTL:PT1H
BEGIN:VTIMEZONE
TZID:America/New_York
BEGIN:DAYLIGHT
TZOFFSETFROM:-0500
TZOFFSETTO:-0400
TZNAME:EDT
DTSTART:20240310T070000
END:DAYLIGHT
BEGIN:STANDARD
TZOFFSETFROM:-0400
TZOFFSETTO:-0500
TZNAME:EST
DTSTART:20241103T060000
END:STANDARD
END:VTIMEZONE
BEGIN:VTIMEZONE
TZID:America/Los_Angeles
BEGIN:DAYLIGHT
TZOFFSETFROM:-0800
TZOFFSETTO:-0700
TZNAME:PDT
DTSTART:20240310T100000
END:DAYLIGHT
BEGIN:STANDARD
TZOFFSETFROM:-0700
TZOFFSETTO:-0800
TZNAME:PST
DTSTART:20241103T090000
END:STANDARD
END:VTIMEZONE
BEGIN:VEVENT
DTSTART;TZID=America/New_York:20240509T100000
DTEND;TZID=America/New_York:20240512T233000
DTSTAMP:20260423T142403
CREATED:20230822T223458Z
LAST-MODIFIED:20240508T012330Z
UID:10962-1715248800-1715556600@bearslooking.com
SUMMARY:Eastern Xposure: Georgia Bear Weekend #1
DESCRIPTION:The yearly bear weekend returns to Augusta\, Georgia to kick off summer!
URL:https://bearslooking.com/event/eastern-xposure-bear-weekend-may-2024/
LOCATION:Metropolis Complex\, 1250 Gordon Highway\, Augusta\, GA\, 30901\, United States
ATTACH;FMTTYPE=image/jpeg:https://bearslooking.com/wp-content/uploads/2023/08/d592abf8bc91140239080ccdf38017e2.jpg
END:VEVENT
BEGIN:VEVENT
DTSTART;TZID=America/Los_Angeles:20240510T200000
DTEND;TZID=America/Los_Angeles:20240510T230000
DTSTAMP:20260423T142403
CREATED:20240508T205321Z
LAST-MODIFIED:20240508T205326Z
UID:14532-1715371200-1715382000@bearslooking.com
SUMMARY:Friday Night ALL AGES 8pm - 11pm Admission only
DESCRIPTION:Admission ticket only. Skate rentals must be purchased at the window ($8.00) if you don’t bring your own skates.
URL:https://bearslooking.com/event/friday-night-all-ages-8pm-11pm-admission-only-15/
LOCATION:Moonlight Rollerway\, Inc.\, 5110 San Fernando Road\, Glendale\, CA\, 91204\, United States
CATEGORIES:Party
ATTACH;FMTTYPE=image/jpeg:https://bearslooking.com/wp-content/uploads/2024/05/334596afd0ad2b0b360da2523e9f9e5f.jpg
END:VEVENT
END:VCALENDAR