BEGIN:VCALENDAR
VERSION:2.0
PRODID:-// - ECPv6.12.0.1//NONSGML v1.0//EN
CALSCALE:GREGORIAN
METHOD:PUBLISH
X-ORIGINAL-URL:https://bearslooking.com
X-WR-CALDESC:Events for 
REFRESH-INTERVAL;VALUE=DURATION:PT1H
X-Robots-Tag:noindex
X-PUBLISHED-TTL:PT1H
BEGIN:VTIMEZONE
TZID:America/Los_Angeles
BEGIN:DAYLIGHT
TZOFFSETFROM:-0800
TZOFFSETTO:-0700
TZNAME:PDT
DTSTART:20240310T100000
END:DAYLIGHT
BEGIN:STANDARD
TZOFFSETFROM:-0700
TZOFFSETTO:-0800
TZNAME:PST
DTSTART:20241103T090000
END:STANDARD
END:VTIMEZONE
BEGIN:VTIMEZONE
TZID:America/New_York
BEGIN:DAYLIGHT
TZOFFSETFROM:-0500
TZOFFSETTO:-0400
TZNAME:EDT
DTSTART:20240310T070000
END:DAYLIGHT
BEGIN:STANDARD
TZOFFSETFROM:-0400
TZOFFSETTO:-0500
TZNAME:EST
DTSTART:20241103T060000
END:STANDARD
END:VTIMEZONE
BEGIN:VEVENT
DTSTART;VALUE=DATE:20240418
DTEND;VALUE=DATE:20240422
DTSTAMP:20260423T142256
CREATED:20240311T013926Z
LAST-MODIFIED:20240311T013942Z
UID:13383-1713398400-1713743999@bearslooking.com
SUMMARY:"SPRING TIME BEARS. HIBERNATIONS OVER" Men's Cabin Retreat
DESCRIPTION:Hey Guys\,\nImagine three long days of relaxation this Spring in a large cabin in the Great Smokey Mountains with a group of 30-40 like minded guys. For those of you who attended any of our previous Cabin Get-A-Ways\, you will be happy to know that we will be in the same cabin as our last three previous times which is much larger and has more private rooms available than our previous cabins.\nFor instance on the clothing optional floor you will find four king size private rooms all with private baths\, a bunk room with queen size beds and a heated pool area with a hot tub closeby. Up on the 3rd floor you will find seven king size rooms all with private baths and two bunk rooms with queen size beds. All bunk rooms have their own shared bath.\nOur cabin is just a short drive from Dollywood\, Ripley’s Aquarium of the Smokies\, Anakeesta and the SkyBridge.\n*NOTE: The address provided in the details is to the cabins usa office. The actual address of the cabin will be sent to all attendees a few days prior to our event.\nNow\, just like all previous times\, this will be a private event for MEN ONLY!!!\nWhat’s included in our prices?\n3-night stay (Thursday\, Friday & Saturday nights). Checking in on Thursday April 18\, 2024 at 5PM and checking out on Sunday April 21 at 10AM.\nSupper served Thursday night.\nBreakfast\, Lunch & Supper served on Friday & Saturday\nFriday Night Meet & Greet Pool Party and Themed Party Saturday Night: Games\, contests & prizes\nSnacks & non-alcoholic drinks provided.\n***FIRST COME FIRST SERVE BASIS***\nDo understand that a 3-night stay was required when making our reservations for the cabin\, so we are not able to offer discounts if you cannot stay all three nights.\nIf paying a deposit\, please make sure to pay your balance by Friday March 30\, 2024
URL:https://bearslooking.com/event/spring-time-bears-hibernations-over-mens-cabin-retreat/
LOCATION:CA
CATEGORIES:Bear
ATTACH;FMTTYPE=image/jpeg:https://bearslooking.com/wp-content/uploads/2024/02/Mattback.jpg
END:VEVENT
BEGIN:VEVENT
DTSTART;TZID=America/New_York:20240420T210000
DTEND;TZID=America/New_York:20240421T030000
DTSTAMP:20260423T142256
CREATED:20231205T054544Z
LAST-MODIFIED:20240416T060216Z
UID:11909-1713646800-1713668400@bearslooking.com
SUMMARY:Bearracuda Atlanta Bear Pride 2024
DESCRIPTION:Atlanta Bear Pride 2024!\nhttp://www.AtlantaBearPride.com\nJoin 100s of guys from all over for the Atlanta Bear Pride Saturday main event!\n\n\nAtlanta Bear Pride 2024! \nhttp://www.AtlantaBearPride.com \nJoin 1000+ guys from all over for the Atlanta Bear Pride Saturday main event! Party with us on the dance floor and on the patio on Saturday\, April 20th\, 2024! Tony Moran brings the beats until LATE and our hot dancers shake it for you all night! \nWe’re located inside of The Heretic – 2069 Cheshire Bridge Road.  \n 9pm-3am \nJoin the Bearracuda Atlanta mailing list here: \nhttp://visitor.r20.constantcontact.com/d.jsp?llr=5rlxmucab&p=oi&m=1102343548478 \n \nWe’ll see y’all soon!
URL:https://bearslooking.com/event/bearracuda-atlanta-bear-pride-2024/
LOCATION:Heretic\, 2069 Cheshire Bridge Rd NE\, Atlanta\, GA\, 30324\, United States
ATTACH;FMTTYPE=image/jpeg:https://bearslooking.com/wp-content/uploads/2023/10/a5765e038b7df483fdd5b13bc424650d.jpg
END:VEVENT
BEGIN:VEVENT
DTSTART;TZID=America/Los_Angeles:20240420T220000
DTEND;TZID=America/Los_Angeles:20240421T040000
DTSTAMP:20260423T142256
CREATED:20240311T013827Z
LAST-MODIFIED:20240417T024630Z
UID:13372-1713650400-1713672000@bearslooking.com
SUMMARY:PRIME - HEATSTROKE 2024
DESCRIPTION:PRIME – HEATSTROKE\n\n\nTrophyDad presents:\n \nPRIME – HEATSTROKE\nSATURDAY\, APRIL 20\, 2024\nCLUB SIX – BOTH FLOORS\nSAN FRANCISCO\n\nDark\, seedy\, sexy – PRIME: Heatstroke is the one production each year that focuses specifically on the raw sexual atmosphere of the 1980s. From the dirty bookstore to the raunchy truck stop\, and the dancefloor that reeked of sweat and poppers\, TrophyDad will take you back to the cruisy era when your Dads used to prowl for action. No apps\, just eye contact and signals. Inspired by of the popular vintage erotic films by legendary adult film director Joe Gage\, resident DJ Neon the Glowgobear returns to the upstairs dancefloor and Berlin’s DJ Serge returns to the basement of CLUB SIX. So\, pick your appropriately-colored handkerchief\, throw it in your back pocket\, and join us for PRIME: Heatstroke. \n \n=== FEATURING ===\n* Upstairs DJ: Neon the Glowgobear (Atlanta) \n* Downstairs DJ: Serge (Berlin) \n* Enhanced Audio Upstairs Powered by a Funktion-One Sound System \n* Hot Go-Go DADS in their PRIME \n* Clothes Check \n \n=== MUSIC ===\n \nDJ NEON THE GLOWGOBEAR\nDJ Neon the Glowgobear hails from the “dirty South” of Atlanta and is known for an upbeat musical style based on house music and classic tracks with a twist. For this special party\, Neon will be sharing a different\, darker side as he spins deeper house and electro beats that are fitting for the bad dads during this darker\, sexier production. \n \nDJ SERGE\nDirect from Berlin\, DJ Serge is known for his mix of dark\, sexy and mysterious beats with deep baselines. Perfect for the libido of the dads downstairs\, DJ Serge P brings an erotic vibe from the clubs of Germany\, The Netherlands and Belgium. \n \n=== WHERE ===\nClub Six (BOTH FLOORS!) \n60 Sixth Street \nSan Francisco \n \n=== TROPHYDAD GIVES BACK TO THE COMMUNITY ===\n* TrophyDad supports the Grass Roots Gay Rights Foundation serving as a Platinum Sponsor of its annual event REAL BAD. \n* All proceeds of the clothes check will benefit AIDS/LifeCycle.
URL:https://bearslooking.com/event/prime-heatstroke-2024/
LOCATION:Club Six – Both Floors!\, 60 6th Street\, San Francisco\, CA\, 94103\, United States
ATTACH;FMTTYPE=image/jpeg:https://bearslooking.com/wp-content/uploads/2024/02/32c6f1ced82e58e7cb136a4f58d3a9f2.jpg
END:VEVENT
BEGIN:VEVENT
DTSTART;TZID=America/Los_Angeles:20240421T200000
DTEND;TZID=America/Los_Angeles:20240421T230000
DTSTAMP:20260423T142256
CREATED:20240417T204722Z
LAST-MODIFIED:20240417T204722Z
UID:14215-1713729600-1713740400@bearslooking.com
SUMMARY:Sunday Night ALL AGES 8pm - 11pm Admission only
DESCRIPTION:Admission ticket only. Skate rentals must be purchased at the window ($8.00) if you don’t bring your own skates.
URL:https://bearslooking.com/event/sunday-night-all-ages-8pm-11pm-admission-only-15/
LOCATION:Moonlight Rollerway\, Inc.\, 5110 San Fernando Road\, Glendale\, CA\, 91204\, United States
CATEGORIES:Party
ATTACH;FMTTYPE=image/jpeg:https://bearslooking.com/wp-content/uploads/2024/04/d451008122810520bdcf044ae4b6f7f7.jpg
END:VEVENT
END:VCALENDAR