BEGIN:VCALENDAR
VERSION:2.0
PRODID:-// - ECPv6.12.0.1//NONSGML v1.0//EN
CALSCALE:GREGORIAN
METHOD:PUBLISH
X-ORIGINAL-URL:https://bearslooking.com
X-WR-CALDESC:Events for 
REFRESH-INTERVAL;VALUE=DURATION:PT1H
X-Robots-Tag:noindex
X-PUBLISHED-TTL:PT1H
BEGIN:VTIMEZONE
TZID:America/Los_Angeles
BEGIN:DAYLIGHT
TZOFFSETFROM:-0800
TZOFFSETTO:-0700
TZNAME:PDT
DTSTART:20240310T100000
END:DAYLIGHT
BEGIN:STANDARD
TZOFFSETFROM:-0700
TZOFFSETTO:-0800
TZNAME:PST
DTSTART:20241103T090000
END:STANDARD
END:VTIMEZONE
BEGIN:VTIMEZONE
TZID:America/Chicago
BEGIN:DAYLIGHT
TZOFFSETFROM:-0600
TZOFFSETTO:-0500
TZNAME:CDT
DTSTART:20240310T080000
END:DAYLIGHT
BEGIN:STANDARD
TZOFFSETFROM:-0500
TZOFFSETTO:-0600
TZNAME:CST
DTSTART:20241103T070000
END:STANDARD
END:VTIMEZONE
BEGIN:VEVENT
DTSTART;TZID=America/Los_Angeles:20240404T100000
DTEND;TZID=America/Los_Angeles:20240408T110000
DTSTAMP:20260423T190359
CREATED:20230822T223453Z
LAST-MODIFIED:20240403T010151Z
UID:10960-1712224800-1712574000@bearslooking.com
SUMMARY:Western Xposure: Spring 2024
DESCRIPTION:The Bears take over the CCBC Resort
URL:https://bearslooking.com/event/western-xposure-spring-2024/
LOCATION:CCBC Resort Hotel\, 68-300 Gay Resort Drive\, Cathedral City\, CA\, 92234\, United States
ATTACH;FMTTYPE=image/jpeg:https://bearslooking.com/wp-content/uploads/2023/08/cd677d4afafe0b991bee4df90064b860.jpg
END:VEVENT
BEGIN:VEVENT
DTSTART;TZID=America/Los_Angeles:20240405T200000
DTEND;TZID=America/Los_Angeles:20240406T020000
DTSTAMP:20260423T190359
CREATED:20231129T001726Z
LAST-MODIFIED:20240313T010240Z
UID:12284-1712347200-1712368800@bearslooking.com
SUMMARY:Cocksocks & Jocks 2024
DESCRIPTION:BEAR NIGHT @ THE BARRACKS BAR
URL:https://bearslooking.com/event/cocksocks-jocks-2024-2/
LOCATION:The Barracks Bar\, 67625 East Palm Canyon Drive\, Cathedral City\, CA\, 92234\, United States
ATTACH;FMTTYPE=image/jpeg:https://bearslooking.com/wp-content/uploads/2023/11/280b3472c0961c39b2c025d5e9b98f21.jpg
END:VEVENT
BEGIN:VEVENT
DTSTART;TZID=America/Los_Angeles:20240406T200000
DTEND;TZID=America/Los_Angeles:20240406T230000
DTSTAMP:20260423T190359
CREATED:20240313T203238Z
LAST-MODIFIED:20240403T204735Z
UID:13677-1712433600-1712444400@bearslooking.com
SUMMARY:90's Boy Band Skate Night ALL AGES 8pm - 11pm Admission only
DESCRIPTION:Admission ticket only. Skate rentals must be purchased at the window ($8.00) if you don’t bring your own skates.\n\n\n90’s Boy Band Skate Night ALL AGES \nJoin us for a nostalgic evening of roller skating and grooving to the iconic tunes of the 90’s boy bands. Dust off your skates and get ready to relive the golden era of pop music! This event is open to all ages\, so bring your friends and family along for a fun-filled night. \nDate: Sat Apr 06 2024 \nTime: 8:00 PM – 11:00 PM \nLocation: Moonlight Rollerway\, Inc. \nGet ready to skate to the beats of Backstreet Boys\, *NSYNC\, Boyz II Men\, and more. Whether you’re an avid skater or just looking for a unique night out\, this event promises to transport you back in time to the era of boy band mania. So grab your favorite 90’s outfit\, lace up your skates\, and join us for an unforgettable evening of music\, laughter\, and good vibes. See you there!
URL:https://bearslooking.com/event/90s-boy-band-skate-night-all-ages-8pm-11pm-admission-only/
LOCATION:Moonlight Rollerway\, Inc.\, 5110 San Fernando Road\, Glendale\, CA\, 91204\, United States
CATEGORIES:Party
ATTACH;FMTTYPE=image/jpeg:https://bearslooking.com/wp-content/uploads/2024/03/619bce7cc19763daa8c4417ab5c224a0.jpg
END:VEVENT
BEGIN:VEVENT
DTSTART;TZID=America/Chicago:20240406T220000
DTEND;TZID=America/Chicago:20240407T050000
DTSTAMP:20260423T190359
CREATED:20240311T013917Z
LAST-MODIFIED:20240402T060347Z
UID:13093-1712440800-1712466000@bearslooking.com
SUMMARY:Bearracuda Chicago: RELAUNCH Party!
DESCRIPTION:Bearracuda RETURNS to Jackhammer after almost 5 years away!  Two floors\, basement cruising\, Hot Go-Go’s and 700+ guys await\n\n\nBearracuda RETURNS to Jackhammer for our RELAUNCH PARTY! Two floors\, basement cruising\, Hot Go-Go’s and 700+ guys await you on Saturday\, April 6th. Clothes check available! 10pm-5am MAIN ROOM:DJ Mateo Segade (Bearracuda LA)DJ Freddy King (Bearracuda Seattle) \nGet into trouble in THE HOLE
URL:https://bearslooking.com/event/bearracuda-chicago-relaunch-party/
LOCATION:The Jackhammer Complex\, 6406 N Clark St\, Chicago\, IL\, 60626\, United States
ATTACH;FMTTYPE=image/jpeg:https://bearslooking.com/wp-content/uploads/2024/01/bc01a42497c52632e0cc9da776ae1598.jpg
END:VEVENT
END:VCALENDAR