BEGIN:VCALENDAR
VERSION:2.0
PRODID:-// - ECPv6.12.0.1//NONSGML v1.0//EN
CALSCALE:GREGORIAN
METHOD:PUBLISH
X-ORIGINAL-URL:https://bearslooking.com
X-WR-CALDESC:Events for 
REFRESH-INTERVAL;VALUE=DURATION:PT1H
X-Robots-Tag:noindex
X-PUBLISHED-TTL:PT1H
BEGIN:VTIMEZONE
TZID:America/Los_Angeles
BEGIN:DAYLIGHT
TZOFFSETFROM:-0800
TZOFFSETTO:-0700
TZNAME:PDT
DTSTART:20240310T100000
END:DAYLIGHT
BEGIN:STANDARD
TZOFFSETFROM:-0700
TZOFFSETTO:-0800
TZNAME:PST
DTSTART:20241103T090000
END:STANDARD
END:VTIMEZONE
BEGIN:VTIMEZONE
TZID:America/Chicago
BEGIN:DAYLIGHT
TZOFFSETFROM:-0600
TZOFFSETTO:-0500
TZNAME:CDT
DTSTART:20240310T080000
END:DAYLIGHT
BEGIN:STANDARD
TZOFFSETFROM:-0500
TZOFFSETTO:-0600
TZNAME:CST
DTSTART:20241103T070000
END:STANDARD
END:VTIMEZONE
BEGIN:VEVENT
DTSTART;TZID=America/Los_Angeles:20240322T200000
DTEND;TZID=America/Los_Angeles:20240322T230000
DTSTAMP:20260423T215035
CREATED:20240320T204715Z
LAST-MODIFIED:20240320T204715Z
UID:13766-1711137600-1711148400@bearslooking.com
SUMMARY:Friday Night ALL AGES 8pm - 11pm Admission only
DESCRIPTION:Admission ticket only. Skate rentals must be purchased at the window ($8.00) if you don’t bring your own skates.
URL:https://bearslooking.com/event/friday-night-all-ages-8pm-11pm-admission-only-9/
LOCATION:Moonlight Rollerway\, Inc.\, 5110 San Fernando Road\, Glendale\, CA\, 91204\, United States
CATEGORIES:Party
ATTACH;FMTTYPE=image/jpeg:https://bearslooking.com/wp-content/uploads/2024/03/bca70b21b02f2c98930f28a5115f1326.jpg
END:VEVENT
BEGIN:VEVENT
DTSTART;TZID=America/Chicago:20240322T200000
DTEND;TZID=America/Chicago:20240323T040000
DTSTAMP:20260423T215035
CREATED:20240103T024926Z
LAST-MODIFIED:20240313T050226Z
UID:12763-1711137600-1711166400@bearslooking.com
SUMMARY:BearDance: Jungle Roar
DESCRIPTION:Get ready to unleash your wild side!\n\n\nWelcome to BearDance: Jungle Roar! \nJoin us for an unforgettable night of wild fun at Station 4 on Fri Mar 22\, 2024. Get ready to unleash your inner beast and dance the night away in our jungle-themed extravaganza. \nImmerse yourself in a vibrant atmosphere filled with pulsating beats\, mesmerizing lights\, and captivating performances. Our talented DJs will spin the hottest tracks\, keeping you grooving until the early hours of the morning. \nHeadlining this year will be Grammy Award Winning Producer/Remixer: \nHEX HECTOR\nwith additional DJ and special guest to be announced soon! \nPrepare to be amazed by our stunning decorations\, transforming the venue into a lush jungle paradise. From exotic plants to larger-than-life animal sculptures\, every corner will transport you to an untamed world. \nGrab your friends and let loose on the dance floor\, surrounded by a community of like-minded party animals. Whether you’re a seasoned dancer or just love to have a good time\, BearDance: Jungle Roar is the place to be. \nDon’t forget to dress up in your wildest jungle-inspired attire! From fierce leopard prints to tropical colors\, let your imagination run wild. \nIndulge in delicious drinks from multiple fully stocked bar and recharge at our chill-out areas when you need a break from the dance floor. The friendly staff will ensure you have everything you need to keep the party going. \nSo mark your calendars and get ready for a night of untamed revelry at BearDance: Jungle Roar. It’s time to release your inner beast and make memories that will last a lifetime! \nBearDance is a 501c3 non-profit organization. BearDance is open for everyone (18+) to come together and have a blast. Free your inhibitions and dance! We encourage everyone to get into the theme!
URL:https://bearslooking.com/event/beardance-jungle-roar/
LOCATION:Station 4\, 3911 Cedar Springs Road\, Dallas\, TX\, 75219\, United States
ATTACH;FMTTYPE=image/jpeg:https://bearslooking.com/wp-content/uploads/2024/02/ec1d125df7bddaf5d5279f01c0ae2aca.jpg
END:VEVENT
BEGIN:VEVENT
DTSTART;TZID=America/Chicago:20240322T200000
DTEND;TZID=America/Chicago:20240323T040000
DTSTAMP:20260423T215035
CREATED:20240228T033441Z
LAST-MODIFIED:20240313T050226Z
UID:13461-1711137600-1711166400@bearslooking.com
SUMMARY:BearDance: Jungle Roar - Shea Couleé Premier Access
DESCRIPTION:Wanna get up and personal with Shea Couleé?\n\n\nThis year\, BearDance brings you ✨Premier Access✨ to a winner\, baby.RuPaul’s Drag Race Allstars Season 5 winner\, Shea Couleé will be performing for the first time in Dallas\, in the legendary Rose🌹Room at S4 for BearDance: Jungle Roar\, during Texas Bear Round Up 28. \nBearDance ✨Premier Access✨ passes give you the best seats in the house. This year\, choose your seat and we’ll put your name on it. Your seat is YOUR SEAT\, throughout the evening. ✨Premier Access✨ also entitles the pass holder to access the fast pass line for the meet and greet with Shea Couleé. This will be a night to remember\, with stunning performances unlike anything we have featured before. \n✨Premier Access✨ tickets start at $100. This year we are also introducing BearDance ✨Premier Access✨ F1RST ROW\, priced at $200. Tickets are limited to available seating in The Rose 🌹 Room at S4 on the night BearDance: Jungle Roar\, March 22\, 2024. \n​*** Please be advised that ✨PremierAccess✨ pass prices do not include the price of BearDance admission tickets\, BearDance Tickets must be purchased separately to gain admission. \n​*** BearDance ✨PremierAccess✨ is not the same as VIP. VIP grants exclusive access to fast entry and access to VIP bars and spaces. \nWe are excited to welcome you to BearDance: Jungle Roar with ✨PremierAccess✨!
URL:https://bearslooking.com/event/beardance-jungle-roar-shea-coulee-premier-access/
LOCATION:Rose Room\, 3911 Cedar Springs Road\, Dallas\, TX\, 75219\, United States
ATTACH;FMTTYPE=image/jpeg:https://bearslooking.com/wp-content/uploads/2024/02/4b31b05fe5c99d8b307ba879265e0ba5.jpg
END:VEVENT
END:VCALENDAR