BEGIN:VCALENDAR
VERSION:2.0
PRODID:-// - ECPv6.12.0.1//NONSGML v1.0//EN
CALSCALE:GREGORIAN
METHOD:PUBLISH
X-ORIGINAL-URL:https://bearslooking.com
X-WR-CALDESC:Events for 
REFRESH-INTERVAL;VALUE=DURATION:PT1H
X-Robots-Tag:noindex
X-PUBLISHED-TTL:PT1H
BEGIN:VTIMEZONE
TZID:America/Los_Angeles
BEGIN:DAYLIGHT
TZOFFSETFROM:-0800
TZOFFSETTO:-0700
TZNAME:PDT
DTSTART:20240310T100000
END:DAYLIGHT
BEGIN:STANDARD
TZOFFSETFROM:-0700
TZOFFSETTO:-0800
TZNAME:PST
DTSTART:20241103T090000
END:STANDARD
END:VTIMEZONE
BEGIN:VEVENT
DTSTART;TZID=America/Los_Angeles:20240209T200000
DTEND;TZID=America/Los_Angeles:20240209T230000
DTSTAMP:20260423T231747
CREATED:20240207T200238Z
LAST-MODIFIED:20240207T200238Z
UID:13217-1707508800-1707519600@bearslooking.com
SUMMARY:Friday Night ALL AGES 8pm - 11pm Admission only
DESCRIPTION:Admission ticket only. Skate rentals must be purchased at the window ($8.00) if you don’t bring your own skates.
URL:https://bearslooking.com/event/friday-night-all-ages-8pm-11pm-admission-only-4/
LOCATION:Moonlight Rollerway\, Inc.\, 5110 San Fernando Road\, Glendale\, CA\, 91204\, United States
CATEGORIES:Party
ATTACH;FMTTYPE=image/jpeg:https://bearslooking.com/wp-content/uploads/2024/02/9698fe8b654716e5133df165899b235d.jpg
END:VEVENT
BEGIN:VEVENT
DTSTART;TZID=America/Los_Angeles:20240209T210000
DTEND;TZID=America/Los_Angeles:20240210T030000
DTSTAMP:20260423T231747
CREATED:20240109T011547Z
LAST-MODIFIED:20240206T033447Z
UID:12667-1707512400-1707534000@bearslooking.com
SUMMARY:Bearracuda Seattle Winter Beef Ball 2024!
DESCRIPTION:Bearracuda Seattle\nWINTER BEEF BALL\n\n\nBearracuda Seattle \nWINTER BEEF BALL \n❄️Friday\, Feb. 9th❄️ \nDJs Matt Consola & Freddy King of Pants \nDoors at 9pm\, party till 3am! \nTHE CUFF – 1533 13th Ave \n21+\, HOT Horny Go-Go’s \n \nBearracuda is back for our first Seattle party of 2024!  It’s our annual Winter Beef Ball and we are bringing the BEEF. Dance all night with Matt Consola & Freddy KOP.  Doors at 9pm\, hot Go-Gos\, heavy cruising and 100s of guys through the door all night.
URL:https://bearslooking.com/event/bearracuda-seattle-winter-beef-ball-2024/
LOCATION:The Cuff Complex\, 1533 13th Ave\, Seattle\, WA\, 98122\, United States
ATTACH;FMTTYPE=image/jpeg:https://bearslooking.com/wp-content/uploads/2023/12/39887a186e333af4c02803b4c5d4bd37.jpg
END:VEVENT
END:VCALENDAR